Back to Multiple platform build/check report for BioC 3.20:   simplified   long
ABCDEFGHIJKLMNOPQRSTUV[W]XYZ

This page was generated on 2025-02-06 12:12 -0500 (Thu, 06 Feb 2025).

HostnameOSArch (*)R versionInstalled pkgs
nebbiolo2Linux (Ubuntu 24.04.1 LTS)x86_644.4.2 (2024-10-31) -- "Pile of Leaves" 4753
palomino8Windows Server 2022 Datacenterx644.4.2 (2024-10-31 ucrt) -- "Pile of Leaves" 4501
merida1macOS 12.7.5 Montereyx86_644.4.2 (2024-10-31) -- "Pile of Leaves" 4524
kjohnson1macOS 13.6.6 Venturaarm644.4.2 (2024-10-31) -- "Pile of Leaves" 4476
taishanLinux (openEuler 24.03 LTS)aarch644.4.2 (2024-10-31) -- "Pile of Leaves" 4407
Click on any hostname to see more info about the system (e.g. compilers)      (*) as reported by 'uname -p', except on Windows and Mac OS X

Package 2269/2289HostnameOS / ArchINSTALLBUILDCHECKBUILD BIN
wppi 1.14.0  (landing page)
Ana Galhoz
Snapshot Date: 2025-02-03 13:00 -0500 (Mon, 03 Feb 2025)
git_url: https://git.bioconductor.org/packages/wppi
git_branch: RELEASE_3_20
git_last_commit: 240f65a
git_last_commit_date: 2024-10-29 10:58:10 -0500 (Tue, 29 Oct 2024)
nebbiolo2Linux (Ubuntu 24.04.1 LTS) / x86_64  OK    OK    OK  UNNEEDED, same version is already published
palomino8Windows Server 2022 Datacenter / x64  OK    OK    OK    OK  UNNEEDED, same version is already published
merida1macOS 12.7.5 Monterey / x86_64  OK    OK    OK    NA  
kjohnson1macOS 13.6.6 Ventura / arm64  OK    OK    OK    OK  UNNEEDED, same version is already published
taishanLinux (openEuler 24.03 LTS) / aarch64  OK    OK    OK  


CHECK results for wppi on taishan

To the developers/maintainers of the wppi package:
- Allow up to 24 hours (and sometimes 48 hours) for your latest push to git@git.bioconductor.org:packages/wppi.git to reflect on this report. See Troubleshooting Build Report for more information.
- Use the following Renviron settings to reproduce errors and warnings.
- If 'R CMD check' started to fail recently on the Linux builder(s) over a missing dependency, add the missing dependency to 'Suggests:' in your DESCRIPTION file. See Renviron.bioc for more information.
- See Martin Grigorov's blog post for how to debug Linux ARM64 related issues on a x86_64 host.

raw results


Summary

Package: wppi
Version: 1.14.0
Command: /home/biocbuild/R/R/bin/R CMD check --install=check:wppi.install-out.txt --library=/home/biocbuild/R/R/site-library --no-vignettes --timings wppi_1.14.0.tar.gz
StartedAt: 2025-02-04 12:09:12 -0000 (Tue, 04 Feb 2025)
EndedAt: 2025-02-04 12:14:29 -0000 (Tue, 04 Feb 2025)
EllapsedTime: 316.3 seconds
RetCode: 0
Status:   OK  
CheckDir: wppi.Rcheck
Warnings: 0

Command output

##############################################################################
##############################################################################
###
### Running command:
###
###   /home/biocbuild/R/R/bin/R CMD check --install=check:wppi.install-out.txt --library=/home/biocbuild/R/R/site-library --no-vignettes --timings wppi_1.14.0.tar.gz
###
##############################################################################
##############################################################################


* using log directory ‘/home/biocbuild/bbs-3.20-bioc/meat/wppi.Rcheck’
* using R version 4.4.2 (2024-10-31)
* using platform: aarch64-unknown-linux-gnu
* R was compiled by
    aarch64-unknown-linux-gnu-gcc (GCC) 14.2.0
    GNU Fortran (GCC) 12.3.1 (openEuler 12.3.1-36.oe2403)
* running under: openEuler 24.03 (LTS)
* using session charset: UTF-8
* using option ‘--no-vignettes’
* checking for file ‘wppi/DESCRIPTION’ ... OK
* checking extension type ... Package
* this is package ‘wppi’ version ‘1.14.0’
* package encoding: UTF-8
* checking package namespace information ... OK
* checking package dependencies ... OK
* checking if this is a source package ... OK
* checking if there is a namespace ... OK
* checking for hidden files and directories ... OK
* checking for portable file names ... OK
* checking for sufficient/correct file permissions ... OK
* checking whether package ‘wppi’ can be installed ... OK
* checking installed package size ... OK
* checking package directory ... OK
* checking ‘build’ directory ... OK
* checking DESCRIPTION meta-information ... NOTE
License stub is invalid DCF.
* checking top-level files ... OK
* checking for left-over files ... OK
* checking index information ... OK
* checking package subdirectories ... OK
* checking code files for non-ASCII characters ... OK
* checking R files for syntax errors ... OK
* checking whether the package can be loaded ... OK
* checking whether the package can be loaded with stated dependencies ... OK
* checking whether the package can be unloaded cleanly ... OK
* checking whether the namespace can be loaded with stated dependencies ... OK
* checking whether the namespace can be unloaded cleanly ... OK
* checking loading without being on the library search path ... OK
* checking whether startup messages can be suppressed ... NOTE
[2025-02-04 12:09:55] [TRACE]   [OmnipathR] Reading JSON from `/home/biocbuild/.cache/OmnipathR/cache.json` (encoding: UTF-8).
[2025-02-04 12:09:55] [TRACE]   [OmnipathR] JSON validation successful: TRUE
[2025-02-04 12:09:55] [INFO]    [OmnipathR] Initialized cache: `/home/biocbuild/.cache/OmnipathR`.
[2025-02-04 12:09:55] [TRACE]   [OmnipathR] Running on a build server, wiping cache.
[2025-02-04 12:09:55] [TRACE]   [OmnipathR] Cache is at `/home/biocbuild/.cache/OmnipathR`.
[2025-02-04 12:09:55] [TRACE]   [OmnipathR] Contains 1 files.
[2025-02-04 12:09:55] [TRACE]   [OmnipathR] Cache is locked: FALSE.
[2025-02-04 12:09:55] [TRACE]   [OmnipathR] Reading JSON from `/home/biocbuild/.cache/OmnipathR/cache.json` (encoding: UTF-8).
[2025-02-04 12:09:55] [TRACE]   [OmnipathR] JSON validation successful: TRUE
[2025-02-04 12:09:55] [SUCCESS] [OmnipathR] Removing all cache contents from `/home/biocbuild/.cache/OmnipathR`.
[2025-02-04 12:09:55] [TRACE]   [OmnipathR] Pandoc version: `2.12`.
[2025-02-04 12:09:55] [TRACE]   [OmnipathR] Reading JSON from `/home/biocbuild/R/R-4.4.2/site-library/OmnipathR/db/db_def.json` (encoding: UTF-8).
[2025-02-04 12:09:55] [TRACE]   [OmnipathR] JSON validation successful: TRUE
[2025-02-04 12:09:55] [TRACE]   [OmnipathR] Reading JSON from `/home/biocbuild/R/R-4.4.2/site-library/OmnipathR/internal/magic_bytes.json` (encoding: UTF-8).
[2025-02-04 12:09:55] [TRACE]   [OmnipathR] JSON validation successful: TRUE
[2025-02-04 12:09:55] [TRACE]   [OmnipathR] Reading JSON from `/home/biocbuild/R/R-4.4.2/site-library/OmnipathR/internal/urls.json` (encoding: UTF-8).
[2025-02-04 12:09:55] [TRACE]   [OmnipathR] JSON validation successful: TRUE
[2025-02-04 12:09:55] [TRACE]   [OmnipathR] Reading JSON from `/home/biocbuild/R/R-4.4.2/site-library/OmnipathR/internal/id_types.json` (encoding: UTF-8).
[2025-02-04 12:09:55] [TRACE]   [OmnipathR] JSON validation successful: TRUE
[2025-02-04 12:09:55] [TRACE]   [OmnipathR] Cache locked: FALSE

It looks like this package (or a package it requires) has a startup
message which cannot be suppressed: see ?packageStartupMessage.
* checking dependencies in R code ... OK
* checking S3 generic/method consistency ... OK
* checking replacement functions ... OK
* checking foreign function calls ... OK
* checking R code for possible problems ... NOTE
[2025-02-04 12:10:15] [TRACE]   [OmnipathR] Reading JSON from `/home/biocbuild/.cache/OmnipathR/cache.json` (encoding: UTF-8).
[2025-02-04 12:10:15] [TRACE]   [OmnipathR] JSON validation successful: TRUE
[2025-02-04 12:10:15] [INFO]    [OmnipathR] Initialized cache: `/home/biocbuild/.cache/OmnipathR`.
[2025-02-04 12:10:15] [TRACE]   [OmnipathR] Running on a build server, wiping cache.
[2025-02-04 12:10:15] [TRACE]   [OmnipathR] Cache is at `/home/biocbuild/.cache/OmnipathR`.
[2025-02-04 12:10:15] [TRACE]   [OmnipathR] Contains 1 files.
[2025-02-04 12:10:15] [TRACE]   [OmnipathR] Cache is locked: FALSE.
[2025-02-04 12:10:15] [TRACE]   [OmnipathR] Reading JSON from `/home/biocbuild/.cache/OmnipathR/cache.json` (encoding: UTF-8).
[2025-02-04 12:10:15] [TRACE]   [OmnipathR] JSON validation successful: TRUE
[2025-02-04 12:10:15] [SUCCESS] [OmnipathR] Removing all cache contents from `/home/biocbuild/.cache/OmnipathR`.
[2025-02-04 12:10:15] [TRACE]   [OmnipathR] Pandoc version: `2.12`.
[2025-02-04 12:10:15] [TRACE]   [OmnipathR] Reading JSON from `/home/biocbuild/R/R-4.4.2/site-library/OmnipathR/db/db_def.json` (encoding: UTF-8).
[2025-02-04 12:10:15] [TRACE]   [OmnipathR] JSON validation successful: TRUE
[2025-02-04 12:10:16] [TRACE]   [OmnipathR] Reading JSON from `/home/biocbuild/R/R-4.4.2/site-library/OmnipathR/internal/magic_bytes.json` (encoding: UTF-8).
[2025-02-04 12:10:16] [TRACE]   [OmnipathR] JSON validation successful: TRUE
[2025-02-04 12:10:16] [TRACE]   [OmnipathR] Reading JSON from `/home/biocbuild/R/R-4.4.2/site-library/OmnipathR/internal/urls.json` (encoding: UTF-8).
[2025-02-04 12:10:16] [TRACE]   [OmnipathR] JSON validation successful: TRUE
[2025-02-04 12:10:16] [TRACE]   [OmnipathR] Reading JSON from `/home/biocbuild/R/R-4.4.2/site-library/OmnipathR/internal/id_types.json` (encoding: UTF-8).
[2025-02-04 12:10:16] [TRACE]   [OmnipathR] JSON validation successful: TRUE
[2025-02-04 12:10:16] [TRACE]   [OmnipathR] Cache locked: FALSE
* checking Rd files ... OK
* checking Rd metadata ... OK
* checking Rd cross-references ... OK
* checking for missing documentation entries ... OK
* checking for code/documentation mismatches ... OK
* checking Rd \usage sections ... OK
* checking Rd contents ... OK
* checking for unstated dependencies in examples ... OK
* checking files in ‘vignettes’ ... OK
* checking examples ... OK
Examples with CPU (user + system) or elapsed time > 5s
                                 user system elapsed
wppi                           41.128  0.224  42.500
score_candidate_genes_from_PPI 20.896  0.175  23.617
random_walk                    19.965  0.128  21.547
prioritization_genes           19.688  0.298  20.257
weighted_adj                   14.987  0.115  16.018
count_genes                    11.488  0.488  20.653
common_neighbors                7.993  0.419  13.529
filter_annot_with_network       7.807  0.111   8.201
wppi_data                       7.651  0.015   8.124
graph_from_op                   4.383  0.151   5.204
functional_annot                2.141  0.253  19.155
* checking for unstated dependencies in vignettes ... OK
* checking package vignettes ... OK
* checking running R code from vignettes ... SKIPPED
* checking re-building of vignette outputs ... SKIPPED
* checking PDF version of manual ... OK
* DONE

Status: 3 NOTEs
See
  ‘/home/biocbuild/bbs-3.20-bioc/meat/wppi.Rcheck/00check.log’
for details.


Installation output

wppi.Rcheck/00install.out

##############################################################################
##############################################################################
###
### Running command:
###
###   /home/biocbuild/R/R/bin/R CMD INSTALL wppi
###
##############################################################################
##############################################################################


* installing to library ‘/home/biocbuild/R/R-4.4.2/site-library’
* installing *source* package ‘wppi’ ...
** using staged installation
** R
** byte-compile and prepare package for lazy loading
[2025-02-03 20:59:05] [TRACE]   [OmnipathR] Reading JSON from `/home/biocbuild/.cache/OmnipathR/cache.json` (encoding: UTF-8).
[2025-02-03 20:59:05] [TRACE]   [OmnipathR] JSON validation successful: TRUE
[2025-02-03 20:59:05] [INFO]    [OmnipathR] Initialized cache: `/home/biocbuild/.cache/OmnipathR`.
[2025-02-03 20:59:05] [TRACE]   [OmnipathR] Running on a build server, wiping cache.
[2025-02-03 20:59:05] [TRACE]   [OmnipathR] Cache is at `/home/biocbuild/.cache/OmnipathR`.
[2025-02-03 20:59:05] [TRACE]   [OmnipathR] Contains 1 files.
[2025-02-03 20:59:05] [TRACE]   [OmnipathR] Cache is locked: FALSE.
[2025-02-03 20:59:05] [TRACE]   [OmnipathR] Reading JSON from `/home/biocbuild/.cache/OmnipathR/cache.json` (encoding: UTF-8).
[2025-02-03 20:59:05] [TRACE]   [OmnipathR] JSON validation successful: TRUE
[2025-02-03 20:59:05] [SUCCESS] [OmnipathR] Removing all cache contents from `/home/biocbuild/.cache/OmnipathR`.
[2025-02-03 20:59:05] [TRACE]   [OmnipathR] Pandoc version: `2.12`.
[2025-02-03 20:59:05] [TRACE]   [OmnipathR] Reading JSON from `/home/biocbuild/R/R-4.4.2/site-library/OmnipathR/db/db_def.json` (encoding: UTF-8).
[2025-02-03 20:59:05] [TRACE]   [OmnipathR] JSON validation successful: TRUE
[2025-02-03 20:59:05] [TRACE]   [OmnipathR] Reading JSON from `/home/biocbuild/R/R-4.4.2/site-library/OmnipathR/internal/magic_bytes.json` (encoding: UTF-8).
[2025-02-03 20:59:05] [TRACE]   [OmnipathR] JSON validation successful: TRUE
[2025-02-03 20:59:05] [TRACE]   [OmnipathR] Reading JSON from `/home/biocbuild/R/R-4.4.2/site-library/OmnipathR/internal/urls.json` (encoding: UTF-8).
[2025-02-03 20:59:05] [TRACE]   [OmnipathR] JSON validation successful: TRUE
[2025-02-03 20:59:05] [TRACE]   [OmnipathR] Reading JSON from `/home/biocbuild/R/R-4.4.2/site-library/OmnipathR/internal/id_types.json` (encoding: UTF-8).
[2025-02-03 20:59:05] [TRACE]   [OmnipathR] JSON validation successful: TRUE
[2025-02-03 20:59:05] [TRACE]   [OmnipathR] Cache locked: FALSE
Note: wrong number of arguments to '/' 
** help
*** installing help indices
** building package indices
** installing vignettes
** testing if installed package can be loaded from temporary location
[2025-02-03 20:59:11] [TRACE]   [OmnipathR] Reading JSON from `/home/biocbuild/.cache/OmnipathR/cache.json` (encoding: UTF-8).
[2025-02-03 20:59:11] [TRACE]   [OmnipathR] JSON validation successful: TRUE
[2025-02-03 20:59:11] [INFO]    [OmnipathR] Initialized cache: `/home/biocbuild/.cache/OmnipathR`.
[2025-02-03 20:59:11] [TRACE]   [OmnipathR] Running on a build server, wiping cache.
[2025-02-03 20:59:11] [TRACE]   [OmnipathR] Cache is at `/home/biocbuild/.cache/OmnipathR`.
[2025-02-03 20:59:11] [TRACE]   [OmnipathR] Contains 1 files.
[2025-02-03 20:59:11] [TRACE]   [OmnipathR] Cache is locked: FALSE.
[2025-02-03 20:59:11] [TRACE]   [OmnipathR] Reading JSON from `/home/biocbuild/.cache/OmnipathR/cache.json` (encoding: UTF-8).
[2025-02-03 20:59:11] [TRACE]   [OmnipathR] JSON validation successful: TRUE
[2025-02-03 20:59:11] [SUCCESS] [OmnipathR] Removing all cache contents from `/home/biocbuild/.cache/OmnipathR`.
[2025-02-03 20:59:11] [TRACE]   [OmnipathR] Pandoc version: `2.12`.
[2025-02-03 20:59:11] [TRACE]   [OmnipathR] Reading JSON from `/home/biocbuild/R/R-4.4.2/site-library/OmnipathR/db/db_def.json` (encoding: UTF-8).
[2025-02-03 20:59:11] [TRACE]   [OmnipathR] JSON validation successful: TRUE
[2025-02-03 20:59:11] [TRACE]   [OmnipathR] Reading JSON from `/home/biocbuild/R/R-4.4.2/site-library/OmnipathR/internal/magic_bytes.json` (encoding: UTF-8).
[2025-02-03 20:59:11] [TRACE]   [OmnipathR] JSON validation successful: TRUE
[2025-02-03 20:59:11] [TRACE]   [OmnipathR] Reading JSON from `/home/biocbuild/R/R-4.4.2/site-library/OmnipathR/internal/urls.json` (encoding: UTF-8).
[2025-02-03 20:59:11] [TRACE]   [OmnipathR] JSON validation successful: TRUE
[2025-02-03 20:59:11] [TRACE]   [OmnipathR] Reading JSON from `/home/biocbuild/R/R-4.4.2/site-library/OmnipathR/internal/id_types.json` (encoding: UTF-8).
[2025-02-03 20:59:11] [TRACE]   [OmnipathR] JSON validation successful: TRUE
[2025-02-03 20:59:11] [TRACE]   [OmnipathR] Cache locked: FALSE
** testing if installed package can be loaded from final location
[2025-02-03 20:59:15] [TRACE]   [OmnipathR] Reading JSON from `/home/biocbuild/.cache/OmnipathR/cache.json` (encoding: UTF-8).
[2025-02-03 20:59:15] [TRACE]   [OmnipathR] JSON validation successful: TRUE
[2025-02-03 20:59:15] [INFO]    [OmnipathR] Initialized cache: `/home/biocbuild/.cache/OmnipathR`.
[2025-02-03 20:59:15] [TRACE]   [OmnipathR] Running on a build server, wiping cache.
[2025-02-03 20:59:15] [TRACE]   [OmnipathR] Cache is at `/home/biocbuild/.cache/OmnipathR`.
[2025-02-03 20:59:15] [TRACE]   [OmnipathR] Contains 1 files.
[2025-02-03 20:59:15] [TRACE]   [OmnipathR] Cache is locked: FALSE.
[2025-02-03 20:59:15] [TRACE]   [OmnipathR] Reading JSON from `/home/biocbuild/.cache/OmnipathR/cache.json` (encoding: UTF-8).
[2025-02-03 20:59:15] [TRACE]   [OmnipathR] JSON validation successful: TRUE
[2025-02-03 20:59:15] [SUCCESS] [OmnipathR] Removing all cache contents from `/home/biocbuild/.cache/OmnipathR`.
[2025-02-03 20:59:15] [TRACE]   [OmnipathR] Pandoc version: `2.12`.
[2025-02-03 20:59:15] [TRACE]   [OmnipathR] Reading JSON from `/home/biocbuild/R/R-4.4.2/site-library/OmnipathR/db/db_def.json` (encoding: UTF-8).
[2025-02-03 20:59:15] [TRACE]   [OmnipathR] JSON validation successful: TRUE
[2025-02-03 20:59:15] [TRACE]   [OmnipathR] Reading JSON from `/home/biocbuild/R/R-4.4.2/site-library/OmnipathR/internal/magic_bytes.json` (encoding: UTF-8).
[2025-02-03 20:59:15] [TRACE]   [OmnipathR] JSON validation successful: TRUE
[2025-02-03 20:59:15] [TRACE]   [OmnipathR] Reading JSON from `/home/biocbuild/R/R-4.4.2/site-library/OmnipathR/internal/urls.json` (encoding: UTF-8).
[2025-02-03 20:59:15] [TRACE]   [OmnipathR] JSON validation successful: TRUE
[2025-02-03 20:59:15] [TRACE]   [OmnipathR] Reading JSON from `/home/biocbuild/R/R-4.4.2/site-library/OmnipathR/internal/id_types.json` (encoding: UTF-8).
[2025-02-03 20:59:15] [TRACE]   [OmnipathR] JSON validation successful: TRUE
[2025-02-03 20:59:15] [TRACE]   [OmnipathR] Cache locked: FALSE
** testing if installed package keeps a record of temporary installation path
* DONE (wppi)

Tests output


Example timings

wppi.Rcheck/wppi-Ex.timings

nameusersystemelapsed
common_neighbors 7.993 0.41913.529
count_genes11.488 0.48820.653
filter_annot_with_network7.8070.1118.201
functional_annot 2.141 0.25319.155
graph_from_op4.3830.1515.204
in_omnipath4.3790.1004.532
prioritization_genes19.688 0.29820.257
process_annot0.8920.0120.906
random_walk19.965 0.12821.547
score_candidate_genes_from_PPI20.896 0.17523.617
subgraph_op4.3700.0204.463
weighted_adj14.987 0.11516.018
wppi41.128 0.22442.500
wppi_data7.6510.0158.124
wppi_go_data3.0300.0083.042
wppi_hpo_data1.0650.0041.591
wppi_omnipath_data4.1040.0044.316