maDB 1.35.1 Johannes Rainer
Snapshot Date: 2014-03-17 17:01:44 -0700 (Mon, 17 Mar 2014) | URL: https://hedgehog.fhcrc.org/bioconductor/trunk/madman/Rpacks/maDB | Last Changed Rev: 82386 / Revision: 87549 | Last Changed Date: 2013-11-01 12:54:25 -0700 (Fri, 01 Nov 2013) |
| zin2 | Linux (Ubuntu 12.04.4 LTS) / x86_64 | OK | WARNINGS | |
moscato2 | Windows Server 2008 R2 Enterprise SP1 (64-bit) / x64 | N O T S U P P O R T E D |
petty | Mac OS X Snow Leopard (10.6.8) / x86_64 | OK | WARNINGS | [ OK ] |
>>>>>>>
>>>>>>> INSTALLATION WITH 'R CMD INSTALL --preclean --no-multiarch --library=maDB.buildbin-libdir maDB_1.35.1.tar.gz'
>>>>>>>
* installing *source* package ‘maDB’ ...
** R
** data
** preparing package for lazy loading
Creating a generic function for ‘print’ from package ‘base’ in package ‘maDB’
** help
*** installing help indices
** building package indices
** installing vignettes
** testing if installed package can be loaded
* DONE (maDB)