maDB 1.35.1 Johannes Rainer
Snapshot Date: 2014-03-17 17:01:44 -0700 (Mon, 17 Mar 2014) | URL: https://hedgehog.fhcrc.org/bioconductor/trunk/madman/Rpacks/maDB | Last Changed Rev: 82386 / Revision: 87549 | Last Changed Date: 2013-11-01 12:54:25 -0700 (Fri, 01 Nov 2013) |
| zin2 | Linux (Ubuntu 12.04.4 LTS) / x86_64 | OK | WARNINGS | |
moscato2 | Windows Server 2008 R2 Enterprise SP1 (64-bit) / x64 | N O T S U P P O R T E D |
petty | Mac OS X Snow Leopard (10.6.8) / x86_64 | [ OK ] | WARNINGS | OK |
* checking for file ‘maDB/DESCRIPTION’ ... OK
* preparing ‘maDB’:
* checking DESCRIPTION meta-information ... OK
* checking for LF line-endings in source and make files
* checking for empty or unneeded directories
WARNING: directory ‘maDB/inst’ is empty
* looking to see if a ‘data/datalist’ file should be added
* building ‘maDB_1.35.1.tar.gz’