Back to Multiple platform build/check report for BioC 3.10 |
|
This page was generated on 2020-02-27 13:23:18 -0500 (Thu, 27 Feb 2020).
Package 1081/1823 | Hostname | OS / Arch | INSTALL | BUILD | CHECK | BUILD BIN | ||||||
MoonlightR 1.12.0 Antonio Colaprico
| malbec1 | Linux (Ubuntu 18.04.3 LTS) / x86_64 | OK | OK | OK | |||||||
tokay1 | Windows Server 2012 R2 Standard / x64 | ERROR | OK | ERROR | ERROR | |||||||
merida1 | OS X 10.11.6 El Capitan / x86_64 | OK | OK | WARNINGS | [ OK ] |
Package: MoonlightR |
Version: 1.12.0 |
Command: rm -rf MoonlightR.buildbin-libdir && mkdir MoonlightR.buildbin-libdir && /Users/biocbuild/BBS/utils/build-universal.sh MoonlightR_1.12.0.tar.gz /Library/Frameworks/R.framework/Versions/Current/Resources/bin/R MoonlightR.buildbin-libdir |
StartedAt: 2020-02-27 08:22:55 -0500 (Thu, 27 Feb 2020) |
EndedAt: 2020-02-27 08:24:30 -0500 (Thu, 27 Feb 2020) |
EllapsedTime: 95.6 seconds |
RetCode: 0 |
Status: OK |
PackageFile: MoonlightR_1.12.0.tgz |
PackageFileSize: 10.07 MiB |
############################################################################## ############################################################################## ### ### Running command: ### ### rm -rf MoonlightR.buildbin-libdir && mkdir MoonlightR.buildbin-libdir && /Users/biocbuild/BBS/utils/build-universal.sh MoonlightR_1.12.0.tar.gz /Library/Frameworks/R.framework/Versions/Current/Resources/bin/R MoonlightR.buildbin-libdir ### ############################################################################## ############################################################################## >>>>>>> >>>>>>> INSTALLATION WITH 'R CMD INSTALL --preclean --no-multiarch --library=MoonlightR.buildbin-libdir MoonlightR_1.12.0.tar.gz' >>>>>>> * installing *source* package ‘MoonlightR’ ... ** using staged installation ** R ** data *** moving datasets to lazyload DB ** inst ** byte-compile and prepare package for lazy loading Warning: 'rgl.init' failed, running with 'rgl.useNULL = TRUE'. ** help *** installing help indices ** building package indices ** installing vignettes ** testing if installed package can be loaded from temporary location Warning: 'rgl.init' failed, running with 'rgl.useNULL = TRUE'. ** testing if installed package can be loaded from final location Warning: 'rgl.init' failed, running with 'rgl.useNULL = TRUE'. ** testing if installed package keeps a record of temporary installation path * DONE (MoonlightR)