Back to Multiple platform build/check report for BioC 3.10 |
|
This page was generated on 2020-02-27 12:54:35 -0500 (Thu, 27 Feb 2020).
Package 1081/1823 | Hostname | OS / Arch | INSTALL | BUILD | CHECK | BUILD BIN | ||||||
MoonlightR 1.12.0 Antonio Colaprico
| malbec1 | Linux (Ubuntu 18.04.3 LTS) / x86_64 | OK | OK | OK | ![]() | ||||||
tokay1 | Windows Server 2012 R2 Standard / x64 | ERROR | OK | ERROR | [ ERROR ] | |||||||
merida1 | OS X 10.11.6 El Capitan / x86_64 | OK | OK | WARNINGS | OK | ![]() |
Package: MoonlightR |
Version: 1.12.0 |
Command: rm -rf MoonlightR.buildbin-libdir && mkdir MoonlightR.buildbin-libdir && C:\Users\biocbuild\bbs-3.10-bioc\R\bin\R.exe CMD INSTALL --merge-multiarch --build --library=MoonlightR.buildbin-libdir MoonlightR_1.12.0.tar.gz |
StartedAt: 2020-02-27 09:32:51 -0500 (Thu, 27 Feb 2020) |
EndedAt: 2020-02-27 09:33:41 -0500 (Thu, 27 Feb 2020) |
EllapsedTime: 50.7 seconds |
RetCode: 1 |
Status: ERROR |
PackageFile: None |
PackageFileSize: NA |
############################################################################## ############################################################################## ### ### Running command: ### ### rm -rf MoonlightR.buildbin-libdir && mkdir MoonlightR.buildbin-libdir && C:\Users\biocbuild\bbs-3.10-bioc\R\bin\R.exe CMD INSTALL --merge-multiarch --build --library=MoonlightR.buildbin-libdir MoonlightR_1.12.0.tar.gz ### ############################################################################## ############################################################################## install for i386 * installing *source* package 'MoonlightR' ... ** using staged installation ** R ** data *** moving datasets to lazyload DB ** inst ** byte-compile and prepare package for lazy loading Error in library.dynam(dynlib, pkg, lib) : DLL 'rgl' not found: maybe not installed for this architecture? Error: .onLoad failed in loadNamespace() for 'rgl', details: call: NULL error: Loading rgl's DLL failed. Execution halted ERROR: lazy loading failed for package 'MoonlightR' * removing 'C:/Users/biocbuild/bbs-3.10-bioc/meat/MoonlightR.buildbin-libdir/MoonlightR'