Back to Multiple platform build/check report for BioC 3.10 |
|
This page was generated on 2020-04-15 12:11:45 -0400 (Wed, 15 Apr 2020).
Package 1254/1823 | Hostname | OS / Arch | INSTALL | BUILD | CHECK | BUILD BIN | ||||||
PharmacoGx 1.17.1 Benjamin Haibe-Kains
| malbec1 | Linux (Ubuntu 18.04.4 LTS) / x86_64 | OK | OK | [ OK ] | |||||||
tokay1 | Windows Server 2012 R2 Standard / x64 | OK | OK | OK | OK | |||||||
merida1 | OS X 10.11.6 El Capitan / x86_64 | OK | OK | OK | OK |
Package: PharmacoGx |
Version: 1.17.1 |
Command: /home/biocbuild/bbs-3.10-bioc/R/bin/R CMD check --install=check:PharmacoGx.install-out.txt --library=/home/biocbuild/bbs-3.10-bioc/R/library --no-vignettes --timings PharmacoGx_1.17.1.tar.gz |
StartedAt: 2020-04-15 04:06:40 -0400 (Wed, 15 Apr 2020) |
EndedAt: 2020-04-15 04:14:45 -0400 (Wed, 15 Apr 2020) |
EllapsedTime: 484.9 seconds |
RetCode: 0 |
Status: OK |
CheckDir: PharmacoGx.Rcheck |
Warnings: 0 |
############################################################################## ############################################################################## ### ### Running command: ### ### /home/biocbuild/bbs-3.10-bioc/R/bin/R CMD check --install=check:PharmacoGx.install-out.txt --library=/home/biocbuild/bbs-3.10-bioc/R/library --no-vignettes --timings PharmacoGx_1.17.1.tar.gz ### ############################################################################## ############################################################################## * using log directory ‘/home/biocbuild/bbs-3.10-bioc/meat/PharmacoGx.Rcheck’ * using R version 3.6.3 (2020-02-29) * using platform: x86_64-pc-linux-gnu (64-bit) * using session charset: UTF-8 * using option ‘--no-vignettes’ * checking for file ‘PharmacoGx/DESCRIPTION’ ... OK * checking extension type ... Package * this is package ‘PharmacoGx’ version ‘1.17.1’ * package encoding: UTF-8 * checking package namespace information ... OK * checking package dependencies ... OK * checking if this is a source package ... OK * checking if there is a namespace ... OK * checking for hidden files and directories ... OK * checking for portable file names ... OK * checking for sufficient/correct file permissions ... OK * checking whether package ‘PharmacoGx’ can be installed ... OK * checking installed package size ... OK * checking package directory ... OK * checking ‘build’ directory ... OK * checking DESCRIPTION meta-information ... OK * checking top-level files ... OK * checking for left-over files ... OK * checking index information ... OK * checking package subdirectories ... OK * checking R files for non-ASCII characters ... OK * checking R files for syntax errors ... OK * checking whether the package can be loaded ... OK * checking whether the package can be loaded with stated dependencies ... OK * checking whether the package can be unloaded cleanly ... OK * checking whether the namespace can be loaded with stated dependencies ... OK * checking whether the namespace can be unloaded cleanly ... OK * checking dependencies in R code ... OK * checking S3 generic/method consistency ... OK * checking replacement functions ... OK * checking foreign function calls ... OK * checking R code for possible problems ... OK * checking Rd files ... OK * checking Rd metadata ... OK * checking Rd cross-references ... OK * checking for missing documentation entries ... OK * checking for code/documentation mismatches ... OK * checking Rd \usage sections ... OK * checking Rd contents ... OK * checking for unstated dependencies in examples ... OK * checking contents of ‘data’ directory ... OK * checking data for non-ASCII characters ... NOTE Note: found 2251 marked UTF-8 strings * checking data for ASCII and uncompressed saves ... OK * checking files in ‘vignettes’ ... OK * checking examples ... OK * checking for unstated dependencies in ‘tests’ ... OK * checking tests ... Running ‘testthat.R’ OK * checking for unstated dependencies in vignettes ... OK * checking package vignettes in ‘inst/doc’ ... OK * checking running R code from vignettes ... SKIPPED * checking re-building of vignette outputs ... SKIPPED * checking PDF version of manual ... OK * DONE Status: 1 NOTE See ‘/home/biocbuild/bbs-3.10-bioc/meat/PharmacoGx.Rcheck/00check.log’ for details.
PharmacoGx.Rcheck/00install.out
############################################################################## ############################################################################## ### ### Running command: ### ### /home/biocbuild/bbs-3.10-bioc/R/bin/R CMD INSTALL PharmacoGx ### ############################################################################## ############################################################################## * installing to library ‘/home/biocbuild/bbs-3.10-bioc/R/library’ * installing *source* package ‘PharmacoGx’ ... ** using staged installation ** R ** data ** inst ** byte-compile and prepare package for lazy loading ** help *** installing help indices ** building package indices ** installing vignettes ** testing if installed package can be loaded from temporary location ** testing if installed package can be loaded from final location ** testing if installed package keeps a record of temporary installation path * DONE (PharmacoGx)
PharmacoGx.Rcheck/tests/testthat.Rout
R version 3.6.3 (2020-02-29) -- "Holding the Windsock" Copyright (C) 2020 The R Foundation for Statistical Computing Platform: x86_64-pc-linux-gnu (64-bit) R is free software and comes with ABSOLUTELY NO WARRANTY. You are welcome to redistribute it under certain conditions. Type 'license()' or 'licence()' for distribution details. R is a collaborative project with many contributors. Type 'contributors()' for more information and 'citation()' on how to cite R or R packages in publications. Type 'demo()' for some demos, 'help()' for on-line help, or 'help.start()' for an HTML browser interface to help. Type 'q()' to quit R. > Sys.unsetenv("R_TESTS") > > library(testthat) > library(PharmacoGx) > > test_check("PharmacoGx") [1] NA 3 [1] 1 2 Inf [1] NA 3 [1] 1 2 Inf | | | 0% | |======================================================================| 100% | | | 0% | |======================================================================| 100% [1] "Model did not converge" 0 1 8 1 [1] "Model did not converge" 0 1 8 1 [1] "Model did not converge" 0 1 8 1 [1] "Model did not converge" 0 1 8 1 [1] "Model did not converge" 0 1 8 1 [1] "Model did not converge" 0 1 8 1 [1] "Model did not converge" 0 1 8 1 [1] "Model did not converge" 0 1 8 1 [1] "Model did not converge" 0 1 8 1 [1] "Model did not converge" 0 1 8 1 [1] "Model did not converge" 0 1 2 7 [1] "Model did not converge" 0 1 2 7 [1] "Model did not converge" 0 1 2 7 [1] "Model did not converge" 0 1 2 7 [1] "Model did not converge" 0 1 2 7 [1] "Model did not converge" 0 1 2 7 [1] "Model did not converge" 0 1 2 7 [1] "Model did not converge" 0 1 2 7 [1] "Model did not converge" 0 1 6 3 [1] "Model did not converge" 0 1 6 3 [1] "Model did not converge" 0 1 6 3 [1] "Model did not converge" 0 1 6 3 [1] "Model did not converge" 0 1 6 3 [1] "Model did not converge" 0 1 6 3 [1] "Model did not converge" 0 1 6 3 [1] "Model did not converge" 0 1 6 3 [1] "Model did not converge" 0 1 6 3 [1] "Model did not converge" 0 1 6 3 [1] "Model did not converge" 0 1 8 1 [1] "Model did not converge" 0 1 8 1 [1] "Model did not converge" 0 1 8 1 [1] "Model did not converge" 0 1 8 1 [1] "Model did not converge" 0 1 8 1 [1] "Model did not converge" 0 1 8 1 [1] "Model did not converge" 0 1 8 1 [1] "Model did not converge" 0 1 8 1 [1] "Model did not converge" 0 1 8 1 [1] "Model did not converge" 0 1 8 1 [1] "Model did not converge" 0 1 3 6 [1] "Model did not converge" 0 1 3 6 [1] "Model did not converge" 0 1 3 6 [1] "Model did not converge" 0 1 1 8 [1] "Model did not converge" 0 1 1 8 [1] "Model did not converge" 0 1 1 8 [1] "Model did not converge" 0 1 1 8 [1] "Model did not converge" 0 1 1 8 [1] "Model did not converge" 0 1 1 8 [1] "Model did not converge" 0 1 8 1 [1] "Model did not converge" 0 1 8 1 [1] "Model did not converge" 0 1 8 1 [1] "Model did not converge" 0 1 8 1 [1] "Model did not converge" 0 1 8 1 [1] "Model did not converge" 0 1 8 1 [1] "Model did not converge" 0 1 8 1 [1] "Model did not converge" 0 1 8 1 [1] "Model did not converge" 0 1 1 8 [1] "Model did not converge" 0 1 1 8 [1] "Model did not converge" 0 1 1 8 [1] "Model did not converge" 0 1 1 8 [1] "Model did not converge" 0 1 1 8 [1] "Model did not converge" 0 1 1 8 [1] "Model did not converge" 0 1 7 2 [1] "Model did not converge" 0 1 7 2 [1] "Model did not converge" 0 1 7 2 [1] "Model did not converge" 0 1 7 2 [1] "Model did not converge" 0 1 7 2 [1] "Model did not converge" 0 1 7 2 [1] "Model did not converge" 0 1 7 2 [1] "Model did not converge" 0 1 7 2 [1] "Model did not converge" 0 1 7 2 [1] "Model did not converge" 0 1 7 2 [1] "Model did not converge" 0 1 7 2 [1] "Model did not converge" 0 1 7 2 [1] "Model did not converge" 0 1 7 2 [1] "Model did not converge" 0 1 7 2 [1] "Model did not converge" 0 1 7 2 [1] "Model did not converge" 0 1 7 2 [1] "Model did not converge" 0 1 7 2 [1] "Model did not converge" 0 1 7 2 [1] "Model did not converge" 0 1 7 2 [1] "Model did not converge" 0 1 7 2 [1] "Model did not converge" 0 1 6 3 [1] "Model did not converge" 0 1 6 3 [1] "Model did not converge" 0 1 6 3 [1] "Model did not converge" 0 1 6 3 [1] "Model did not converge" 0 1 6 3 [1] "Model did not converge" 0 1 6 3 [1] "Model did not converge" 0 1 6 3 [1] "Model did not converge" 0 1 3 6 [1] "Model did not converge" 0 1 3 6 [1] "Model did not converge" 0 1 3 6 [1] "Model did not converge" 0 1 3 6 [1] "Model did not converge" 0 1 3 6 [1] "Model did not converge" 0 1 3 6 [1] "Model did not converge" 0 1 3 6 [1] "Model did not converge" 0 1 3 6 [1] "Model did not converge" 0 1 4 5 [1] "Model did not converge" 0 1 4 5 [1] "Model did not converge" 0 1 4 5 [1] "Model did not converge" 0 1 4 5 [1] "Model did not converge" 0 1 4 5 [1] "Model did not converge" 0 1 4 5 [1] "Model did not converge" 0 1 5 4 [1] "Model did not converge" 0 1 5 4 [1] "Model did not converge" 0 1 5 4 [1] "Model did not converge" 0 1 5 4 [1] "Model did not converge" 0 1 5 4 [1] "Model did not converge" 0 1 5 4 [1] "Model did not converge" 0 1 5 4 [1] "Model did not converge" 0 1 5 4 [1] "Model did not converge" 0 1 8 1 [1] "Model did not converge" 0 1 8 1 [1] "Model did not converge" 0 1 8 1 [1] "Model did not converge" 0 1 8 1 [1] "Model did not converge" 0 1 8 1 [1] "Model did not converge" 0 1 8 1 [1] "Model did not converge" 0 1 8 1 [1] "Model did not converge" 0 1 8 1 [1] "Model did not converge" 0 1 8 1 [1] "Model did not converge" 0 1 8 1 [1] "Model did not converge" 0 1 8 1 [1] "Model did not converge" 0 1 8 1 [1] "Model did not converge" 0 1 8 1 [1] "Model did not converge" 0 1 8 1 [1] "Model did not converge" 0 1 8 1 [1] "Model did not converge" 0 1 8 1 [1] "Model did not converge" 0 1 8 1 [1] "Model did not converge" 0 1 8 1 [1] "Model did not converge" 0 1 7 2 [1] "Model did not converge" 0 1 7 2 [1] "Model did not converge" 0 1 7 2 [1] "Model did not converge" 0 1 7 2 [1] "Model did not converge" 0 1 7 2 [1] "Model did not converge" 0 1 7 2 [1] "Model did not converge" 0 1 7 2 [1] "Model did not converge" 0 1 2 7 [1] "Model did not converge" 0 1 2 7 [1] "Model did not converge" 0 1 2 7 [1] "Model did not converge" 0 1 2 7 [1] "Model did not converge" 0 1 2 7 [1] "Model did not converge" 0 1 2 7 [1] "Model did not converge" 0 1 7 2 [1] "Model did not converge" 0 1 7 2 [1] "Model did not converge" 0 1 7 2 [1] "Model did not converge" 0 1 7 2 [1] "Model did not converge" 0 1 7 2 [1] "Model did not converge" 0 1 7 2 [1] "Model did not converge" 0 1 7 2 [1] "Model did not converge" 0 1 7 2 [1] "Model did not converge" 0 1 7 2 [1] "Model did not converge" 0 1 7 2 [1] "Model did not converge" 0 1 2 7 [1] "Model did not converge" 0 1 2 7 [1] "Model did not converge" 0 1 2 7 [1] "Model did not converge" 0 1 2 7 [1] "Model did not converge" 0 1 2 7 [1] "Model did not converge" 0 1 2 7 [1] "Model did not converge" 0 1 4 5 [1] "Model did not converge" 0 1 4 5 [1] "Model did not converge" 0 1 4 5 [1] "Model did not converge" 0 1 4 5 [1] "Model did not converge" 0 1 4 5 [1] "Model did not converge" 0 1 4 5 [1] "Model did not converge" 0 1 5 4 [1] "Model did not converge" 0 1 5 4 [1] "Model did not converge" 0 1 5 4 [1] "Model did not converge" 0 1 5 4 [1] "Model did not converge" 0 1 5 4 [1] "Model did not converge" 0 1 5 4 [1] "Model did not converge" 0 1 5 4 [1] "Model did not converge" 0 1 5 4 [1] "Model did not converge" 0 1 8 1 [1] "Model did not converge" 0 1 8 1 [1] "Model did not converge" 0 1 8 1 [1] "Model did not converge" 0 1 8 1 [1] "Model did not converge" 0 1 8 1 [1] "Model did not converge" 0 1 8 1 [1] "Model did not converge" 0 1 8 1 [1] "Model did not converge" 0 1 8 1 [1] "Model did not converge" 0 1 1 8 [1] "Model did not converge" 0 1 1 8 [1] "Model did not converge" 0 1 1 8 [1] "Model did not converge" 0 1 1 8 [1] "Model did not converge" 0 1 1 8 [1] "Model did not converge" 0 1 1 8 [1] "Model did not converge" 0 1 1 8 [1] "Model did not converge" 0 1 1 8 [1] "Model did not converge" 0 1 3 6 [1] "Model did not converge" 0 1 3 6 [1] "Model did not converge" 0 1 3 6 [1] "Model did not converge" 0 1 3 6 [1] "Model did not converge" 0 1 3 6 [1] "Model did not converge" 0 1 3 6 [1] "Model did not converge" 0 1 3 6 [1] "Model did not converge" 0 1 3 6 [1] "Model did not converge" 0 1 8 1 [1] "Model did not converge" 0 1 8 1 [1] "Model did not converge" 0 1 8 1 [1] "Model did not converge" 0 1 8 1 [1] "Model did not converge" 0 1 8 1 [1] "Model did not converge" 0 1 8 1 [1] "Model did not converge" 0 1 8 1 [1] "Model did not converge" 0 1 8 1 [1] "Model did not converge" 0 1 6 3 [1] "Model did not converge" 0 1 6 3 [1] "Model did not converge" 0 1 6 3 [1] "Model did not converge" 0 1 6 3 [1] "Model did not converge" 0 1 6 3 [1] "Model did not converge" 0 1 6 3 [1] "Model did not converge" 0 1 6 3 [1] "Model did not converge" 0 1 6 3 [1] "Model did not converge" 0 1 5 4 [1] "Model did not converge" 0 1 5 4 [1] "Model did not converge" 0 1 5 4 [1] "Model did not converge" 0 1 5 4 [1] "Model did not converge" 0 1 5 4 [1] "Model did not converge" 0 1 5 4 [1] "Model did not converge" 0 1 5 4 [1] "Model did not converge" 0 1 5 4 [1] "Model did not converge" 0 1 5 4 [1] "Model did not converge" 0 1 5 4 [1] "Model did not converge" 0 1 5 4 [1] "Model did not converge" 0 1 5 4 [1] "Model did not converge" 0 1 5 4 [1] "Model did not converge" 0 1 5 4 [1] "Model did not converge" 0 1 5 4 [1] "Model did not converge" 0 1 5 4 [1] "Model did not converge" 0 1 8 1 [1] "Model did not converge" 0 1 8 1 [1] "Model did not converge" 0 1 8 1 [1] "Model did not converge" 0 1 8 1 [1] "Model did not converge" 0 1 8 1 [1] "Model did not converge" 0 1 8 1 [1] "Model did not converge" 0 1 8 1 [1] "Model did not converge" 0 1 8 1 [1] "Model did not converge" 0 1 8 1 [1] "Model did not converge" 0 1 8 1 [1] "Model did not converge" 0 1 8 1 [1] "Model did not converge" 0 1 8 1 [1] "Model did not converge" 0 1 8 1 [1] "Model did not converge" 0 1 8 1 [1] "Model did not converge" 0 1 8 1 [1] "Model did not converge" 0 1 8 1 [1] "Model did not converge" 0 1 8 1 [1] "Model did not converge" 0 1 8 1 [1] "Model did not converge" 0 1 8 1 [1] "Model did not converge" 0 1 8 1 [1] "Model did not converge" 0 1 7 2 [1] "Model did not converge" 0 1 7 2 [1] "Model did not converge" 0 1 7 2 [1] "Model did not converge" 0 1 7 2 [1] "Model did not converge" 0 1 7 2 [1] "Model did not converge" 0 1 7 2 [1] "Model did not converge" 0 1 7 2 [1] "Model did not converge" 0 1 7 2 [1] "Model did not converge" 0 1 7 2 [1] "Model did not converge" 0 1 7 2 [1] "Model did not converge" 0 1 5 4 [1] "Model did not converge" 0 1 5 4 [1] "Model did not converge" 0 1 5 4 [1] "Model did not converge" 0 1 5 4 [1] "Model did not converge" 0 1 5 4 [1] "Model did not converge" 0 1 5 4 [1] "Model did not converge" 0 1 5 4 [1] "Model did not converge" 0 1 5 4 [1] "Model did not converge" 0 1 8 1 [1] "Model did not converge" 0 1 8 1 [1] "Model did not converge" 0 1 8 1 [1] "Model did not converge" 0 1 8 1 [1] "Model did not converge" 0 1 8 1 [1] "Model did not converge" 0 1 8 1 [1] "Model did not converge" 0 1 8 1 [1] "Model did not converge" 0 1 8 1 [1] "Model did not converge" 0 1 8 1 [1] "Model did not converge" 0 1 8 1 [1] "Model did not converge" 0 1 7 2 [1] "Model did not converge" 0 1 7 2 [1] "Model did not converge" 0 1 7 2 [1] "Model did not converge" 0 1 7 2 [1] "Model did not converge" 0 1 7 2 [1] "Model did not converge" 0 1 7 2 [1] "Model did not converge" 0 1 7 2 [1] "Model did not converge" 0 1 7 2 [1] "Model did not converge" 0 1 7 2 [1] "Model did not converge" 0 1 7 2 | | | 0% | |======================================================================| 100% [1] 1 1 -1 [1] 0 [1] 0 [,1] [,2] [,3] lower_bounds 0 0 0 upper_bounds 1 1 -1 | | | 0% | |======================================================================| 100% | | | 0% | |======================================================================| 100% | | | 0% | |======================================================================| 100% | | | 0% | |======================================================================| 100% | | | 0% | |======================================================================| 100% | | | 0% | |======================================================================| 100% | | | 0% | |======================================================================| 100% ══ testthat results ═══════════════════════════════════════════════════════════ [ OK: 138 | SKIPPED: 0 | WARNINGS: 0 | FAILED: 0 ] > > proc.time() user system elapsed 86.808 33.940 296.136
PharmacoGx.Rcheck/PharmacoGx-Ex.timings
name | user | system | elapsed | |
PharmacoSet | 0.000 | 0.000 | 0.003 | |
amcc | 1.624 | 0.628 | 2.196 | |
availablePSets | 0 | 0 | 0 | |
cellInfo-set | 1.064 | 0.008 | 1.079 | |
cellInfo | 1.224 | 0.048 | 1.279 | |
cellNames-set | 1.332 | 0.012 | 1.344 | |
cellNames | 1.080 | 0.008 | 1.089 | |
checkPSetStructure | 0.924 | 0.000 | 0.931 | |
computeABC | 2.208 | 1.464 | 3.464 | |
computeAUC | 1.284 | 0.864 | 2.077 | |
computeAmax | 1.292 | 0.888 | 2.107 | |
computeICn | 2.972 | 1.748 | 4.667 | |
computeSlope | 0.000 | 0.000 | 0.001 | |
connectivityScore | 0.076 | 0.000 | 0.076 | |
cosinePerm | 0.060 | 0.000 | 0.061 | |
dateCreated | 1.348 | 0.000 | 1.349 | |
downloadPSet | 0 | 0 | 0 | |
downloadPertSig | 0 | 0 | 0 | |
drugDoseResponseCurve | 0 | 0 | 0 | |
drugInfo-set | 0.756 | 0.000 | 0.756 | |
drugInfo | 1.300 | 0.000 | 1.303 | |
drugNames-set | 0.756 | 0.000 | 0.761 | |
drugNames | 0.908 | 0.000 | 0.906 | |
drugPerturbationSig | 3.132 | 0.272 | 3.431 | |
drugSensitivitySig | 1.376 | 0.120 | 1.519 | |
fNames | 1.356 | 0.004 | 1.361 | |
featureInfo-set | 0.968 | 0.000 | 0.970 | |
featureInfo | 0.916 | 0.008 | 0.922 | |
filterNoisyCurves | 0.976 | 0.136 | 1.101 | |
gwc | 0.776 | 0.000 | 0.781 | |
intersectList | 0 | 0 | 0 | |
intersectPSet | 0.892 | 0.000 | 0.890 | |
logLogisticRegression | 1.480 | 0.900 | 2.265 | |
mDataNames | 0.72 | 0.00 | 0.72 | |
mcc | 3.464 | 0.948 | 4.339 | |
molecularProfiles-set | 1.368 | 0.000 | 1.371 | |
molecularProfiles | 1.524 | 0.212 | 1.741 | |
pSetName | 0.98 | 0.00 | 0.98 | |
pertNumber-set | 0.996 | 0.000 | 0.998 | |
pertNumber | 0.924 | 0.000 | 0.927 | |
phenoInfo-set | 1.244 | 0.000 | 1.245 | |
phenoInfo | 1.956 | 0.080 | 2.032 | |
sensNumber-set | 0.884 | 0.000 | 0.885 | |
sensNumber | 1.276 | 0.032 | 1.308 | |
sensitivityInfo-set | 0.784 | 0.000 | 0.786 | |
sensitivityInfo | 1.588 | 0.240 | 1.838 | |
sensitivityMeasures | 0.892 | 0.000 | 0.894 | |
sensitivityProfiles-set | 0.988 | 0.040 | 1.027 | |
sensitivityProfiles | 1.240 | 0.188 | 1.429 | |
show-PharmacoSet-method | 0.752 | 0.000 | 0.751 | |
show-PharmacoSig-method | 1.552 | 0.140 | 1.722 | |
showSigAnnot | 1.580 | 0.148 | 1.738 | |
subsetTo | 1.008 | 0.008 | 1.016 | |
summarizeMolecularProfiles | 0.080 | 0.004 | 0.082 | |
summarizeSensitivityProfiles | 0.044 | 0.000 | 0.044 | |
symSetDiffList | 0.000 | 0.000 | 0.001 | |
unionList | 0 | 0 | 0 | |