Back to Multiple platform build/check report for BioC 3.10 |
|
This page was generated on 2020-04-15 12:27:08 -0400 (Wed, 15 Apr 2020).
Package 1254/1823 | Hostname | OS / Arch | INSTALL | BUILD | CHECK | BUILD BIN | ||||||
PharmacoGx 1.17.1 Benjamin Haibe-Kains
| malbec1 | Linux (Ubuntu 18.04.4 LTS) / x86_64 | OK | OK | OK | |||||||
tokay1 | Windows Server 2012 R2 Standard / x64 | [ OK ] | OK | OK | OK | |||||||
merida1 | OS X 10.11.6 El Capitan / x86_64 | OK | OK | OK | OK |
Package: PharmacoGx |
Version: 1.17.1 |
Command: C:\cygwin\bin\curl.exe -O https://malbec1.bioconductor.org/BBS/3.10/bioc/src/contrib/PharmacoGx_1.17.1.tar.gz && rm -rf PharmacoGx.buildbin-libdir && mkdir PharmacoGx.buildbin-libdir && C:\Users\biocbuild\bbs-3.10-bioc\R\bin\R.exe CMD INSTALL --merge-multiarch --build --library=PharmacoGx.buildbin-libdir PharmacoGx_1.17.1.tar.gz && C:\Users\biocbuild\bbs-3.10-bioc\R\bin\R.exe CMD INSTALL PharmacoGx_1.17.1.zip && rm PharmacoGx_1.17.1.tar.gz PharmacoGx_1.17.1.zip |
StartedAt: 2020-04-14 19:27:20 -0400 (Tue, 14 Apr 2020) |
EndedAt: 2020-04-14 19:28:55 -0400 (Tue, 14 Apr 2020) |
EllapsedTime: 95.0 seconds |
RetCode: 0 |
Status: OK |
############################################################################## ############################################################################## ### ### Running command: ### ### C:\cygwin\bin\curl.exe -O https://malbec1.bioconductor.org/BBS/3.10/bioc/src/contrib/PharmacoGx_1.17.1.tar.gz && rm -rf PharmacoGx.buildbin-libdir && mkdir PharmacoGx.buildbin-libdir && C:\Users\biocbuild\bbs-3.10-bioc\R\bin\R.exe CMD INSTALL --merge-multiarch --build --library=PharmacoGx.buildbin-libdir PharmacoGx_1.17.1.tar.gz && C:\Users\biocbuild\bbs-3.10-bioc\R\bin\R.exe CMD INSTALL PharmacoGx_1.17.1.zip && rm PharmacoGx_1.17.1.tar.gz PharmacoGx_1.17.1.zip ### ############################################################################## ############################################################################## % Total % Received % Xferd Average Speed Time Time Time Current Dload Upload Total Spent Left Speed 0 0 0 0 0 0 0 0 --:--:-- --:--:-- --:--:-- 0 100 4393k 100 4393k 0 0 36.0M 0 --:--:-- --:--:-- --:--:-- 37.3M install for i386 * installing *source* package 'PharmacoGx' ... ** using staged installation ** R ** data ** inst ** byte-compile and prepare package for lazy loading ** help *** installing help indices converting help for package 'PharmacoGx' finding HTML links ... done CCLEsmall html CMAPsmall html GDSCsmall html HDAC_genes html PharmacoSet-class html PharmacoSet html amcc html availablePSets html cellInfo-set html cellInfo html cellNames-set html cellNames html checkPSetStructure html computeABC html computeAUC html computeAmax html computeICn html computeSlope html connectivityScore html cosinePerm html dateCreated html dim-PharmacoSet-method html downloadPSet html downloadPertSig html drugDoseResponseCurve html drugInfo-set html drugInfo html drugNames-set html drugNames html drugPerturbationSig html drugSensitivitySig html fNames html featureInfo-set html featureInfo html filterNoisyCurves html gwc html intersectList html intersectPSet html logLogisticRegression html mDataNames html mcc html molecularProfiles-set html molecularProfiles html pSetName html pertNumber-set html pertNumber html phenoInfo-set html phenoInfo html sensNumber-set html sensNumber html sensitivityInfo-set html sensitivityInfo html sensitivityMeasures html sensitivityProfiles-set html sensitivityProfiles html show-PharmacoSet-method html show-PharmacoSig-method html showSigAnnot html sub-PharmacoSet-ANY-ANY-ANY-method html subsetTo html summarizeMolecularProfiles html summarizeSensitivityProfiles html symSetDiffList html unionList html ** building package indices ** installing vignettes ** testing if installed package can be loaded from temporary location ** testing if installed package can be loaded from final location ** testing if installed package keeps a record of temporary installation path install for x64 * installing *source* package 'PharmacoGx' ... ** testing if installed package can be loaded * MD5 sums packaged installation of 'PharmacoGx' as PharmacoGx_1.17.1.zip * DONE (PharmacoGx) * installing to library 'C:/Users/biocbuild/bbs-3.10-bioc/R/library' package 'PharmacoGx' successfully unpacked and MD5 sums checked