Back to Multiple platform build/check report for BioC 3.10 |
|
This page was generated on 2020-04-15 12:44:07 -0400 (Wed, 15 Apr 2020).
Package 1254/1823 | Hostname | OS / Arch | INSTALL | BUILD | CHECK | BUILD BIN | ||||||
PharmacoGx 1.17.1 Benjamin Haibe-Kains
| malbec1 | Linux (Ubuntu 18.04.4 LTS) / x86_64 | OK | OK | OK | |||||||
tokay1 | Windows Server 2012 R2 Standard / x64 | OK | OK | OK | OK | |||||||
merida1 | OS X 10.11.6 El Capitan / x86_64 | OK | OK | [ OK ] | OK |
Package: PharmacoGx |
Version: 1.17.1 |
Command: /Library/Frameworks/R.framework/Versions/Current/Resources/bin/R CMD check --install=check:PharmacoGx.install-out.txt --library=/Library/Frameworks/R.framework/Versions/Current/Resources/library --no-vignettes --timings PharmacoGx_1.17.1.tar.gz |
StartedAt: 2020-04-15 04:34:29 -0400 (Wed, 15 Apr 2020) |
EndedAt: 2020-04-15 04:49:10 -0400 (Wed, 15 Apr 2020) |
EllapsedTime: 881.3 seconds |
RetCode: 0 |
Status: OK |
CheckDir: PharmacoGx.Rcheck |
Warnings: 0 |
############################################################################## ############################################################################## ### ### Running command: ### ### /Library/Frameworks/R.framework/Versions/Current/Resources/bin/R CMD check --install=check:PharmacoGx.install-out.txt --library=/Library/Frameworks/R.framework/Versions/Current/Resources/library --no-vignettes --timings PharmacoGx_1.17.1.tar.gz ### ############################################################################## ############################################################################## * using log directory ‘/Users/biocbuild/bbs-3.10-bioc/meat/PharmacoGx.Rcheck’ * using R version 3.6.3 (2020-02-29) * using platform: x86_64-apple-darwin15.6.0 (64-bit) * using session charset: UTF-8 * using option ‘--no-vignettes’ * checking for file ‘PharmacoGx/DESCRIPTION’ ... OK * checking extension type ... Package * this is package ‘PharmacoGx’ version ‘1.17.1’ * package encoding: UTF-8 * checking package namespace information ... OK * checking package dependencies ... OK * checking if this is a source package ... OK * checking if there is a namespace ... OK * checking for hidden files and directories ... OK * checking for portable file names ... OK * checking for sufficient/correct file permissions ... OK * checking whether package ‘PharmacoGx’ can be installed ... OK * checking installed package size ... OK * checking package directory ... OK * checking ‘build’ directory ... OK * checking DESCRIPTION meta-information ... OK * checking top-level files ... OK * checking for left-over files ... OK * checking index information ... OK * checking package subdirectories ... OK * checking R files for non-ASCII characters ... OK * checking R files for syntax errors ... OK * checking whether the package can be loaded ... OK * checking whether the package can be loaded with stated dependencies ... OK * checking whether the package can be unloaded cleanly ... OK * checking whether the namespace can be loaded with stated dependencies ... OK * checking whether the namespace can be unloaded cleanly ... OK * checking dependencies in R code ... OK * checking S3 generic/method consistency ... OK * checking replacement functions ... OK * checking foreign function calls ... OK * checking R code for possible problems ... OK * checking Rd files ... OK * checking Rd metadata ... OK * checking Rd cross-references ... OK * checking for missing documentation entries ... OK * checking for code/documentation mismatches ... OK * checking Rd \usage sections ... OK * checking Rd contents ... OK * checking for unstated dependencies in examples ... OK * checking contents of ‘data’ directory ... OK * checking data for non-ASCII characters ... NOTE Note: found 2251 marked UTF-8 strings * checking data for ASCII and uncompressed saves ... OK * checking sizes of PDF files under ‘inst/doc’ ... OK * checking files in ‘vignettes’ ... OK * checking examples ... OK Examples with CPU or elapsed time > 5s user system elapsed computeICn 5.328 4.991 9.774 mcc 5.286 2.526 7.579 computeABC 3.642 3.208 6.600 logLogisticRegression 2.705 2.507 4.930 computeAUC 2.597 2.448 4.774 * checking for unstated dependencies in ‘tests’ ... OK * checking tests ... Running ‘testthat.R’ OK * checking for unstated dependencies in vignettes ... OK * checking package vignettes in ‘inst/doc’ ... OK * checking running R code from vignettes ... SKIPPED * checking re-building of vignette outputs ... SKIPPED * checking PDF version of manual ... OK * DONE Status: 1 NOTE See ‘/Users/biocbuild/bbs-3.10-bioc/meat/PharmacoGx.Rcheck/00check.log’ for details.
PharmacoGx.Rcheck/00install.out
############################################################################## ############################################################################## ### ### Running command: ### ### /Library/Frameworks/R.framework/Versions/Current/Resources/bin/R CMD INSTALL PharmacoGx ### ############################################################################## ############################################################################## * installing to library ‘/Library/Frameworks/R.framework/Versions/3.6/Resources/library’ * installing *source* package ‘PharmacoGx’ ... ** using staged installation ** R ** data ** inst ** byte-compile and prepare package for lazy loading ** help *** installing help indices ** building package indices ** installing vignettes ** testing if installed package can be loaded from temporary location ** testing if installed package can be loaded from final location ** testing if installed package keeps a record of temporary installation path * DONE (PharmacoGx)
PharmacoGx.Rcheck/tests/testthat.Rout
R version 3.6.3 (2020-02-29) -- "Holding the Windsock" Copyright (C) 2020 The R Foundation for Statistical Computing Platform: x86_64-apple-darwin15.6.0 (64-bit) R is free software and comes with ABSOLUTELY NO WARRANTY. You are welcome to redistribute it under certain conditions. Type 'license()' or 'licence()' for distribution details. R is a collaborative project with many contributors. Type 'contributors()' for more information and 'citation()' on how to cite R or R packages in publications. Type 'demo()' for some demos, 'help()' for on-line help, or 'help.start()' for an HTML browser interface to help. Type 'q()' to quit R. > Sys.unsetenv("R_TESTS") > > library(testthat) > library(PharmacoGx) > > test_check("PharmacoGx") [1] NA 3 [1] 1 2 Inf [1] NA 3 [1] 1 2 Inf | | | 0% | |======================================================================| 100% | | | 0% | |======================================================================| 100% [1] "Model did not converge" 0 1 8 1 [1] "Model did not converge" 0 1 8 1 [1] "Model did not converge" 0 1 8 1 [1] "Model did not converge" 0 1 8 1 [1] "Model did not converge" 0 1 8 1 [1] "Model did not converge" 0 1 8 1 [1] "Model did not converge" 0 1 8 1 [1] "Model did not converge" 0 1 8 1 [1] "Model did not converge" 0 1 8 1 [1] "Model did not converge" 0 1 8 1 [1] "Model did not converge" 0 1 2 7 [1] "Model did not converge" 0 1 2 7 [1] "Model did not converge" 0 1 2 7 [1] "Model did not converge" 0 1 2 7 [1] "Model did not converge" 0 1 2 7 [1] "Model did not converge" 0 1 2 7 [1] "Model did not converge" 0 1 2 7 [1] "Model did not converge" 0 1 2 7 [1] "Model did not converge" 0 1 6 3 [1] "Model did not converge" 0 1 6 3 [1] "Model did not converge" 0 1 6 3 [1] "Model did not converge" 0 1 6 3 [1] "Model did not converge" 0 1 6 3 [1] "Model did not converge" 0 1 6 3 [1] "Model did not converge" 0 1 6 3 [1] "Model did not converge" 0 1 6 3 [1] "Model did not converge" 0 1 6 3 [1] "Model did not converge" 0 1 6 3 [1] "Model did not converge" 0 1 8 1 [1] "Model did not converge" 0 1 8 1 [1] "Model did not converge" 0 1 8 1 [1] "Model did not converge" 0 1 8 1 [1] "Model did not converge" 0 1 8 1 [1] "Model did not converge" 0 1 8 1 [1] "Model did not converge" 0 1 8 1 [1] "Model did not converge" 0 1 8 1 [1] "Model did not converge" 0 1 8 1 [1] "Model did not converge" 0 1 8 1 [1] "Model did not converge" 0 1 3 6 [1] "Model did not converge" 0 1 3 6 [1] "Model did not converge" 0 1 3 6 [1] "Model did not converge" 0 1 1 8 [1] "Model did not converge" 0 1 1 8 [1] "Model did not converge" 0 1 1 8 [1] "Model did not converge" 0 1 1 8 [1] "Model did not converge" 0 1 1 8 [1] "Model did not converge" 0 1 1 8 [1] "Model did not converge" 0 1 8 1 [1] "Model did not converge" 0 1 8 1 [1] "Model did not converge" 0 1 8 1 [1] "Model did not converge" 0 1 8 1 [1] "Model did not converge" 0 1 8 1 [1] "Model did not converge" 0 1 8 1 [1] "Model did not converge" 0 1 8 1 [1] "Model did not converge" 0 1 8 1 [1] "Model did not converge" 0 1 1 8 [1] "Model did not converge" 0 1 1 8 [1] "Model did not converge" 0 1 1 8 [1] "Model did not converge" 0 1 1 8 [1] "Model did not converge" 0 1 1 8 [1] "Model did not converge" 0 1 1 8 [1] "Model did not converge" 0 1 7 2 [1] "Model did not converge" 0 1 7 2 [1] "Model did not converge" 0 1 7 2 [1] "Model did not converge" 0 1 7 2 [1] "Model did not converge" 0 1 7 2 [1] "Model did not converge" 0 1 7 2 [1] "Model did not converge" 0 1 7 2 [1] "Model did not converge" 0 1 7 2 [1] "Model did not converge" 0 1 7 2 [1] "Model did not converge" 0 1 7 2 [1] "Model did not converge" 0 1 7 2 [1] "Model did not converge" 0 1 7 2 [1] "Model did not converge" 0 1 7 2 [1] "Model did not converge" 0 1 7 2 [1] "Model did not converge" 0 1 7 2 [1] "Model did not converge" 0 1 7 2 [1] "Model did not converge" 0 1 7 2 [1] "Model did not converge" 0 1 7 2 [1] "Model did not converge" 0 1 7 2 [1] "Model did not converge" 0 1 7 2 [1] "Model did not converge" 0 1 6 3 [1] "Model did not converge" 0 1 6 3 [1] "Model did not converge" 0 1 6 3 [1] "Model did not converge" 0 1 6 3 [1] "Model did not converge" 0 1 6 3 [1] "Model did not converge" 0 1 6 3 [1] "Model did not converge" 0 1 6 3 [1] "Model did not converge" 0 1 3 6 [1] "Model did not converge" 0 1 3 6 [1] "Model did not converge" 0 1 3 6 [1] "Model did not converge" 0 1 3 6 [1] "Model did not converge" 0 1 3 6 [1] "Model did not converge" 0 1 3 6 [1] "Model did not converge" 0 1 3 6 [1] "Model did not converge" 0 1 3 6 [1] "Model did not converge" 0 1 4 5 [1] "Model did not converge" 0 1 4 5 [1] "Model did not converge" 0 1 4 5 [1] "Model did not converge" 0 1 4 5 [1] "Model did not converge" 0 1 4 5 [1] "Model did not converge" 0 1 4 5 [1] "Model did not converge" 0 1 5 4 [1] "Model did not converge" 0 1 5 4 [1] "Model did not converge" 0 1 5 4 [1] "Model did not converge" 0 1 5 4 [1] "Model did not converge" 0 1 5 4 [1] "Model did not converge" 0 1 5 4 [1] "Model did not converge" 0 1 5 4 [1] "Model did not converge" 0 1 5 4 [1] "Model did not converge" 0 1 8 1 [1] "Model did not converge" 0 1 8 1 [1] "Model did not converge" 0 1 8 1 [1] "Model did not converge" 0 1 8 1 [1] "Model did not converge" 0 1 8 1 [1] "Model did not converge" 0 1 8 1 [1] "Model did not converge" 0 1 8 1 [1] "Model did not converge" 0 1 8 1 [1] "Model did not converge" 0 1 8 1 [1] "Model did not converge" 0 1 8 1 [1] "Model did not converge" 0 1 8 1 [1] "Model did not converge" 0 1 8 1 [1] "Model did not converge" 0 1 8 1 [1] "Model did not converge" 0 1 8 1 [1] "Model did not converge" 0 1 8 1 [1] "Model did not converge" 0 1 8 1 [1] "Model did not converge" 0 1 8 1 [1] "Model did not converge" 0 1 8 1 [1] "Model did not converge" 0 1 7 2 [1] "Model did not converge" 0 1 7 2 [1] "Model did not converge" 0 1 7 2 [1] "Model did not converge" 0 1 7 2 [1] "Model did not converge" 0 1 7 2 [1] "Model did not converge" 0 1 7 2 [1] "Model did not converge" 0 1 7 2 [1] "Model did not converge" 0 1 2 7 [1] "Model did not converge" 0 1 2 7 [1] "Model did not converge" 0 1 2 7 [1] "Model did not converge" 0 1 2 7 [1] "Model did not converge" 0 1 2 7 [1] "Model did not converge" 0 1 2 7 [1] "Model did not converge" 0 1 7 2 [1] "Model did not converge" 0 1 7 2 [1] "Model did not converge" 0 1 7 2 [1] "Model did not converge" 0 1 7 2 [1] "Model did not converge" 0 1 7 2 [1] "Model did not converge" 0 1 7 2 [1] "Model did not converge" 0 1 7 2 [1] "Model did not converge" 0 1 7 2 [1] "Model did not converge" 0 1 7 2 [1] "Model did not converge" 0 1 7 2 [1] "Model did not converge" 0 1 2 7 [1] "Model did not converge" 0 1 2 7 [1] "Model did not converge" 0 1 2 7 [1] "Model did not converge" 0 1 2 7 [1] "Model did not converge" 0 1 2 7 [1] "Model did not converge" 0 1 2 7 [1] "Model did not converge" 0 1 4 5 [1] "Model did not converge" 0 1 4 5 [1] "Model did not converge" 0 1 4 5 [1] "Model did not converge" 0 1 4 5 [1] "Model did not converge" 0 1 4 5 [1] "Model did not converge" 0 1 4 5 [1] "Model did not converge" 0 1 5 4 [1] "Model did not converge" 0 1 5 4 [1] "Model did not converge" 0 1 5 4 [1] "Model did not converge" 0 1 5 4 [1] "Model did not converge" 0 1 5 4 [1] "Model did not converge" 0 1 5 4 [1] "Model did not converge" 0 1 5 4 [1] "Model did not converge" 0 1 5 4 [1] "Model did not converge" 0 1 8 1 [1] "Model did not converge" 0 1 8 1 [1] "Model did not converge" 0 1 8 1 [1] "Model did not converge" 0 1 8 1 [1] "Model did not converge" 0 1 8 1 [1] "Model did not converge" 0 1 8 1 [1] "Model did not converge" 0 1 8 1 [1] "Model did not converge" 0 1 8 1 [1] "Model did not converge" 0 1 1 8 [1] "Model did not converge" 0 1 1 8 [1] "Model did not converge" 0 1 1 8 [1] "Model did not converge" 0 1 1 8 [1] "Model did not converge" 0 1 1 8 [1] "Model did not converge" 0 1 1 8 [1] "Model did not converge" 0 1 1 8 [1] "Model did not converge" 0 1 1 8 [1] "Model did not converge" 0 1 3 6 [1] "Model did not converge" 0 1 3 6 [1] "Model did not converge" 0 1 3 6 [1] "Model did not converge" 0 1 3 6 [1] "Model did not converge" 0 1 3 6 [1] "Model did not converge" 0 1 3 6 [1] "Model did not converge" 0 1 3 6 [1] "Model did not converge" 0 1 3 6 [1] "Model did not converge" 0 1 8 1 [1] "Model did not converge" 0 1 8 1 [1] "Model did not converge" 0 1 8 1 [1] "Model did not converge" 0 1 8 1 [1] "Model did not converge" 0 1 8 1 [1] "Model did not converge" 0 1 8 1 [1] "Model did not converge" 0 1 8 1 [1] "Model did not converge" 0 1 8 1 [1] "Model did not converge" 0 1 6 3 [1] "Model did not converge" 0 1 6 3 [1] "Model did not converge" 0 1 6 3 [1] "Model did not converge" 0 1 6 3 [1] "Model did not converge" 0 1 6 3 [1] "Model did not converge" 0 1 6 3 [1] "Model did not converge" 0 1 6 3 [1] "Model did not converge" 0 1 6 3 [1] "Model did not converge" 0 1 5 4 [1] "Model did not converge" 0 1 5 4 [1] "Model did not converge" 0 1 5 4 [1] "Model did not converge" 0 1 5 4 [1] "Model did not converge" 0 1 5 4 [1] "Model did not converge" 0 1 5 4 [1] "Model did not converge" 0 1 5 4 [1] "Model did not converge" 0 1 5 4 [1] "Model did not converge" 0 1 5 4 [1] "Model did not converge" 0 1 5 4 [1] "Model did not converge" 0 1 5 4 [1] "Model did not converge" 0 1 5 4 [1] "Model did not converge" 0 1 5 4 [1] "Model did not converge" 0 1 5 4 [1] "Model did not converge" 0 1 5 4 [1] "Model did not converge" 0 1 5 4 [1] "Model did not converge" 0 1 8 1 [1] "Model did not converge" 0 1 8 1 [1] "Model did not converge" 0 1 8 1 [1] "Model did not converge" 0 1 8 1 [1] "Model did not converge" 0 1 8 1 [1] "Model did not converge" 0 1 8 1 [1] "Model did not converge" 0 1 8 1 [1] "Model did not converge" 0 1 8 1 [1] "Model did not converge" 0 1 8 1 [1] "Model did not converge" 0 1 8 1 [1] "Model did not converge" 0 1 8 1 [1] "Model did not converge" 0 1 8 1 [1] "Model did not converge" 0 1 8 1 [1] "Model did not converge" 0 1 8 1 [1] "Model did not converge" 0 1 8 1 [1] "Model did not converge" 0 1 8 1 [1] "Model did not converge" 0 1 8 1 [1] "Model did not converge" 0 1 8 1 [1] "Model did not converge" 0 1 8 1 [1] "Model did not converge" 0 1 8 1 [1] "Model did not converge" 0 1 7 2 [1] "Model did not converge" 0 1 7 2 [1] "Model did not converge" 0 1 7 2 [1] "Model did not converge" 0 1 7 2 [1] "Model did not converge" 0 1 7 2 [1] "Model did not converge" 0 1 7 2 [1] "Model did not converge" 0 1 7 2 [1] "Model did not converge" 0 1 7 2 [1] "Model did not converge" 0 1 7 2 [1] "Model did not converge" 0 1 7 2 [1] "Model did not converge" 0 1 5 4 [1] "Model did not converge" 0 1 5 4 [1] "Model did not converge" 0 1 5 4 [1] "Model did not converge" 0 1 5 4 [1] "Model did not converge" 0 1 5 4 [1] "Model did not converge" 0 1 5 4 [1] "Model did not converge" 0 1 5 4 [1] "Model did not converge" 0 1 5 4 [1] "Model did not converge" 0 1 8 1 [1] "Model did not converge" 0 1 8 1 [1] "Model did not converge" 0 1 8 1 [1] "Model did not converge" 0 1 8 1 [1] "Model did not converge" 0 1 8 1 [1] "Model did not converge" 0 1 8 1 [1] "Model did not converge" 0 1 8 1 [1] "Model did not converge" 0 1 8 1 [1] "Model did not converge" 0 1 8 1 [1] "Model did not converge" 0 1 8 1 [1] "Model did not converge" 0 1 7 2 [1] "Model did not converge" 0 1 7 2 [1] "Model did not converge" 0 1 7 2 [1] "Model did not converge" 0 1 7 2 [1] "Model did not converge" 0 1 7 2 [1] "Model did not converge" 0 1 7 2 [1] "Model did not converge" 0 1 7 2 [1] "Model did not converge" 0 1 7 2 [1] "Model did not converge" 0 1 7 2 [1] "Model did not converge" 0 1 7 2 | | | 0% | |======================================================================| 100% [1] 1 1 -1 [1] 0 [1] 0 [,1] [,2] [,3] lower_bounds 0 0 0 upper_bounds 1 1 -1 | | | 0% | |======================================================================| 100% | | | 0% | |======================================================================| 100% | | | 0% | |======================================================================| 100% | | | 0% | |======================================================================| 100% | | | 0% | |======================================================================| 100% | | | 0% | |======================================================================| 100% | | | 0% | |======================================================================| 100% ══ testthat results ═══════════════════════════════════════════════════════════ [ OK: 138 | SKIPPED: 0 | WARNINGS: 0 | FAILED: 0 ] > > proc.time() user system elapsed 140.113 92.849 612.108
PharmacoGx.Rcheck/PharmacoGx-Ex.timings
name | user | system | elapsed | |
PharmacoSet | 0.002 | 0.001 | 0.003 | |
amcc | 3.170 | 1.683 | 4.687 | |
availablePSets | 0 | 0 | 0 | |
cellInfo-set | 1.066 | 0.015 | 1.089 | |
cellInfo | 1.767 | 0.176 | 1.956 | |
cellNames-set | 1.189 | 0.021 | 1.215 | |
cellNames | 1.265 | 0.017 | 1.291 | |
checkPSetStructure | 1.105 | 0.009 | 1.129 | |
computeABC | 3.642 | 3.208 | 6.600 | |
computeAUC | 2.597 | 2.448 | 4.774 | |
computeAmax | 2.366 | 2.165 | 4.352 | |
computeICn | 5.328 | 4.991 | 9.774 | |
computeSlope | 0.001 | 0.000 | 0.001 | |
connectivityScore | 0.088 | 0.008 | 0.094 | |
cosinePerm | 0.074 | 0.008 | 0.080 | |
dateCreated | 1.043 | 0.006 | 1.058 | |
downloadPSet | 0.000 | 0.000 | 0.001 | |
downloadPertSig | 0.000 | 0.000 | 0.001 | |
drugDoseResponseCurve | 0.001 | 0.000 | 0.001 | |
drugInfo-set | 1.042 | 0.008 | 1.058 | |
drugInfo | 1.247 | 0.010 | 1.270 | |
drugNames-set | 1.001 | 0.005 | 1.011 | |
drugNames | 1.086 | 0.012 | 1.106 | |
drugPerturbationSig | 3.655 | 0.605 | 4.223 | |
drugSensitivitySig | 1.709 | 0.296 | 1.978 | |
fNames | 1.073 | 0.007 | 1.091 | |
featureInfo-set | 1.051 | 0.008 | 1.073 | |
featureInfo | 1.132 | 0.009 | 1.150 | |
filterNoisyCurves | 1.501 | 0.364 | 1.833 | |
gwc | 1.071 | 0.008 | 1.083 | |
intersectList | 0.000 | 0.001 | 0.000 | |
intersectPSet | 1.330 | 0.032 | 1.367 | |
logLogisticRegression | 2.705 | 2.507 | 4.930 | |
mDataNames | 1.052 | 0.004 | 1.067 | |
mcc | 5.286 | 2.526 | 7.579 | |
molecularProfiles-set | 0.851 | 0.005 | 0.861 | |
molecularProfiles | 2.269 | 0.458 | 2.728 | |
pSetName | 0.820 | 0.013 | 0.834 | |
pertNumber-set | 1.133 | 0.008 | 1.186 | |
pertNumber | 1.105 | 0.005 | 1.125 | |
phenoInfo-set | 1.062 | 0.016 | 1.098 | |
phenoInfo | 2.791 | 0.298 | 3.149 | |
sensNumber-set | 1.059 | 0.005 | 1.071 | |
sensNumber | 1.269 | 0.154 | 1.498 | |
sensitivityInfo-set | 1.159 | 0.008 | 1.178 | |
sensitivityInfo | 3.032 | 0.638 | 3.787 | |
sensitivityMeasures | 0.968 | 0.011 | 0.990 | |
sensitivityProfiles-set | 1.080 | 0.005 | 1.094 | |
sensitivityProfiles | 3.261 | 0.550 | 3.820 | |
show-PharmacoSet-method | 0.982 | 0.005 | 0.989 | |
show-PharmacoSig-method | 1.959 | 0.345 | 2.270 | |
showSigAnnot | 1.909 | 0.313 | 2.195 | |
subsetTo | 1.133 | 0.019 | 1.155 | |
summarizeMolecularProfiles | 0.141 | 0.017 | 0.155 | |
summarizeSensitivityProfiles | 0.052 | 0.004 | 0.055 | |
symSetDiffList | 0.001 | 0.000 | 0.001 | |
unionList | 0.000 | 0.000 | 0.001 | |