Back to First build/check report with an "external build node"

This page was generated on 2023-06-01 18:17:19 -0400 (Thu, 01 Jun 2023).

HostnameOSArch (*)R versionInstalled pkgs
xps15Linux (Ubuntu 23.04)x86_644.3.0 Patched (2023-05-23 r84466) -- "Already Tomorrow" 544
Click on any hostname to see more info about the system (e.g. compilers)      (*) as reported by 'uname -p', except on Windows and Mac OS X

CHECK results for GenomicRanges on xps15


To the developers/maintainers of the GenomicRanges package:
Use the following Renviron settings to reproduce errors and warnings.

Note: If "R CMD check" recently failed on the Linux builder over a missing dependency, add the missing dependency to "Suggests" in your DESCRIPTION file. See the Renviron.bioc for details.

raw results

Package 43/91HostnameOS / ArchINSTALLBUILDCHECKBUILD BIN
GenomicRanges 1.53.1  (landing page)
Hervé Pagès
Snapshot Date: 2023-06-01 15:10:15 -0400 (Thu, 01 Jun 2023)
git_url: https://git.bioconductor.org/packages/GenomicRanges
git_branch: devel
git_last_commit: 7042d84
git_last_commit_date: 2023-05-03 16:32:13 -0400 (Wed, 03 May 2023)
xps15Linux (Ubuntu 23.04) / x86_64  OK    OK    OK  

Summary

Package: GenomicRanges
Version: 1.53.1
Command: /home/hpages/bbs-3.18-bioc/R/bin/R CMD check --install=check:GenomicRanges.install-out.txt --library=/home/hpages/bbs-3.18-bioc-testing/Rlibs --timings GenomicRanges_1.53.1.tar.gz
StartedAt: 2023-06-01 13:08:14 -0700 (Thu, 01 Jun 2023)
EndedAt: 2023-06-01 13:18:27 -0700 (Thu, 01 Jun 2023)
EllapsedTime: 613.3 seconds
RetCode: 0
Status:   OK  
CheckDir: GenomicRanges.Rcheck
Warnings: 0

Command output

##############################################################################
##############################################################################
###
### Running command:
###
###   /home/hpages/bbs-3.18-bioc/R/bin/R CMD check --install=check:GenomicRanges.install-out.txt --library=/home/hpages/bbs-3.18-bioc-testing/Rlibs --timings GenomicRanges_1.53.1.tar.gz
###
##############################################################################
##############################################################################


* using log directory ‘/home/hpages/bbs-3.18-bioc-testing/meat/GenomicRanges.Rcheck’
* using R version 4.3.0 Patched (2023-05-23 r84466)
* using platform: x86_64-pc-linux-gnu (64-bit)
* R was compiled by
    gcc (Ubuntu 12.2.0-17ubuntu1) 12.2.0
    GNU Fortran (Ubuntu 12.2.0-17ubuntu1) 12.2.0
* running under: Ubuntu 23.04
* using session charset: UTF-8
* checking for file ‘GenomicRanges/DESCRIPTION’ ... OK
* this is package ‘GenomicRanges’ version ‘1.53.1’
* package encoding: UTF-8
* checking package namespace information ... OK
* checking package dependencies ... OK
* checking if this is a source package ... OK
* checking if there is a namespace ... OK
* checking for hidden files and directories ... OK
* checking for portable file names ... OK
* checking for sufficient/correct file permissions ... OK
* checking whether package ‘GenomicRanges’ can be installed ... OK
* used C compiler: ‘gcc (Ubuntu 12.2.0-17ubuntu1) 12.2.0’
* checking installed package size ... OK
* checking package directory ... OK
* checking ‘build’ directory ... OK
* checking DESCRIPTION meta-information ... OK
* checking top-level files ... OK
* checking for left-over files ... OK
* checking index information ... OK
* checking package subdirectories ... NOTE
Problems with news in ‘NEWS’:
  Cannot process chunk/lines:
    SIGNIFICANT USER-VISIBLE CHANGES
  Cannot process chunk/lines:
    DEPRECATED AND DEFUNCT
* checking R files for non-ASCII characters ... OK
* checking R files for syntax errors ... OK
* checking whether the package can be loaded ... OK
* checking whether the package can be loaded with stated dependencies ... OK
* checking whether the package can be unloaded cleanly ... OK
* checking whether the namespace can be loaded with stated dependencies ... OK
* checking whether the namespace can be unloaded cleanly ... OK
* checking loading without being on the library search path ... OK
* checking dependencies in R code ... OK
* checking S3 generic/method consistency ... OK
* checking replacement functions ... OK
* checking foreign function calls ... OK
* checking R code for possible problems ... OK
* checking Rd files ... OK
* checking Rd metadata ... OK
* checking Rd cross-references ... OK
* checking for missing documentation entries ... OK
* checking for code/documentation mismatches ... OK
* checking Rd \usage sections ... OK
* checking Rd contents ... OK
* checking for unstated dependencies in examples ... OK
* checking line endings in C/C++/Fortran sources/headers ... OK
* checking compiled code ... NOTE
Note: information on .o files is not available
* checking files in ‘vignettes’ ... OK
* checking examples ... OK
Examples with CPU (user + system) or elapsed time > 5s
                           user system elapsed
genomicvars              47.825  3.272  51.102
GPos-class               40.715  5.568  46.306
makeGRangesFromDataFrame  0.806  0.026   9.111
* checking for unstated dependencies in ‘tests’ ... OK
* checking tests ...
  Running ‘run_unitTests.R’
 OK
* checking for unstated dependencies in vignettes ... OK
* checking package vignettes in ‘inst/doc’ ... OK
* checking running R code from vignettes ...
  ‘GenomicRangesIntroduction.Rmd’ using ‘UTF-8’... OK
  ‘ExtendingGenomicRanges.Rnw’ using ‘UTF-8’... OK
  ‘GRanges_and_GRangesList_slides.Rnw’ using ‘UTF-8’... OK
  ‘GenomicRangesHOWTOs.Rnw’ using ‘UTF-8’... OK
  ‘Ten_things_slides.Rnw’ using ‘UTF-8’... OK
 OK
* checking re-building of vignette outputs ... OK
* checking PDF version of manual ... OK
* DONE

Status: 2 NOTEs
See
  ‘/home/hpages/bbs-3.18-bioc-testing/meat/GenomicRanges.Rcheck/00check.log’
for details.



Installation output

GenomicRanges.Rcheck/00install.out

##############################################################################
##############################################################################
###
### Running command:
###
###   /home/hpages/bbs-3.18-bioc/R/bin/R CMD INSTALL GenomicRanges
###
##############################################################################
##############################################################################


* installing to library ‘/home/hpages/bbs-3.18-bioc-testing/Rlibs’
* installing *source* package ‘GenomicRanges’ ...
** using staged installation
** libs
using C compiler: ‘gcc (Ubuntu 12.2.0-17ubuntu1) 12.2.0’
gcc -I"/home/hpages/bbs-3.18-bioc/R/include" -DNDEBUG  -I'/home/hpages/bbs-3.18-bioc-testing/Rlibs/S4Vectors/include' -I'/home/hpages/bbs-3.18-bioc-testing/Rlibs/IRanges/include' -I/usr/local/include    -fpic  -g -O2  -Wall -c IRanges_stubs.c -o IRanges_stubs.o
gcc -I"/home/hpages/bbs-3.18-bioc/R/include" -DNDEBUG  -I'/home/hpages/bbs-3.18-bioc-testing/Rlibs/S4Vectors/include' -I'/home/hpages/bbs-3.18-bioc-testing/Rlibs/IRanges/include' -I/usr/local/include    -fpic  -g -O2  -Wall -c R_init_GenomicRanges.c -o R_init_GenomicRanges.o
gcc -I"/home/hpages/bbs-3.18-bioc/R/include" -DNDEBUG  -I'/home/hpages/bbs-3.18-bioc-testing/Rlibs/S4Vectors/include' -I'/home/hpages/bbs-3.18-bioc-testing/Rlibs/IRanges/include' -I/usr/local/include    -fpic  -g -O2  -Wall -c S4Vectors_stubs.c -o S4Vectors_stubs.o
gcc -I"/home/hpages/bbs-3.18-bioc/R/include" -DNDEBUG  -I'/home/hpages/bbs-3.18-bioc-testing/Rlibs/S4Vectors/include' -I'/home/hpages/bbs-3.18-bioc-testing/Rlibs/IRanges/include' -I/usr/local/include    -fpic  -g -O2  -Wall -c transcript_utils.c -o transcript_utils.o
In function ‘tloc2rloc’,
    inlined from ‘tlocs2rlocs’ at transcript_utils.c:208:26:
transcript_utils.c:143:45: warning: ‘end’ may be used uninitialized [-Wmaybe-uninitialized]
  143 |         return on_minus_strand ? end - tloc : start + tloc;
      |                ~~~~~~~~~~~~~~~~~~~~~~~~~~~~~^~~~~~~~~~~~~~
transcript_utils.c: In function ‘tlocs2rlocs’:
transcript_utils.c:120:31: note: ‘end’ was declared here
  120 |         int nexons, j, start, end, width;
      |                               ^~~
In function ‘tloc2rloc’,
    inlined from ‘tlocs2rlocs’ at transcript_utils.c:208:26:
transcript_utils.c:143:45: warning: ‘start’ may be used uninitialized [-Wmaybe-uninitialized]
  143 |         return on_minus_strand ? end - tloc : start + tloc;
      |                ~~~~~~~~~~~~~~~~~~~~~~~~~~~~~^~~~~~~~~~~~~~
transcript_utils.c: In function ‘tlocs2rlocs’:
transcript_utils.c:120:24: note: ‘start’ was declared here
  120 |         int nexons, j, start, end, width;
      |                        ^~~~~
gcc -shared -L/usr/local/lib -o GenomicRanges.so IRanges_stubs.o R_init_GenomicRanges.o S4Vectors_stubs.o transcript_utils.o
installing to /home/hpages/bbs-3.18-bioc-testing/Rlibs/00LOCK-GenomicRanges/00new/GenomicRanges/libs
** R
** inst
** byte-compile and prepare package for lazy loading
** help
*** installing help indices
** building package indices
** installing vignettes
** testing if installed package can be loaded from temporary location
** checking absolute paths in shared objects and dynamic libraries
** testing if installed package can be loaded from final location
** testing if installed package keeps a record of temporary installation path
* DONE (GenomicRanges)

Tests output

GenomicRanges.Rcheck/tests/run_unitTests.Rout


R version 4.3.0 Patched (2023-05-23 r84466) -- "Already Tomorrow"
Copyright (C) 2023 The R Foundation for Statistical Computing
Platform: x86_64-pc-linux-gnu (64-bit)

R is free software and comes with ABSOLUTELY NO WARRANTY.
You are welcome to redistribute it under certain conditions.
Type 'license()' or 'licence()' for distribution details.

R is a collaborative project with many contributors.
Type 'contributors()' for more information and
'citation()' on how to cite R or R packages in publications.

Type 'demo()' for some demos, 'help()' for on-line help, or
'help.start()' for an HTML browser interface to help.
Type 'q()' to quit R.

> require("GenomicRanges") || stop("unable to load GenomicRanges package")
Loading required package: GenomicRanges
Loading required package: stats4
Loading required package: BiocGenerics

Attaching package: 'BiocGenerics'

The following objects are masked from 'package:stats':

    IQR, mad, sd, var, xtabs

The following objects are masked from 'package:base':

    Filter, Find, Map, Position, Reduce, anyDuplicated, aperm, append,
    as.data.frame, basename, cbind, colnames, dirname, do.call,
    duplicated, eval, evalq, get, grep, grepl, intersect, is.unsorted,
    lapply, mapply, match, mget, order, paste, pmax, pmax.int, pmin,
    pmin.int, rank, rbind, rownames, sapply, setdiff, sort, table,
    tapply, union, unique, unsplit, which.max, which.min

Loading required package: S4Vectors

Attaching package: 'S4Vectors'

The following object is masked from 'package:utils':

    findMatches

The following objects are masked from 'package:base':

    I, expand.grid, unname

Loading required package: IRanges
Loading required package: GenomeInfoDb
[1] TRUE
> GenomicRanges:::.test()


RUNIT TEST PROTOCOL -- Thu Jun  1 13:12:23 2023 
*********************************************** 
Number of test functions: 73 
Number of errors: 0 
Number of failures: 0 

 
1 Test Suite : 
GenomicRanges RUnit Tests - 73 test functions, 0 errors, 0 failures
Number of test functions: 73 
Number of errors: 0 
Number of failures: 0 
> 
> proc.time()
   user  system elapsed 
 45.397   0.223  45.605 

Example timings

GenomicRanges.Rcheck/GenomicRanges-Ex.timings

nameusersystemelapsed
GNCList-class0.3620.0510.413
GPos-class40.715 5.56846.306
GRanges-class0.8280.0040.832
GRangesFactor-class0.4480.0360.484
GRangesList-class1.3370.0881.425
GenomicRanges-comparison0.2180.0000.218
absoluteRanges1.1040.0481.152
constraint0.8380.0000.838
coverage-methods0.2510.0000.251
findOverlaps-methods1.7520.0041.755
genomic-range-squeezers000
genomicvars47.825 3.27251.102
inter-range-methods2.4910.0082.499
intra-range-methods0.5870.0160.603
makeGRangesFromDataFrame0.8060.0269.111
makeGRangesListFromDataFrame0.1230.0000.123
nearest-methods1.6750.0001.676
phicoef0.0020.0000.002
setops-methods3.1400.0083.149
strand-utils0.0960.0000.095
subtract-methods0.2320.0000.232
tile-methods0.0970.0040.102
tileGenome0.3730.0040.378