Back to First build/check report with an "external build node"

This page was generated on 2023-06-01 18:17:19 -0400 (Thu, 01 Jun 2023).

HostnameOSArch (*)R versionInstalled pkgs
xps15Linux (Ubuntu 23.04)x86_644.3.0 Patched (2023-05-23 r84466) -- "Already Tomorrow" 544
Click on any hostname to see more info about the system (e.g. compilers)      (*) as reported by 'uname -p', except on Windows and Mac OS X

CHECK results for ProtGenerics on xps15


To the developers/maintainers of the ProtGenerics package:
Use the following Renviron settings to reproduce errors and warnings.

Note: If "R CMD check" recently failed on the Linux builder over a missing dependency, add the missing dependency to "Suggests" in your DESCRIPTION file. See the Renviron.bioc for details.

raw results

Package 64/91HostnameOS / ArchINSTALLBUILDCHECKBUILD BIN
ProtGenerics 1.33.0  (landing page)
Laurent Gatto
Snapshot Date: 2023-06-01 15:10:15 -0400 (Thu, 01 Jun 2023)
git_url: https://git.bioconductor.org/packages/ProtGenerics
git_branch: devel
git_last_commit: 060c0c7
git_last_commit_date: 2023-04-25 10:37:44 -0400 (Tue, 25 Apr 2023)
xps15Linux (Ubuntu 23.04) / x86_64  OK    OK    OK  

Summary

Package: ProtGenerics
Version: 1.33.0
Command: /home/hpages/bbs-3.18-bioc/R/bin/R CMD check --install=check:ProtGenerics.install-out.txt --library=/home/hpages/bbs-3.18-bioc-testing/Rlibs --timings ProtGenerics_1.33.0.tar.gz
StartedAt: 2023-06-01 13:19:40 -0700 (Thu, 01 Jun 2023)
EndedAt: 2023-06-01 13:20:02 -0700 (Thu, 01 Jun 2023)
EllapsedTime: 22.0 seconds
RetCode: 0
Status:   OK  
CheckDir: ProtGenerics.Rcheck
Warnings: 0

Command output

##############################################################################
##############################################################################
###
### Running command:
###
###   /home/hpages/bbs-3.18-bioc/R/bin/R CMD check --install=check:ProtGenerics.install-out.txt --library=/home/hpages/bbs-3.18-bioc-testing/Rlibs --timings ProtGenerics_1.33.0.tar.gz
###
##############################################################################
##############################################################################


* using log directory ‘/home/hpages/bbs-3.18-bioc-testing/meat/ProtGenerics.Rcheck’
* using R version 4.3.0 Patched (2023-05-23 r84466)
* using platform: x86_64-pc-linux-gnu (64-bit)
* R was compiled by
    gcc (Ubuntu 12.2.0-17ubuntu1) 12.2.0
    GNU Fortran (Ubuntu 12.2.0-17ubuntu1) 12.2.0
* running under: Ubuntu 23.04
* using session charset: UTF-8
* checking for file ‘ProtGenerics/DESCRIPTION’ ... OK
* this is package ‘ProtGenerics’ version ‘1.33.0’
* checking package namespace information ... OK
* checking package dependencies ... OK
* checking if this is a source package ... OK
* checking if there is a namespace ... OK
* checking for hidden files and directories ... OK
* checking for portable file names ... OK
* checking for sufficient/correct file permissions ... OK
* checking whether package ‘ProtGenerics’ can be installed ... OK
* checking installed package size ... OK
* checking package directory ... OK
* checking DESCRIPTION meta-information ... OK
* checking top-level files ... OK
* checking for left-over files ... OK
* checking index information ... OK
* checking package subdirectories ... OK
* checking R files for non-ASCII characters ... OK
* checking R files for syntax errors ... OK
* checking whether the package can be loaded ... OK
* checking whether the package can be loaded with stated dependencies ... OK
* checking whether the package can be unloaded cleanly ... OK
* checking whether the namespace can be loaded with stated dependencies ... OK
* checking whether the namespace can be unloaded cleanly ... OK
* checking loading without being on the library search path ... OK
* checking dependencies in R code ... OK
* checking S3 generic/method consistency ... OK
* checking replacement functions ... OK
* checking foreign function calls ... OK
* checking R code for possible problems ... OK
* checking Rd files ... OK
* checking Rd metadata ... OK
* checking Rd cross-references ... OK
* checking for missing documentation entries ... OK
* checking for code/documentation mismatches ... OK
* checking Rd \usage sections ... OK
* checking Rd contents ... OK
* checking for unstated dependencies in examples ... OK
* checking examples ... OK
* checking for unstated dependencies in ‘tests’ ... OK
* checking tests ...
  Running ‘testthat.R’
 OK
* checking PDF version of manual ... OK
* DONE

Status: OK


Installation output

ProtGenerics.Rcheck/00install.out

##############################################################################
##############################################################################
###
### Running command:
###
###   /home/hpages/bbs-3.18-bioc/R/bin/R CMD INSTALL ProtGenerics
###
##############################################################################
##############################################################################


* installing to library ‘/home/hpages/bbs-3.18-bioc-testing/Rlibs’
* installing *source* package ‘ProtGenerics’ ...
** using staged installation
** R
** byte-compile and prepare package for lazy loading
Creating a new generic function for ‘smooth’ in package ‘ProtGenerics’
** help
*** installing help indices
** building package indices
** testing if installed package can be loaded from temporary location
** testing if installed package can be loaded from final location
** testing if installed package keeps a record of temporary installation path
* DONE (ProtGenerics)

Tests output

ProtGenerics.Rcheck/tests/testthat.Rout


R version 4.3.0 Patched (2023-05-23 r84466) -- "Already Tomorrow"
Copyright (C) 2023 The R Foundation for Statistical Computing
Platform: x86_64-pc-linux-gnu (64-bit)

R is free software and comes with ABSOLUTELY NO WARRANTY.
You are welcome to redistribute it under certain conditions.
Type 'license()' or 'licence()' for distribution details.

R is a collaborative project with many contributors.
Type 'contributors()' for more information and
'citation()' on how to cite R or R packages in publications.

Type 'demo()' for some demos, 'help()' for on-line help, or
'help.start()' for an HTML browser interface to help.
Type 'q()' to quit R.

> library("testthat")
> library("ProtGenerics")

Attaching package: 'ProtGenerics'

The following object is masked from 'package:stats':

    smooth

> 
> test_check("ProtGenerics")
[ FAIL 0 | WARN 0 | SKIP 0 | PASS 11 ]
> 
> proc.time()
   user  system elapsed 
  1.058   0.111   1.150 

Example timings

ProtGenerics.Rcheck/ProtGenerics-Ex.timings

nameusersystemelapsed
ProcessingStep0.0040.0000.003
protgenerics0.0000.0010.002