Back to First build/check report with an "external build node" |
This page was generated on 2023-06-01 18:17:19 -0400 (Thu, 01 Jun 2023).
Hostname | OS | Arch (*) | R version | Installed pkgs |
---|---|---|---|---|
xps15 | Linux (Ubuntu 23.04) | x86_64 | 4.3.0 Patched (2023-05-23 r84466) -- "Already Tomorrow" | 544 |
Click on any hostname to see more info about the system (e.g. compilers) (*) as reported by 'uname -p', except on Windows and Mac OS X |
To the developers/maintainers of the RProtoBufLib package: Use the following Renviron settings to reproduce errors and warnings. Note: If "R CMD check" recently failed on the Linux builder over a missing dependency, add the missing dependency to "Suggests" in your DESCRIPTION file. See the Renviron.bioc for details. |
Package 73/91 | Hostname | OS / Arch | INSTALL | BUILD | CHECK | BUILD BIN | |||||||
RProtoBufLib 2.13.0 (landing page) Mike Jiang
| xps15 | Linux (Ubuntu 23.04) / x86_64 | OK | OK | WARNINGS | ||||||||
Package: RProtoBufLib |
Version: 2.13.0 |
Command: /home/hpages/bbs-3.18-bioc/R/bin/R CMD build --keep-empty-dirs --no-resave-data RProtoBufLib |
StartedAt: 2023-06-01 12:46:57 -0700 (Thu, 01 Jun 2023) |
EndedAt: 2023-06-01 12:54:06 -0700 (Thu, 01 Jun 2023) |
EllapsedTime: 428.6 seconds |
RetCode: 0 |
Status: OK |
PackageFile: RProtoBufLib_2.13.0.tar.gz |
PackageFileSize: 2.828 MiB |
############################################################################## ############################################################################## ### ### Running command: ### ### /home/hpages/bbs-3.18-bioc/R/bin/R CMD build --keep-empty-dirs --no-resave-data RProtoBufLib ### ############################################################################## ############################################################################## * checking for file ‘RProtoBufLib/DESCRIPTION’ ... OK * preparing ‘RProtoBufLib’: * checking DESCRIPTION meta-information ... OK * cleaning src * running ‘cleanup’ * installing the package to build vignettes * creating vignettes ... OK * cleaning src * running ‘cleanup’ * checking for LF line-endings in source and make files and shell scripts * checking for empty or unneeded directories * building ‘RProtoBufLib_2.13.0.tar.gz’