Back to First build/check report with an "external build node"

This page was generated on 2023-06-01 18:17:19 -0400 (Thu, 01 Jun 2023).

HostnameOSArch (*)R versionInstalled pkgs
xps15Linux (Ubuntu 23.04)x86_644.3.0 Patched (2023-05-23 r84466) -- "Already Tomorrow" 544
Click on any hostname to see more info about the system (e.g. compilers)      (*) as reported by 'uname -p', except on Windows and Mac OS X

CHECK results for fishpond on xps15


To the developers/maintainers of the fishpond package:
Use the following Renviron settings to reproduce errors and warnings.

Note: If "R CMD check" recently failed on the Linux builder over a missing dependency, add the missing dependency to "Suggests" in your DESCRIPTION file. See the Renviron.bioc for details.

raw results

Package 35/91HostnameOS / ArchINSTALLBUILDCHECKBUILD BIN
fishpond 2.7.0  (landing page)
Michael Love
Snapshot Date: 2023-06-01 15:10:15 -0400 (Thu, 01 Jun 2023)
git_url: https://git.bioconductor.org/packages/fishpond
git_branch: devel
git_last_commit: d3f7fb4
git_last_commit_date: 2023-04-25 11:08:06 -0400 (Tue, 25 Apr 2023)
xps15Linux (Ubuntu 23.04) / x86_64  OK    OK    OK  

Summary

Package: fishpond
Version: 2.7.0
Command: /home/hpages/bbs-3.18-bioc/R/bin/R CMD check --install=check:fishpond.install-out.txt --library=/home/hpages/bbs-3.18-bioc-testing/Rlibs --timings fishpond_2.7.0.tar.gz
StartedAt: 2023-06-01 13:02:54 -0700 (Thu, 01 Jun 2023)
EndedAt: 2023-06-01 13:12:18 -0700 (Thu, 01 Jun 2023)
EllapsedTime: 564.3 seconds
RetCode: 0
Status:   OK  
CheckDir: fishpond.Rcheck
Warnings: 0

Command output

##############################################################################
##############################################################################
###
### Running command:
###
###   /home/hpages/bbs-3.18-bioc/R/bin/R CMD check --install=check:fishpond.install-out.txt --library=/home/hpages/bbs-3.18-bioc-testing/Rlibs --timings fishpond_2.7.0.tar.gz
###
##############################################################################
##############################################################################


* using log directory ‘/home/hpages/bbs-3.18-bioc-testing/meat/fishpond.Rcheck’
* using R version 4.3.0 Patched (2023-05-23 r84466)
* using platform: x86_64-pc-linux-gnu (64-bit)
* R was compiled by
    gcc (Ubuntu 12.2.0-17ubuntu1) 12.2.0
    GNU Fortran (Ubuntu 12.2.0-17ubuntu1) 12.2.0
* running under: Ubuntu 23.04
* using session charset: UTF-8
* checking for file ‘fishpond/DESCRIPTION’ ... OK
* this is package ‘fishpond’ version ‘2.7.0’
* package encoding: UTF-8
* checking package namespace information ... OK
* checking package dependencies ... OK
* checking if this is a source package ... OK
* checking if there is a namespace ... OK
* checking for hidden files and directories ... OK
* checking for portable file names ... OK
* checking for sufficient/correct file permissions ... OK
* checking whether package ‘fishpond’ can be installed ... OK
* checking installed package size ... OK
* checking package directory ... OK
* checking ‘build’ directory ... OK
* checking DESCRIPTION meta-information ... OK
* checking top-level files ... OK
* checking for left-over files ... OK
* checking index information ... OK
* checking package subdirectories ... OK
* checking R files for non-ASCII characters ... OK
* checking R files for syntax errors ... OK
* checking whether the package can be loaded ... OK
* checking whether the package can be loaded with stated dependencies ... OK
* checking whether the package can be unloaded cleanly ... OK
* checking whether the namespace can be loaded with stated dependencies ... OK
* checking whether the namespace can be unloaded cleanly ... OK
* checking loading without being on the library search path ... OK
* checking dependencies in R code ... NOTE
Unexported objects imported by ':::' calls:
  'samr:::localfdr' 'samr:::predictlocalfdr' 'samr:::qvalue.func'
  'samr:::samr.compute.delta.table.seq'
  See the note in ?`:::` about the use of this operator.
* checking S3 generic/method consistency ... OK
* checking replacement functions ... OK
* checking foreign function calls ... OK
* checking R code for possible problems ... OK
* checking Rd files ... OK
* checking Rd metadata ... OK
* checking Rd cross-references ... OK
* checking for missing documentation entries ... OK
* checking for code/documentation mismatches ... OK
* checking Rd \usage sections ... OK
* checking Rd contents ... OK
* checking for unstated dependencies in examples ... OK
* checking files in ‘vignettes’ ... OK
* checking examples ... OK
* checking for unstated dependencies in ‘tests’ ... OK
* checking tests ...
  Running ‘testthat.R’
 OK
* checking for unstated dependencies in vignettes ... OK
* checking package vignettes in ‘inst/doc’ ... OK
* checking running R code from vignettes ...
  ‘allelic.Rmd’ using ‘UTF-8’... OK
  ‘swish.Rmd’ using ‘UTF-8’... OK
 NONE
* checking re-building of vignette outputs ... OK
* checking PDF version of manual ... OK
* DONE

Status: 1 NOTE
See
  ‘/home/hpages/bbs-3.18-bioc-testing/meat/fishpond.Rcheck/00check.log’
for details.



Installation output

fishpond.Rcheck/00install.out

##############################################################################
##############################################################################
###
### Running command:
###
###   /home/hpages/bbs-3.18-bioc/R/bin/R CMD INSTALL fishpond
###
##############################################################################
##############################################################################


* installing to library ‘/home/hpages/bbs-3.18-bioc-testing/Rlibs’
* installing *source* package ‘fishpond’ ...
** using staged installation
** R
** inst
** byte-compile and prepare package for lazy loading
** help
*** installing help indices
*** copying figures
** building package indices
** installing vignettes
** testing if installed package can be loaded from temporary location
** testing if installed package can be loaded from final location
** testing if installed package keeps a record of temporary installation path
* DONE (fishpond)

Tests output

fishpond.Rcheck/tests/testthat.Rout


R version 4.3.0 Patched (2023-05-23 r84466) -- "Already Tomorrow"
Copyright (C) 2023 The R Foundation for Statistical Computing
Platform: x86_64-pc-linux-gnu (64-bit)

R is free software and comes with ABSOLUTELY NO WARRANTY.
You are welcome to redistribute it under certain conditions.
Type 'license()' or 'licence()' for distribution details.

R is a collaborative project with many contributors.
Type 'contributors()' for more information and
'citation()' on how to cite R or R packages in publications.

Type 'demo()' for some demos, 'help()' for on-line help, or
'help.start()' for an HTML browser interface to help.
Type 'q()' to quit R.

> library(testthat)
> library(fishpond)
> 
> test_check("fishpond")
Progress: 1 on 2  Progress: 2 on 2  [ FAIL 0 | WARN 0 | SKIP 6 | PASS 43 ]

══ Skipped tests ═══════════════════════════════════════════════════════════════
• empty test (6)

[ FAIL 0 | WARN 0 | SKIP 6 | PASS 43 ]
> 
> proc.time()
   user  system elapsed 
 66.645   1.103  66.204 

Example timings

fishpond.Rcheck/fishpond-Ex.timings

nameusersystemelapsed
deswish0.1080.0160.124
getTrace0.210.000.21
labelKeep0.8280.0080.836
loadFry0.6420.0160.657
makeInfReps0.1730.0280.202
makeSimSwishData0.1500.0110.162
makeTx2Tss000
plotInfReps0.2560.0250.280
plotMASwish1.9810.0111.992
scaleInfReps0.3460.0010.346
swish0.9740.0070.982