Back to First build/check report with an "external build node"

This page was generated on 2023-06-01 18:17:19 -0400 (Thu, 01 Jun 2023).

HostnameOSArch (*)R versionInstalled pkgs
xps15Linux (Ubuntu 23.04)x86_644.3.0 Patched (2023-05-23 r84466) -- "Already Tomorrow" 544
Click on any hostname to see more info about the system (e.g. compilers)      (*) as reported by 'uname -p', except on Windows and Mac OS X

BUILD results for gdsfmt on xps15


To the developers/maintainers of the gdsfmt package:
Use the following Renviron settings to reproduce errors and warnings.

Note: If "R CMD check" recently failed on the Linux builder over a missing dependency, add the missing dependency to "Suggests" in your DESCRIPTION file. See the Renviron.bioc for details.

raw results

Package 37/91HostnameOS / ArchINSTALLBUILDCHECKBUILD BIN
gdsfmt 1.37.0  (landing page)
Xiuwen Zheng
Snapshot Date: 2023-06-01 15:10:15 -0400 (Thu, 01 Jun 2023)
git_url: https://git.bioconductor.org/packages/gdsfmt
git_branch: devel
git_last_commit: 4918bd4
git_last_commit_date: 2023-04-25 10:37:10 -0400 (Tue, 25 Apr 2023)
xps15Linux (Ubuntu 23.04) / x86_64  OK    OK    OK  

Summary

Package: gdsfmt
Version: 1.37.0
Command: /home/hpages/bbs-3.18-bioc/R/bin/R CMD build --keep-empty-dirs --no-resave-data gdsfmt
StartedAt: 2023-06-01 12:41:08 -0700 (Thu, 01 Jun 2023)
EndedAt: 2023-06-01 12:46:52 -0700 (Thu, 01 Jun 2023)
EllapsedTime: 344.1 seconds
RetCode: 0
Status:   OK  
PackageFile: gdsfmt_1.37.0.tar.gz
PackageFileSize: 2.796 MiB

Command output

##############################################################################
##############################################################################
###
### Running command:
###
###   /home/hpages/bbs-3.18-bioc/R/bin/R CMD build --keep-empty-dirs --no-resave-data gdsfmt
###
##############################################################################
##############################################################################


* checking for file ‘gdsfmt/DESCRIPTION’ ... OK
* preparing ‘gdsfmt’:
* checking DESCRIPTION meta-information ... OK
* cleaning src
* installing the package to build vignettes
* creating vignettes ... OK
* cleaning src
* checking for LF line-endings in source and make files and shell scripts
* checking for empty or unneeded directories
* building ‘gdsfmt_1.37.0.tar.gz’