Back to First build/check report with an "external build node" |
This page was generated on 2023-06-01 18:17:19 -0400 (Thu, 01 Jun 2023).
Hostname | OS | Arch (*) | R version | Installed pkgs |
---|---|---|---|---|
xps15 | Linux (Ubuntu 23.04) | x86_64 | 4.3.0 Patched (2023-05-23 r84466) -- "Already Tomorrow" | 544 |
Click on any hostname to see more info about the system (e.g. compilers) (*) as reported by 'uname -p', except on Windows and Mac OS X |
To the developers/maintainers of the impute package: Use the following Renviron settings to reproduce errors and warnings. Note: If "R CMD check" recently failed on the Linux builder over a missing dependency, add the missing dependency to "Suggests" in your DESCRIPTION file. See the Renviron.bioc for details. |
Package 49/91 | Hostname | OS / Arch | INSTALL | BUILD | CHECK | BUILD BIN | |||||||
impute 1.75.1 (landing page) Balasubramanian Narasimhan
| xps15 | Linux (Ubuntu 23.04) / x86_64 | OK | OK | OK | ||||||||
Package: impute |
Version: 1.75.1 |
Command: /home/hpages/bbs-3.18-bioc/R/bin/R CMD INSTALL impute |
StartedAt: 2023-06-01 12:18:53 -0700 (Thu, 01 Jun 2023) |
EndedAt: 2023-06-01 12:18:56 -0700 (Thu, 01 Jun 2023) |
EllapsedTime: 3.0 seconds |
RetCode: 0 |
Status: OK |
############################################################################## ############################################################################## ### ### Running command: ### ### /home/hpages/bbs-3.18-bioc/R/bin/R CMD INSTALL impute ### ############################################################################## ############################################################################## * installing to library ‘/home/hpages/bbs-3.18-bioc-testing/Rlibs’ * installing *source* package ‘impute’ ... ** using staged installation ** libs using Fortran compiler: ‘GNU Fortran (Ubuntu 12.2.0-17ubuntu1) 12.2.0’ gfortran -fpic -g -O2 -Wall -c knnimpute.f -o knnimpute.o f951: Warning: Nonconforming tab character in column 1 of line 89 [-Wtabs] f951: Warning: Nonconforming tab character in column 1 of line 91 [-Wtabs] f951: Warning: Nonconforming tab character in column 1 of line 92 [-Wtabs] f951: Warning: Nonconforming tab character in column 1 of line 93 [-Wtabs] f951: Warning: Nonconforming tab character in column 1 of line 94 [-Wtabs] f951: Warning: Nonconforming tab character in column 1 of line 95 [-Wtabs] f951: Warning: Nonconforming tab character in column 1 of line 96 [-Wtabs] f951: Warning: Nonconforming tab character in column 1 of line 97 [-Wtabs] f951: Warning: Nonconforming tab character in column 1 of line 98 [-Wtabs] f951: Warning: Nonconforming tab character in column 3 of line 99 [-Wtabs] f951: Warning: Nonconforming tab character in column 1 of line 100 [-Wtabs] f951: Warning: Nonconforming tab character in column 1 of line 101 [-Wtabs] f951: Warning: Nonconforming tab character in column 1 of line 102 [-Wtabs] f951: Warning: Nonconforming tab character in column 1 of line 103 [-Wtabs] f951: Warning: Nonconforming tab character in column 3 of line 104 [-Wtabs] f951: Warning: Nonconforming tab character in column 1 of line 105 [-Wtabs] f951: Warning: Nonconforming tab character in column 1 of line 106 [-Wtabs] f951: Warning: Nonconforming tab character in column 1 of line 107 [-Wtabs] f951: Warning: Nonconforming tab character in column 1 of line 108 [-Wtabs] f951: Warning: Nonconforming tab character in column 1 of line 109 [-Wtabs] f951: Warning: Nonconforming tab character in column 1 of line 110 [-Wtabs] f951: Warning: Nonconforming tab character in column 1 of line 111 [-Wtabs] f951: Warning: Nonconforming tab character in column 1 of line 112 [-Wtabs] f951: Warning: Nonconforming tab character in column 3 of line 113 [-Wtabs] f951: Warning: Nonconforming tab character in column 1 of line 114 [-Wtabs] f951: Warning: Nonconforming tab character in column 1 of line 115 [-Wtabs] f951: Warning: Nonconforming tab character in column 1 of line 116 [-Wtabs] f951: Warning: Nonconforming tab character in column 1 of line 117 [-Wtabs] f951: Warning: Nonconforming tab character in column 3 of line 118 [-Wtabs] f951: Warning: Nonconforming tab character in column 3 of line 119 [-Wtabs] f951: Warning: Nonconforming tab character in column 3 of line 120 [-Wtabs] f951: Warning: Nonconforming tab character in column 1 of line 121 [-Wtabs] f951: Warning: Nonconforming tab character in column 1 of line 122 [-Wtabs] knnimpute.f:99:72: 99 | 20 pos(k1+1) = pos(k1) | 1 Warning: Fortran 2018 deleted feature: DO termination statement which is not END DO or CONTINUE with label 20 at (1) knnimpute.f:113:72: 113 | 35 pos(k1+1) = pos(k1) | 1 Warning: Fortran 2018 deleted feature: DO termination statement which is not END DO or CONTINUE with label 35 at (1) knnimpute.f:168:72: 168 | ratio=dabs(dnew-dold)/dold | ^ Warning: ‘dold’ may be used uninitialized [-Wmaybe-uninitialized] knnimpute.f:132:33: 132 | double precision ratio,dold,dnew | ^ note: ‘dold’ was declared here gcc -shared -L/usr/local/lib -o impute.so knnimpute.o -lgfortran -lm -lquadmath installing to /home/hpages/bbs-3.18-bioc-testing/Rlibs/00LOCK-impute/00new/impute/libs ** R ** data ** byte-compile and prepare package for lazy loading ** help *** installing help indices ** building package indices ** testing if installed package can be loaded from temporary location ** checking absolute paths in shared objects and dynamic libraries ** testing if installed package can be loaded from final location ** testing if installed package keeps a record of temporary installation path * DONE (impute)