Back to First build/check report with an "external build node" |
This page was generated on 2023-06-01 18:17:19 -0400 (Thu, 01 Jun 2023).
Hostname | OS | Arch (*) | R version | Installed pkgs |
---|---|---|---|---|
xps15 | Linux (Ubuntu 23.04) | x86_64 | 4.3.0 Patched (2023-05-23 r84466) -- "Already Tomorrow" | 544 |
Click on any hostname to see more info about the system (e.g. compilers) (*) as reported by 'uname -p', except on Windows and Mac OS X |
To the developers/maintainers of the sparseMatrixStats package: Use the following Renviron settings to reproduce errors and warnings. Note: If "R CMD check" recently failed on the Linux builder over a missing dependency, add the missing dependency to "Suggests" in your DESCRIPTION file. See the Renviron.bioc for details. |
Package 81/91 | Hostname | OS / Arch | INSTALL | BUILD | CHECK | BUILD BIN | |||||||
sparseMatrixStats 1.13.0 (landing page) Constantin Ahlmann-Eltze
| xps15 | Linux (Ubuntu 23.04) / x86_64 | OK | OK | OK | ||||||||
Package: sparseMatrixStats |
Version: 1.13.0 |
Command: /home/hpages/bbs-3.18-bioc/R/bin/R CMD INSTALL sparseMatrixStats |
StartedAt: 2023-06-01 12:21:19 -0700 (Thu, 01 Jun 2023) |
EndedAt: 2023-06-01 12:22:03 -0700 (Thu, 01 Jun 2023) |
EllapsedTime: 43.4 seconds |
RetCode: 0 |
Status: OK |
############################################################################## ############################################################################## ### ### Running command: ### ### /home/hpages/bbs-3.18-bioc/R/bin/R CMD INSTALL sparseMatrixStats ### ############################################################################## ############################################################################## * installing to library ‘/home/hpages/bbs-3.18-bioc-testing/Rlibs’ * installing *source* package ‘sparseMatrixStats’ ... ** using staged installation ** libs using C++ compiler: ‘g++ (Ubuntu 12.2.0-17ubuntu1) 12.2.0’ using C++11 g++ -std=gnu++11 -I"/home/hpages/bbs-3.18-bioc/R/include" -DNDEBUG -I'/home/hpages/bbs-3.18-bioc/R/site-library/Rcpp/include' -I/usr/local/include -fpic -g -O2 -Wall -c RcppExports.cpp -o RcppExports.o g++ -std=gnu++11 -I"/home/hpages/bbs-3.18-bioc/R/include" -DNDEBUG -I'/home/hpages/bbs-3.18-bioc/R/site-library/Rcpp/include' -I/usr/local/include -fpic -g -O2 -Wall -c SparseMatrixView.cpp -o SparseMatrixView.o g++ -std=gnu++11 -I"/home/hpages/bbs-3.18-bioc/R/include" -DNDEBUG -I'/home/hpages/bbs-3.18-bioc/R/site-library/Rcpp/include' -I/usr/local/include -fpic -g -O2 -Wall -c methods.cpp -o methods.o In file included from methods.cpp:6: quantile.h: In instantiation of ‘double quantile_sparse_impl(T, int, double) [with T = VectorSubsetView<14>]’: quantile.h:85:58: required from here quantile.h:35:20: warning: comparison of integer expressions of different signedness: ‘int’ and ‘std::vector<double>::size_type’ {aka ‘long unsigned int’} [-Wsign-compare] 35 | for(int i = 0; i < sorted_values.size() + number_of_zeros; i++){ | ~~^~~~~~~~~~~~~~~~~~~~~~~~~~~~~~~~~~~~~~~~ methods.cpp: In instantiation of ‘double colOrderStats::operator()(V&, R&, int) const [with V = SkipNAVectorSubsetView<14>; R = SkipNAVectorSubsetView<13>]’: methods.cpp:25:18: required from ‘Rcpp::NumericVector reduce_matrix_double(Rcpp::S4, bool, Functor) [with Functor = colOrderStats; Rcpp::NumericVector = Rcpp::Vector<14, Rcpp::PreserveStorage>; Rcpp::S4 = Rcpp::S4_Impl<Rcpp::PreserveStorage>]’ methods.cpp:510:30: required from here methods.cpp:475:22: warning: comparison of integer expressions of different signedness: ‘int’ and ‘std::vector<double>::size_type’ {aka ‘long unsigned int’} [-Wsign-compare] 475 | for(int i = 0; i < sorted_values.size() + number_of_zeros; i++){ | ~~^~~~~~~~~~~~~~~~~~~~~~~~~~~~~~~~~~~~~~~~ methods.cpp: In instantiation of ‘double colOrderStats::operator()(V&, R&, int) const [with V = VectorSubsetView<14>; R = VectorSubsetView<13>]’: methods.cpp:30:18: required from ‘Rcpp::NumericVector reduce_matrix_double(Rcpp::S4, bool, Functor) [with Functor = colOrderStats; Rcpp::NumericVector = Rcpp::Vector<14, Rcpp::PreserveStorage>; Rcpp::S4 = Rcpp::S4_Impl<Rcpp::PreserveStorage>]’ methods.cpp:510:30: required from here methods.cpp:475:22: warning: comparison of integer expressions of different signedness: ‘int’ and ‘std::vector<double>::size_type’ {aka ‘long unsigned int’} [-Wsign-compare] quantile.h: In instantiation of ‘double quantile_sparse_impl(T, int, double) [with T = SkipNAVectorSubsetView<14>]’: methods.cpp:269:32: required from ‘double colMedians::operator()(V&, R&, int) const [with V = SkipNAVectorSubsetView<14>; R = SkipNAVectorSubsetView<13>]’ methods.cpp:25:18: required from ‘Rcpp::NumericVector reduce_matrix_double(Rcpp::S4, bool, Functor) [with Functor = colMedians; Rcpp::NumericVector = Rcpp::Vector<14, Rcpp::PreserveStorage>; Rcpp::S4 = Rcpp::S4_Impl<Rcpp::PreserveStorage>]’ methods.cpp:277:30: required from here quantile.h:35:20: warning: comparison of integer expressions of different signedness: ‘int’ and ‘std::vector<double>::size_type’ {aka ‘long unsigned int’} [-Wsign-compare] 35 | for(int i = 0; i < sorted_values.size() + number_of_zeros; i++){ | ~~^~~~~~~~~~~~~~~~~~~~~~~~~~~~~~~~~~~~~~~~ g++ -std=gnu++11 -I"/home/hpages/bbs-3.18-bioc/R/include" -DNDEBUG -I'/home/hpages/bbs-3.18-bioc/R/site-library/Rcpp/include' -I/usr/local/include -fpic -g -O2 -Wall -c row_methods.cpp -o row_methods.o g++ -std=gnu++11 -shared -L/usr/local/lib -o sparseMatrixStats.so RcppExports.o SparseMatrixView.o methods.o row_methods.o installing to /home/hpages/bbs-3.18-bioc-testing/Rlibs/00LOCK-sparseMatrixStats/00new/sparseMatrixStats/libs ** R ** byte-compile and prepare package for lazy loading ** help *** installing help indices *** copying figures ** building package indices ** installing vignettes ** testing if installed package can be loaded from temporary location ** checking absolute paths in shared objects and dynamic libraries ** testing if installed package can be loaded from final location ** testing if installed package keeps a record of temporary installation path * DONE (sparseMatrixStats)