Back to Multiple platform build/check report for BioC 3.20:   simplified   long
A[B]CDEFGHIJKLMNOPQRSTUVWXYZ

This page was generated on 2025-02-06 12:09 -0500 (Thu, 06 Feb 2025).

HostnameOSArch (*)R versionInstalled pkgs
nebbiolo2Linux (Ubuntu 24.04.1 LTS)x86_644.4.2 (2024-10-31) -- "Pile of Leaves" 4753
palomino8Windows Server 2022 Datacenterx644.4.2 (2024-10-31 ucrt) -- "Pile of Leaves" 4501
merida1macOS 12.7.5 Montereyx86_644.4.2 (2024-10-31) -- "Pile of Leaves" 4524
kjohnson1macOS 13.6.6 Venturaarm644.4.2 (2024-10-31) -- "Pile of Leaves" 4476
taishanLinux (openEuler 24.03 LTS)aarch644.4.2 (2024-10-31) -- "Pile of Leaves" 4407
Click on any hostname to see more info about the system (e.g. compilers)      (*) as reported by 'uname -p', except on Windows and Mac OS X

Package 170/2289HostnameOS / ArchINSTALLBUILDCHECKBUILD BIN
BindingSiteFinder 2.4.0  (landing page)
Mirko Brüggemann
Snapshot Date: 2025-02-03 13:00 -0500 (Mon, 03 Feb 2025)
git_url: https://git.bioconductor.org/packages/BindingSiteFinder
git_branch: RELEASE_3_20
git_last_commit: cc4839b
git_last_commit_date: 2024-10-29 11:02:23 -0500 (Tue, 29 Oct 2024)
nebbiolo2Linux (Ubuntu 24.04.1 LTS) / x86_64  OK    OK    OK  UNNEEDED, same version is already published
palomino8Windows Server 2022 Datacenter / x64  OK    OK    OK    OK  UNNEEDED, same version is already published
merida1macOS 12.7.5 Monterey / x86_64  OK    OK    OK    OK  UNNEEDED, same version is already published
kjohnson1macOS 13.6.6 Ventura / arm64  OK    OK    OK    OK  UNNEEDED, same version is already published
taishanLinux (openEuler 24.03 LTS) / aarch64  OK    OK    ERROR  


CHECK results for BindingSiteFinder on kjohnson1

To the developers/maintainers of the BindingSiteFinder package:
- Allow up to 24 hours (and sometimes 48 hours) for your latest push to git@git.bioconductor.org:packages/BindingSiteFinder.git to reflect on this report. See Troubleshooting Build Report for more information.
- Use the following Renviron settings to reproduce errors and warnings.
- If 'R CMD check' started to fail recently on the Linux builder(s) over a missing dependency, add the missing dependency to 'Suggests:' in your DESCRIPTION file. See Renviron.bioc for more information.

raw results


Summary

Package: BindingSiteFinder
Version: 2.4.0
Command: /Library/Frameworks/R.framework/Resources/bin/R CMD check --install=check:BindingSiteFinder.install-out.txt --library=/Library/Frameworks/R.framework/Resources/library --no-vignettes --timings BindingSiteFinder_2.4.0.tar.gz
StartedAt: 2025-02-04 12:29:51 -0500 (Tue, 04 Feb 2025)
EndedAt: 2025-02-04 12:43:58 -0500 (Tue, 04 Feb 2025)
EllapsedTime: 846.7 seconds
RetCode: 0
Status:   OK  
CheckDir: BindingSiteFinder.Rcheck
Warnings: 0

Command output

##############################################################################
##############################################################################
###
### Running command:
###
###   /Library/Frameworks/R.framework/Resources/bin/R CMD check --install=check:BindingSiteFinder.install-out.txt --library=/Library/Frameworks/R.framework/Resources/library --no-vignettes --timings BindingSiteFinder_2.4.0.tar.gz
###
##############################################################################
##############################################################################


* using log directory ‘/Users/biocbuild/bbs-3.20-bioc/meat/BindingSiteFinder.Rcheck’
* using R version 4.4.2 (2024-10-31)
* using platform: aarch64-apple-darwin20
* R was compiled by
    Apple clang version 14.0.0 (clang-1400.0.29.202)
    GNU Fortran (GCC) 12.2.0
* running under: macOS Ventura 13.7.1
* using session charset: UTF-8
* using option ‘--no-vignettes’
* checking for file ‘BindingSiteFinder/DESCRIPTION’ ... OK
* checking extension type ... Package
* this is package ‘BindingSiteFinder’ version ‘2.4.0’
* package encoding: UTF-8
* checking package namespace information ... OK
* checking package dependencies ... OK
* checking if this is a source package ... OK
* checking if there is a namespace ... OK
* checking for hidden files and directories ... OK
* checking for portable file names ... OK
* checking for sufficient/correct file permissions ... OK
* checking whether package ‘BindingSiteFinder’ can be installed ... OK
* checking installed package size ... OK
* checking package directory ... OK
* checking ‘build’ directory ... OK
* checking DESCRIPTION meta-information ... OK
* checking top-level files ... OK
* checking for left-over files ... OK
* checking index information ... OK
* checking package subdirectories ... OK
* checking code files for non-ASCII characters ... OK
* checking R files for syntax errors ... OK
* checking whether the package can be loaded ... OK
* checking whether the package can be loaded with stated dependencies ... OK
* checking whether the package can be unloaded cleanly ... OK
* checking whether the namespace can be loaded with stated dependencies ... OK
* checking whether the namespace can be unloaded cleanly ... OK
* checking dependencies in R code ... OK
* checking S3 generic/method consistency ... OK
* checking replacement functions ... OK
* checking foreign function calls ... OK
* checking R code for possible problems ... OK
* checking Rd files ... OK
* checking Rd metadata ... OK
* checking Rd cross-references ... OK
* checking for missing documentation entries ... OK
* checking for code/documentation mismatches ... OK
* checking Rd \usage sections ... OK
* checking Rd contents ... OK
* checking for unstated dependencies in examples ... OK
* checking files in ‘vignettes’ ... OK
* checking examples ... OK
Examples with CPU (user + system) or elapsed time > 5s
                             user system elapsed
quickFigure                29.877  0.490  30.450
processingStepsFlowChart   26.753  0.422  27.195
BSFind                     25.340  0.440  25.901
bindingSiteDefinednessPlot 24.428  0.585  25.089
calculateBsFoldChange      18.477  0.332  18.881
plotBsMA                   13.378  0.206  13.600
plotBsVolcano              11.709  0.165  11.893
bindingSiteCoveragePlot    10.694  0.254  10.999
estimateBsWidthPlot         9.997  0.164  10.184
estimateBsWidth             9.435  0.210   9.653
rangeCoveragePlot           6.763  0.146   6.934
plotBsBackgroundFilter      6.734  0.166   6.945
calculateBsBackground       5.012  0.095   5.112
* checking for unstated dependencies in ‘tests’ ... OK
* checking tests ...
  Running ‘testthat.R’
 OK
* checking for unstated dependencies in vignettes ... OK
* checking package vignettes ... OK
* checking running R code from vignettes ... SKIPPED
* checking re-building of vignette outputs ... SKIPPED
* checking PDF version of manual ... OK
* DONE

Status: OK


Installation output

BindingSiteFinder.Rcheck/00install.out

##############################################################################
##############################################################################
###
### Running command:
###
###   /Library/Frameworks/R.framework/Resources/bin/R CMD INSTALL BindingSiteFinder
###
##############################################################################
##############################################################################


* installing to library ‘/Library/Frameworks/R.framework/Versions/4.4-arm64/Resources/library’
* installing *source* package ‘BindingSiteFinder’ ...
** using staged installation
** R
** inst
** byte-compile and prepare package for lazy loading
** help
*** installing help indices
** building package indices
** installing vignettes
** testing if installed package can be loaded from temporary location
** testing if installed package can be loaded from final location
** testing if installed package keeps a record of temporary installation path
* DONE (BindingSiteFinder)

Tests output

BindingSiteFinder.Rcheck/tests/testthat.Rout


R version 4.4.2 (2024-10-31) -- "Pile of Leaves"
Copyright (C) 2024 The R Foundation for Statistical Computing
Platform: aarch64-apple-darwin20

R is free software and comes with ABSOLUTELY NO WARRANTY.
You are welcome to redistribute it under certain conditions.
Type 'license()' or 'licence()' for distribution details.

R is a collaborative project with many contributors.
Type 'contributors()' for more information and
'citation()' on how to cite R or R packages in publications.

Type 'demo()' for some demos, 'help()' for on-line help, or
'help.start()' for an HTML browser interface to help.
Type 'q()' to quit R.

> library("testthat")
> library("BindingSiteFinder")
Loading required package: GenomicRanges
Loading required package: stats4
Loading required package: BiocGenerics

Attaching package: 'BiocGenerics'

The following objects are masked from 'package:stats':

    IQR, mad, sd, var, xtabs

The following objects are masked from 'package:base':

    Filter, Find, Map, Position, Reduce, anyDuplicated, aperm, append,
    as.data.frame, basename, cbind, colnames, dirname, do.call,
    duplicated, eval, evalq, get, grep, grepl, intersect, is.unsorted,
    lapply, mapply, match, mget, order, paste, pmax, pmax.int, pmin,
    pmin.int, rank, rbind, rownames, sapply, saveRDS, setdiff, table,
    tapply, union, unique, unsplit, which.max, which.min

Loading required package: S4Vectors

Attaching package: 'S4Vectors'

The following object is masked from 'package:utils':

    findMatches

The following objects are masked from 'package:base':

    I, expand.grid, unname

Loading required package: IRanges
Loading required package: GenomeInfoDb
> test_check("BindingSiteFinder")
[1] "make bs"
[1] "calc ratio"
[1] "make bs"
[1] "calc ratio"
[ FAIL 0 | WARN 1 | SKIP 0 | PASS 239 ]

[ FAIL 0 | WARN 1 | SKIP 0 | PASS 239 ]
> 
> proc.time()
   user  system elapsed 
270.551   4.464 276.075 

Example timings

BindingSiteFinder.Rcheck/BindingSiteFinder-Ex.timings

nameusersystemelapsed
BSFDataSet0.1910.0060.198
BSFind25.340 0.44025.901
add-BSFDataSet2.1820.0602.243
annotateWithScore1.3920.0141.416
assignToGenes2.0300.0242.054
assignToTranscriptRegions2.3070.0352.347
bindingSiteCoveragePlot10.694 0.25410.999
bindingSiteDefinednessPlot24.428 0.58525.089
calculateBsBackground5.0120.0955.112
calculateBsFoldChange18.477 0.33218.881
calculateSignalToFlankScore1.4980.0291.527
clipCoverage1.9270.0381.970
collapseReplicates0.1940.0140.208
combineBSF3.1110.0713.189
coverageOverRanges1.1370.0501.188
duplicatedSitesPlot0.5940.0080.603
estimateBsWidth9.4350.2109.653
estimateBsWidthPlot 9.997 0.16410.184
exportTargetGenes0.0290.0010.030
exportToBED0.0280.0010.028
filterBsBackground3.4470.0543.520
geneOverlapsPlot2.8640.0722.944
getMeta0.0350.0020.036
getName0.0320.0020.034
getRanges0.0490.0030.052
getSignal0.0700.0040.073
getSummary1.2160.0271.243
globalScorePlot1.2930.0221.322
imputeBsDifferencesForTestdata1.8910.0241.921
makeBindingSites2.2750.0402.322
makeBsSummaryPlot1.1450.0211.178
mergeCrosslinkDiagnosticsPlot1.6050.0421.649
mergeSummaryPlot3.9740.0664.045
plotBsBackgroundFilter6.7340.1666.945
plotBsMA13.378 0.20613.600
plotBsVolcano11.709 0.16511.893
processingStepsFlowChart26.753 0.42227.195
processingStepsTable0.0700.0020.072
pureClipGeneWiseFilter0.4110.0110.423
pureClipGlobalFilter0.0680.0020.071
pureClipGlobalFilterPlot0.2790.0040.284
quickFigure29.877 0.49030.450
rangeCoveragePlot6.7630.1466.934
reproducibilityCutoffPlot2.3740.0292.410
reproducibilityFilter1.5880.0181.606
reproducibilityFilterPlot2.0060.0272.045
reproducibilitySamplesPlot1.7470.0241.772
reproducibilityScatterPlot3.5840.0313.619
setMeta0.0350.0020.037
setName0.0320.0020.034
setRanges0.0580.0030.061
setSignal0.0600.0020.062
setSummary0.0320.0010.034
show0.0320.0020.034
subset-BSFDataSet0.0440.0020.046
summary0.0560.0020.058
supportRatio3.2450.0943.400
supportRatioPlot3.8530.1053.960
targetGeneSpectrumPlot2.2360.0322.270
transcriptRegionOverlapsPlot2.5820.0362.618
transcriptRegionSpectrumPlot2.5930.0352.631