Back to Multiple platform build/check report for BioC 3.20:   simplified   long
A[B]CDEFGHIJKLMNOPQRSTUVWXYZ

This page was generated on 2025-02-03 12:04 -0500 (Mon, 03 Feb 2025).

HostnameOSArch (*)R versionInstalled pkgs
nebbiolo2Linux (Ubuntu 24.04.1 LTS)x86_644.4.2 (2024-10-31) -- "Pile of Leaves" 4746
palomino8Windows Server 2022 Datacenterx644.4.2 (2024-10-31 ucrt) -- "Pile of Leaves" 4494
merida1macOS 12.7.5 Montereyx86_644.4.2 (2024-10-31) -- "Pile of Leaves" 4517
kjohnson1macOS 13.6.6 Venturaarm644.4.2 (2024-10-31) -- "Pile of Leaves" 4469
taishanLinux (openEuler 24.03 LTS)aarch644.4.2 (2024-10-31) -- "Pile of Leaves" 4400
Click on any hostname to see more info about the system (e.g. compilers)      (*) as reported by 'uname -p', except on Windows and Mac OS X

Package 170/2289HostnameOS / ArchINSTALLBUILDCHECKBUILD BIN
BindingSiteFinder 2.4.0  (landing page)
Mirko Brüggemann
Snapshot Date: 2025-01-30 13:00 -0500 (Thu, 30 Jan 2025)
git_url: https://git.bioconductor.org/packages/BindingSiteFinder
git_branch: RELEASE_3_20
git_last_commit: cc4839b
git_last_commit_date: 2024-10-29 11:02:23 -0500 (Tue, 29 Oct 2024)
nebbiolo2Linux (Ubuntu 24.04.1 LTS) / x86_64  OK    OK    OK  UNNEEDED, same version is already published
palomino8Windows Server 2022 Datacenter / x64  OK    OK    OK    OK  UNNEEDED, same version is already published
merida1macOS 12.7.5 Monterey / x86_64  OK    OK    OK    OK  UNNEEDED, same version is already published
kjohnson1macOS 13.6.6 Ventura / arm64  OK    OK    OK    OK  UNNEEDED, same version is already published
taishanLinux (openEuler 24.03 LTS) / aarch64  OK    OK    ERROR  


CHECK results for BindingSiteFinder on nebbiolo2

To the developers/maintainers of the BindingSiteFinder package:
- Allow up to 24 hours (and sometimes 48 hours) for your latest push to git@git.bioconductor.org:packages/BindingSiteFinder.git to reflect on this report. See Troubleshooting Build Report for more information.
- Use the following Renviron settings to reproduce errors and warnings.
- If 'R CMD check' started to fail recently on the Linux builder(s) over a missing dependency, add the missing dependency to 'Suggests:' in your DESCRIPTION file. See Renviron.bioc for more information.

raw results


Summary

Package: BindingSiteFinder
Version: 2.4.0
Command: /home/biocbuild/bbs-3.20-bioc/R/bin/R CMD check --install=check:BindingSiteFinder.install-out.txt --library=/home/biocbuild/bbs-3.20-bioc/R/site-library --timings BindingSiteFinder_2.4.0.tar.gz
StartedAt: 2025-01-30 20:12:30 -0500 (Thu, 30 Jan 2025)
EndedAt: 2025-01-30 20:27:38 -0500 (Thu, 30 Jan 2025)
EllapsedTime: 907.7 seconds
RetCode: 0
Status:   OK  
CheckDir: BindingSiteFinder.Rcheck
Warnings: 0

Command output

##############################################################################
##############################################################################
###
### Running command:
###
###   /home/biocbuild/bbs-3.20-bioc/R/bin/R CMD check --install=check:BindingSiteFinder.install-out.txt --library=/home/biocbuild/bbs-3.20-bioc/R/site-library --timings BindingSiteFinder_2.4.0.tar.gz
###
##############################################################################
##############################################################################


* using log directory ‘/home/biocbuild/bbs-3.20-bioc/meat/BindingSiteFinder.Rcheck’
* using R version 4.4.2 (2024-10-31)
* using platform: x86_64-pc-linux-gnu
* R was compiled by
    gcc (Ubuntu 13.2.0-23ubuntu4) 13.2.0
    GNU Fortran (Ubuntu 13.2.0-23ubuntu4) 13.2.0
* running under: Ubuntu 24.04.1 LTS
* using session charset: UTF-8
* checking for file ‘BindingSiteFinder/DESCRIPTION’ ... OK
* checking extension type ... Package
* this is package ‘BindingSiteFinder’ version ‘2.4.0’
* package encoding: UTF-8
* checking package namespace information ... OK
* checking package dependencies ... OK
* checking if this is a source package ... OK
* checking if there is a namespace ... OK
* checking for hidden files and directories ... OK
* checking for portable file names ... OK
* checking for sufficient/correct file permissions ... OK
* checking whether package ‘BindingSiteFinder’ can be installed ... OK
* checking installed package size ... OK
* checking package directory ... OK
* checking ‘build’ directory ... OK
* checking DESCRIPTION meta-information ... OK
* checking top-level files ... OK
* checking for left-over files ... OK
* checking index information ... OK
* checking package subdirectories ... OK
* checking code files for non-ASCII characters ... OK
* checking R files for syntax errors ... OK
* checking whether the package can be loaded ... OK
* checking whether the package can be loaded with stated dependencies ... OK
* checking whether the package can be unloaded cleanly ... OK
* checking whether the namespace can be loaded with stated dependencies ... OK
* checking whether the namespace can be unloaded cleanly ... OK
* checking loading without being on the library search path ... OK
* checking dependencies in R code ... OK
* checking S3 generic/method consistency ... OK
* checking replacement functions ... OK
* checking foreign function calls ... OK
* checking R code for possible problems ... OK
* checking Rd files ... OK
* checking Rd metadata ... OK
* checking Rd cross-references ... OK
* checking for missing documentation entries ... OK
* checking for code/documentation mismatches ... OK
* checking Rd \usage sections ... OK
* checking Rd contents ... OK
* checking for unstated dependencies in examples ... OK
* checking files in ‘vignettes’ ... OK
* checking examples ... OK
Examples with CPU (user + system) or elapsed time > 5s
                             user system elapsed
quickFigure                29.435  0.329  29.764
BSFind                     25.498  0.384  25.888
processingStepsFlowChart   25.634  0.042  25.677
bindingSiteDefinednessPlot 25.202  0.428  25.638
calculateBsFoldChange      17.787  0.151  17.940
plotBsMA                   10.820  0.028  10.849
plotBsVolcano              10.368  0.024  10.392
estimateBsWidth             9.715  0.113   9.829
bindingSiteCoveragePlot     9.075  0.194   9.272
estimateBsWidthPlot         8.791  0.058   8.860
rangeCoveragePlot           5.557  0.060   5.617
* checking for unstated dependencies in ‘tests’ ... OK
* checking tests ...
  Running ‘testthat.R’
 OK
* checking for unstated dependencies in vignettes ... OK
* checking package vignettes ... OK
* checking re-building of vignette outputs ... OK
* checking PDF version of manual ... OK
* DONE

Status: OK


Installation output

BindingSiteFinder.Rcheck/00install.out

##############################################################################
##############################################################################
###
### Running command:
###
###   /home/biocbuild/bbs-3.20-bioc/R/bin/R CMD INSTALL BindingSiteFinder
###
##############################################################################
##############################################################################


* installing to library ‘/home/biocbuild/bbs-3.20-bioc/R/site-library’
* installing *source* package ‘BindingSiteFinder’ ...
** using staged installation
** R
** inst
** byte-compile and prepare package for lazy loading
** help
*** installing help indices
** building package indices
** installing vignettes
** testing if installed package can be loaded from temporary location
** testing if installed package can be loaded from final location
** testing if installed package keeps a record of temporary installation path
* DONE (BindingSiteFinder)

Tests output

BindingSiteFinder.Rcheck/tests/testthat.Rout


R version 4.4.2 (2024-10-31) -- "Pile of Leaves"
Copyright (C) 2024 The R Foundation for Statistical Computing
Platform: x86_64-pc-linux-gnu

R is free software and comes with ABSOLUTELY NO WARRANTY.
You are welcome to redistribute it under certain conditions.
Type 'license()' or 'licence()' for distribution details.

R is a collaborative project with many contributors.
Type 'contributors()' for more information and
'citation()' on how to cite R or R packages in publications.

Type 'demo()' for some demos, 'help()' for on-line help, or
'help.start()' for an HTML browser interface to help.
Type 'q()' to quit R.

> library("testthat")
> library("BindingSiteFinder")
Loading required package: GenomicRanges
Loading required package: stats4
Loading required package: BiocGenerics

Attaching package: 'BiocGenerics'

The following objects are masked from 'package:stats':

    IQR, mad, sd, var, xtabs

The following objects are masked from 'package:base':

    Filter, Find, Map, Position, Reduce, anyDuplicated, aperm, append,
    as.data.frame, basename, cbind, colnames, dirname, do.call,
    duplicated, eval, evalq, get, grep, grepl, intersect, is.unsorted,
    lapply, mapply, match, mget, order, paste, pmax, pmax.int, pmin,
    pmin.int, rank, rbind, rownames, sapply, saveRDS, setdiff, table,
    tapply, union, unique, unsplit, which.max, which.min

Loading required package: S4Vectors

Attaching package: 'S4Vectors'

The following object is masked from 'package:utils':

    findMatches

The following objects are masked from 'package:base':

    I, expand.grid, unname

Loading required package: IRanges
Loading required package: GenomeInfoDb
> test_check("BindingSiteFinder")
[1] "make bs"
[1] "calc ratio"
[1] "make bs"
[1] "calc ratio"
[ FAIL 0 | WARN 1 | SKIP 0 | PASS 239 ]

[ FAIL 0 | WARN 1 | SKIP 0 | PASS 239 ]
> 
> proc.time()
   user  system elapsed 
264.954   1.983 266.938 

Example timings

BindingSiteFinder.Rcheck/BindingSiteFinder-Ex.timings

nameusersystemelapsed
BSFDataSet0.1570.0010.159
BSFind25.498 0.38425.888
add-BSFDataSet1.9810.0352.016
annotateWithScore1.2890.0041.295
assignToGenes1.8350.0021.837
assignToTranscriptRegions2.1110.0032.114
bindingSiteCoveragePlot9.0750.1949.272
bindingSiteDefinednessPlot25.202 0.42825.638
calculateBsBackground4.6260.0114.637
calculateBsFoldChange17.787 0.15117.940
calculateSignalToFlankScore1.3850.0081.393
clipCoverage1.6820.0001.681
collapseReplicates0.1800.0020.182
combineBSF2.9560.0342.990
coverageOverRanges0.9540.0060.960
duplicatedSitesPlot0.5420.0090.552
estimateBsWidth9.7150.1139.829
estimateBsWidthPlot8.7910.0588.860
exportTargetGenes0.0220.0010.023
exportToBED0.0230.0000.023
filterBsBackground3.5690.0333.612
geneOverlapsPlot2.5280.0112.544
getMeta0.0260.0000.026
getName0.0240.0000.024
getRanges0.0410.0000.041
getSignal0.0620.0000.063
getSummary1.0960.0011.097
globalScorePlot1.3860.0041.390
imputeBsDifferencesForTestdata2.0280.0002.028
makeBindingSites2.3380.0002.338
makeBsSummaryPlot1.2140.0011.215
mergeCrosslinkDiagnosticsPlot1.3490.0011.350
mergeSummaryPlot3.5740.0003.574
plotBsBackgroundFilter4.3590.0444.406
plotBsMA10.820 0.02810.849
plotBsVolcano10.368 0.02410.392
processingStepsFlowChart25.634 0.04225.677
processingStepsTable0.060.000.06
pureClipGeneWiseFilter0.3480.0000.348
pureClipGlobalFilter0.0540.0010.055
pureClipGlobalFilterPlot0.2760.0000.276
quickFigure29.435 0.32929.764
rangeCoveragePlot5.5570.0605.617
reproducibilityCutoffPlot2.4210.0152.436
reproducibilityFilter1.4570.0011.457
reproducibilityFilterPlot1.8500.0041.854
reproducibilitySamplesPlot1.6140.0101.625
reproducibilityScatterPlot3.3330.0073.340
setMeta0.0280.0000.027
setName0.0230.0010.024
setRanges0.0470.0010.050
setSignal0.0510.0000.051
setSummary0.0450.0000.046
show0.0240.0010.026
subset-BSFDataSet0.0370.0000.038
summary0.0450.0000.044
supportRatio4.2790.1664.445
supportRatioPlot3.2740.0063.279
targetGeneSpectrumPlot1.9970.0001.996
transcriptRegionOverlapsPlot2.3070.0342.341
transcriptRegionSpectrumPlot2.3000.0032.303