Back to Multiple platform build/check report for BioC 3.20:   simplified   long
A[B]CDEFGHIJKLMNOPQRSTUVWXYZ

This page was generated on 2025-02-06 12:07 -0500 (Thu, 06 Feb 2025).

HostnameOSArch (*)R versionInstalled pkgs
nebbiolo2Linux (Ubuntu 24.04.1 LTS)x86_644.4.2 (2024-10-31) -- "Pile of Leaves" 4753
palomino8Windows Server 2022 Datacenterx644.4.2 (2024-10-31 ucrt) -- "Pile of Leaves" 4501
merida1macOS 12.7.5 Montereyx86_644.4.2 (2024-10-31) -- "Pile of Leaves" 4524
kjohnson1macOS 13.6.6 Venturaarm644.4.2 (2024-10-31) -- "Pile of Leaves" 4476
taishanLinux (openEuler 24.03 LTS)aarch644.4.2 (2024-10-31) -- "Pile of Leaves" 4407
Click on any hostname to see more info about the system (e.g. compilers)      (*) as reported by 'uname -p', except on Windows and Mac OS X

Package 170/2289HostnameOS / ArchINSTALLBUILDCHECKBUILD BIN
BindingSiteFinder 2.4.0  (landing page)
Mirko Brüggemann
Snapshot Date: 2025-02-03 13:00 -0500 (Mon, 03 Feb 2025)
git_url: https://git.bioconductor.org/packages/BindingSiteFinder
git_branch: RELEASE_3_20
git_last_commit: cc4839b
git_last_commit_date: 2024-10-29 11:02:23 -0500 (Tue, 29 Oct 2024)
nebbiolo2Linux (Ubuntu 24.04.1 LTS) / x86_64  OK    OK    OK  UNNEEDED, same version is already published
palomino8Windows Server 2022 Datacenter / x64  OK    OK    OK    OK  UNNEEDED, same version is already published
merida1macOS 12.7.5 Monterey / x86_64  OK    OK    OK    OK  UNNEEDED, same version is already published
kjohnson1macOS 13.6.6 Ventura / arm64  OK    OK    OK    OK  UNNEEDED, same version is already published
taishanLinux (openEuler 24.03 LTS) / aarch64  OK    OK    ERROR  


CHECK results for BindingSiteFinder on merida1

To the developers/maintainers of the BindingSiteFinder package:
- Allow up to 24 hours (and sometimes 48 hours) for your latest push to git@git.bioconductor.org:packages/BindingSiteFinder.git to reflect on this report. See Troubleshooting Build Report for more information.
- Use the following Renviron settings to reproduce errors and warnings.
- If 'R CMD check' started to fail recently on the Linux builder(s) over a missing dependency, add the missing dependency to 'Suggests:' in your DESCRIPTION file. See Renviron.bioc for more information.

raw results


Summary

Package: BindingSiteFinder
Version: 2.4.0
Command: /Library/Frameworks/R.framework/Resources/bin/R CMD check --install=check:BindingSiteFinder.install-out.txt --library=/Library/Frameworks/R.framework/Resources/library --no-vignettes --timings BindingSiteFinder_2.4.0.tar.gz
StartedAt: 2025-02-04 00:12:46 -0500 (Tue, 04 Feb 2025)
EndedAt: 2025-02-04 00:48:44 -0500 (Tue, 04 Feb 2025)
EllapsedTime: 2157.7 seconds
RetCode: 0
Status:   OK  
CheckDir: BindingSiteFinder.Rcheck
Warnings: 0

Command output

##############################################################################
##############################################################################
###
### Running command:
###
###   /Library/Frameworks/R.framework/Resources/bin/R CMD check --install=check:BindingSiteFinder.install-out.txt --library=/Library/Frameworks/R.framework/Resources/library --no-vignettes --timings BindingSiteFinder_2.4.0.tar.gz
###
##############################################################################
##############################################################################


* using log directory ‘/Users/biocbuild/bbs-3.20-bioc/meat/BindingSiteFinder.Rcheck’
* using R version 4.4.2 (2024-10-31)
* using platform: x86_64-apple-darwin20
* R was compiled by
    Apple clang version 14.0.0 (clang-1400.0.29.202)
    GNU Fortran (GCC) 12.2.0
* running under: macOS Monterey 12.7.6
* using session charset: UTF-8
* using option ‘--no-vignettes’
* checking for file ‘BindingSiteFinder/DESCRIPTION’ ... OK
* checking extension type ... Package
* this is package ‘BindingSiteFinder’ version ‘2.4.0’
* package encoding: UTF-8
* checking package namespace information ... OK
* checking package dependencies ... OK
* checking if this is a source package ... OK
* checking if there is a namespace ... OK
* checking for hidden files and directories ... OK
* checking for portable file names ... OK
* checking for sufficient/correct file permissions ... OK
* checking whether package ‘BindingSiteFinder’ can be installed ... OK
* checking installed package size ... OK
* checking package directory ... OK
* checking ‘build’ directory ... OK
* checking DESCRIPTION meta-information ... OK
* checking top-level files ... OK
* checking for left-over files ... OK
* checking index information ... OK
* checking package subdirectories ... OK
* checking code files for non-ASCII characters ... OK
* checking R files for syntax errors ... OK
* checking whether the package can be loaded ... OK
* checking whether the package can be loaded with stated dependencies ... OK
* checking whether the package can be unloaded cleanly ... OK
* checking whether the namespace can be loaded with stated dependencies ... OK
* checking whether the namespace can be unloaded cleanly ... OK
* checking dependencies in R code ... OK
* checking S3 generic/method consistency ... OK
* checking replacement functions ... OK
* checking foreign function calls ... OK
* checking R code for possible problems ... OK
* checking Rd files ... OK
* checking Rd metadata ... OK
* checking Rd cross-references ... OK
* checking for missing documentation entries ... OK
* checking for code/documentation mismatches ... OK
* checking Rd \usage sections ... OK
* checking Rd contents ... OK
* checking for unstated dependencies in examples ... OK
* checking files in ‘vignettes’ ... OK
* checking examples ... OK
Examples with CPU (user + system) or elapsed time > 5s
                                 user system elapsed
quickFigure                    75.696  0.653  78.767
processingStepsFlowChart       65.237  1.727  72.322
bindingSiteDefinednessPlot     63.739  2.565 126.646
BSFind                         65.158  0.997  68.893
calculateBsFoldChange          44.241 13.152 114.212
plotBsMA                       28.208  3.195  35.285
plotBsVolcano                  26.515  3.872  34.229
estimateBsWidth                21.987  2.738  27.945
estimateBsWidthPlot            20.604  0.540  21.911
bindingSiteCoveragePlot        16.710  0.719  19.276
plotBsBackgroundFilter         13.081  2.949  20.305
rangeCoveragePlot              14.346  0.179  15.320
calculateBsBackground          12.194  1.929  36.182
mergeSummaryPlot                9.381  0.129   9.767
filterBsBackground              9.173  0.271  10.126
reproducibilityScatterPlot      9.052  0.090   9.583
supportRatioPlot                8.625  0.078   9.147
supportRatio                    8.277  0.080   8.757
combineBSF                      7.220  0.373   7.933
geneOverlapsPlot                7.164  0.149   8.184
transcriptRegionSpectrumPlot    6.649  0.075   6.986
transcriptRegionOverlapsPlot    6.563  0.061   6.846
reproducibilityCutoffPlot       6.302  0.160   6.712
imputeBsDifferencesForTestdata  5.999  0.421   8.396
makeBindingSites                5.959  0.111   6.401
assignToTranscriptRegions       5.960  0.084   6.341
targetGeneSpectrumPlot          5.738  0.051   6.046
assignToGenes                   5.179  0.085   5.516
add-BSFDataSet                  4.978  0.085   5.301
reproducibilityFilterPlot       4.823  0.045   5.010
* checking for unstated dependencies in ‘tests’ ... OK
* checking tests ...
  Running ‘testthat.R’
 OK
* checking for unstated dependencies in vignettes ... OK
* checking package vignettes ... OK
* checking running R code from vignettes ... SKIPPED
* checking re-building of vignette outputs ... SKIPPED
* checking PDF version of manual ... OK
* DONE

Status: OK


Installation output

BindingSiteFinder.Rcheck/00install.out

##############################################################################
##############################################################################
###
### Running command:
###
###   /Library/Frameworks/R.framework/Resources/bin/R CMD INSTALL BindingSiteFinder
###
##############################################################################
##############################################################################


* installing to library ‘/Library/Frameworks/R.framework/Versions/4.4-x86_64/Resources/library’
* installing *source* package ‘BindingSiteFinder’ ...
** using staged installation
** R
** inst
** byte-compile and prepare package for lazy loading
** help
*** installing help indices
** building package indices
** installing vignettes
** testing if installed package can be loaded from temporary location
** testing if installed package can be loaded from final location
** testing if installed package keeps a record of temporary installation path
* DONE (BindingSiteFinder)

Tests output

BindingSiteFinder.Rcheck/tests/testthat.Rout


R version 4.4.2 (2024-10-31) -- "Pile of Leaves"
Copyright (C) 2024 The R Foundation for Statistical Computing
Platform: x86_64-apple-darwin20

R is free software and comes with ABSOLUTELY NO WARRANTY.
You are welcome to redistribute it under certain conditions.
Type 'license()' or 'licence()' for distribution details.

R is a collaborative project with many contributors.
Type 'contributors()' for more information and
'citation()' on how to cite R or R packages in publications.

Type 'demo()' for some demos, 'help()' for on-line help, or
'help.start()' for an HTML browser interface to help.
Type 'q()' to quit R.

> library("testthat")
> library("BindingSiteFinder")
Loading required package: GenomicRanges
Loading required package: stats4
Loading required package: BiocGenerics

Attaching package: 'BiocGenerics'

The following objects are masked from 'package:stats':

    IQR, mad, sd, var, xtabs

The following objects are masked from 'package:base':

    Filter, Find, Map, Position, Reduce, anyDuplicated, aperm, append,
    as.data.frame, basename, cbind, colnames, dirname, do.call,
    duplicated, eval, evalq, get, grep, grepl, intersect, is.unsorted,
    lapply, mapply, match, mget, order, paste, pmax, pmax.int, pmin,
    pmin.int, rank, rbind, rownames, sapply, saveRDS, setdiff, table,
    tapply, union, unique, unsplit, which.max, which.min

Loading required package: S4Vectors

Attaching package: 'S4Vectors'

The following object is masked from 'package:utils':

    findMatches

The following objects are masked from 'package:base':

    I, expand.grid, unname

Loading required package: IRanges
Loading required package: GenomeInfoDb
> test_check("BindingSiteFinder")
[1] "make bs"
[1] "calc ratio"
[1] "make bs"
[1] "calc ratio"
[ FAIL 0 | WARN 1 | SKIP 0 | PASS 239 ]

[ FAIL 0 | WARN 1 | SKIP 0 | PASS 239 ]
> 
> proc.time()
   user  system elapsed 
656.624   8.436 720.361 

Example timings

BindingSiteFinder.Rcheck/BindingSiteFinder-Ex.timings

nameusersystemelapsed
BSFDataSet0.3670.0090.392
BSFind65.158 0.99768.893
add-BSFDataSet4.9780.0855.301
annotateWithScore3.5180.0493.779
assignToGenes5.1790.0855.516
assignToTranscriptRegions5.9600.0846.341
bindingSiteCoveragePlot16.710 0.71919.276
bindingSiteDefinednessPlot 63.739 2.565126.646
calculateBsBackground12.194 1.92936.182
calculateBsFoldChange 44.241 13.152114.212
calculateSignalToFlankScore3.4800.1034.174
clipCoverage4.3180.0674.540
collapseReplicates0.3020.0200.332
combineBSF7.2200.3737.933
coverageOverRanges2.2430.0352.386
duplicatedSitesPlot1.4270.0761.613
estimateBsWidth21.987 2.73827.945
estimateBsWidthPlot20.604 0.54021.911
exportTargetGenes0.0360.0050.041
exportToBED0.0350.0030.038
filterBsBackground 9.173 0.27110.126
geneOverlapsPlot7.1640.1498.184
getMeta0.0450.0040.059
getName0.0390.0030.052
getRanges0.0830.0060.091
getSignal0.1380.0060.144
getSummary2.7860.0423.130
globalScorePlot3.2790.1924.102
imputeBsDifferencesForTestdata5.9990.4218.396
makeBindingSites5.9590.1116.401
makeBsSummaryPlot3.1570.1053.378
mergeCrosslinkDiagnosticsPlot3.5410.0493.669
mergeSummaryPlot9.3810.1299.767
plotBsBackgroundFilter13.081 2.94920.305
plotBsMA28.208 3.19535.285
plotBsVolcano26.515 3.87234.229
processingStepsFlowChart65.237 1.72772.322
processingStepsTable0.1250.0050.133
pureClipGeneWiseFilter0.8190.0090.894
pureClipGlobalFilter0.1460.0110.166
pureClipGlobalFilterPlot0.6440.0070.662
quickFigure75.696 0.65378.767
rangeCoveragePlot14.346 0.17915.320
reproducibilityCutoffPlot6.3020.1606.712
reproducibilityFilter3.8270.0533.999
reproducibilityFilterPlot4.8230.0455.010
reproducibilitySamplesPlot4.2260.0394.373
reproducibilityScatterPlot9.0520.0909.583
setMeta0.0480.0030.054
setName0.0400.0020.044
setRanges0.1050.0040.112
setSignal0.1090.0040.123
setSummary0.0410.0030.045
show0.0420.0030.046
subset-BSFDataSet0.0730.0030.079
summary0.0910.0040.096
supportRatio8.2770.0808.757
supportRatioPlot8.6250.0789.147
targetGeneSpectrumPlot5.7380.0516.046
transcriptRegionOverlapsPlot6.5630.0616.846
transcriptRegionSpectrumPlot6.6490.0756.986