Back to Multiple platform build/check report for BioC 3.20:   simplified   long
AB[C]DEFGHIJKLMNOPQRSTUVWXYZ

This page was generated on 2025-02-03 12:08 -0500 (Mon, 03 Feb 2025).

HostnameOSArch (*)R versionInstalled pkgs
nebbiolo2Linux (Ubuntu 24.04.1 LTS)x86_644.4.2 (2024-10-31) -- "Pile of Leaves" 4746
palomino8Windows Server 2022 Datacenterx644.4.2 (2024-10-31 ucrt) -- "Pile of Leaves" 4494
merida1macOS 12.7.5 Montereyx86_644.4.2 (2024-10-31) -- "Pile of Leaves" 4517
kjohnson1macOS 13.6.6 Venturaarm644.4.2 (2024-10-31) -- "Pile of Leaves" 4469
taishanLinux (openEuler 24.03 LTS)aarch644.4.2 (2024-10-31) -- "Pile of Leaves" 4400
Click on any hostname to see more info about the system (e.g. compilers)      (*) as reported by 'uname -p', except on Windows and Mac OS X

Package 266/2289HostnameOS / ArchINSTALLBUILDCHECKBUILD BIN
CAGEr 2.12.0  (landing page)
Charles Plessy
Snapshot Date: 2025-01-30 13:00 -0500 (Thu, 30 Jan 2025)
git_url: https://git.bioconductor.org/packages/CAGEr
git_branch: RELEASE_3_20
git_last_commit: 492797d
git_last_commit_date: 2024-10-29 09:44:43 -0500 (Tue, 29 Oct 2024)
nebbiolo2Linux (Ubuntu 24.04.1 LTS) / x86_64  OK    OK    OK  UNNEEDED, same version is already published
palomino8Windows Server 2022 Datacenter / x64  OK    OK    OK    OK  UNNEEDED, same version is already published
merida1macOS 12.7.5 Monterey / x86_64  OK    OK    OK    OK  UNNEEDED, same version is already published
kjohnson1macOS 13.6.6 Ventura / arm64  OK    OK    OK    OK  UNNEEDED, same version is already published
taishanLinux (openEuler 24.03 LTS) / aarch64  OK    OK    OK  


CHECK results for CAGEr on merida1

To the developers/maintainers of the CAGEr package:
- Allow up to 24 hours (and sometimes 48 hours) for your latest push to git@git.bioconductor.org:packages/CAGEr.git to reflect on this report. See Troubleshooting Build Report for more information.
- Use the following Renviron settings to reproduce errors and warnings.
- If 'R CMD check' started to fail recently on the Linux builder(s) over a missing dependency, add the missing dependency to 'Suggests:' in your DESCRIPTION file. See Renviron.bioc for more information.

raw results


Summary

Package: CAGEr
Version: 2.12.0
Command: /Library/Frameworks/R.framework/Resources/bin/R CMD check --install=check:CAGEr.install-out.txt --library=/Library/Frameworks/R.framework/Resources/library --no-vignettes --timings CAGEr_2.12.0.tar.gz
StartedAt: 2025-01-31 01:10:41 -0500 (Fri, 31 Jan 2025)
EndedAt: 2025-01-31 01:33:04 -0500 (Fri, 31 Jan 2025)
EllapsedTime: 1342.9 seconds
RetCode: 0
Status:   OK  
CheckDir: CAGEr.Rcheck
Warnings: 0

Command output

##############################################################################
##############################################################################
###
### Running command:
###
###   /Library/Frameworks/R.framework/Resources/bin/R CMD check --install=check:CAGEr.install-out.txt --library=/Library/Frameworks/R.framework/Resources/library --no-vignettes --timings CAGEr_2.12.0.tar.gz
###
##############################################################################
##############################################################################


* using log directory ‘/Users/biocbuild/bbs-3.20-bioc/meat/CAGEr.Rcheck’
* using R version 4.4.2 (2024-10-31)
* using platform: x86_64-apple-darwin20
* R was compiled by
    Apple clang version 14.0.0 (clang-1400.0.29.202)
    GNU Fortran (GCC) 12.2.0
* running under: macOS Monterey 12.7.6
* using session charset: UTF-8
* using option ‘--no-vignettes’
* checking for file ‘CAGEr/DESCRIPTION’ ... OK
* this is package ‘CAGEr’ version ‘2.12.0’
* package encoding: UTF-8
* checking package namespace information ... OK
* checking package dependencies ... OK
* checking if this is a source package ... OK
* checking if there is a namespace ... OK
* checking for hidden files and directories ... OK
* checking for portable file names ... OK
* checking for sufficient/correct file permissions ... OK
* checking whether package ‘CAGEr’ can be installed ... OK
* checking installed package size ... OK
* checking package directory ... OK
* checking ‘build’ directory ... OK
* checking DESCRIPTION meta-information ... OK
* checking top-level files ... OK
* checking for left-over files ... OK
* checking index information ... OK
* checking package subdirectories ... OK
* checking code files for non-ASCII characters ... OK
* checking R files for syntax errors ... OK
* checking whether the package can be loaded ... OK
* checking whether the package can be loaded with stated dependencies ... OK
* checking whether the package can be unloaded cleanly ... OK
* checking whether the namespace can be loaded with stated dependencies ... OK
* checking whether the namespace can be unloaded cleanly ... OK
* checking dependencies in R code ... OK
* checking S3 generic/method consistency ... OK
* checking replacement functions ... OK
* checking foreign function calls ... OK
* checking R code for possible problems ... OK
* checking Rd files ... OK
* checking Rd metadata ... OK
* checking Rd cross-references ... OK
* checking for missing documentation entries ... OK
* checking for code/documentation mismatches ... OK
* checking Rd \usage sections ... OK
* checking Rd contents ... OK
* checking for unstated dependencies in examples ... OK
* checking contents of ‘data’ directory ... OK
* checking data for non-ASCII characters ... OK
* checking LazyData ... OK
* checking data for ASCII and uncompressed saves ... OK
* checking files in ‘vignettes’ ... OK
* checking examples ... OK
Examples with CPU (user + system) or elapsed time > 5s
                              user system elapsed
paraclu                    122.893  0.352 125.154
exportToTrack              102.776  0.445 104.571
aggregateTagClusters        56.914  0.330  58.020
scoreShift                  43.539  0.403  44.557
quantilePositions           35.289  0.096  35.679
annotateCTSS                35.136  0.164  36.575
distclu                     26.604  0.120  26.982
plotExpressionProfiles      19.976  0.227  20.728
getExpressionProfiles       14.928  0.066  15.162
CustomConsensusClusters     13.325  0.063  13.466
CAGEexp-class                8.903  1.334  10.600
cumulativeCTSSdistribution   9.583  0.068   9.788
TSSlogo                      6.894  0.088   7.070
consensusClustersDESeq2      5.801  0.027   5.873
plotReverseCumulatives       5.762  0.041   5.744
plotAnnot                    5.652  0.070   5.862
mergeCAGEsets                5.673  0.046   5.762
getShiftingPromoters         5.502  0.022   5.586
expressionClasses            5.472  0.014   5.556
plotInterquantileWidth       5.141  0.026   5.192
* checking for unstated dependencies in vignettes ... OK
* checking package vignettes ... OK
* checking running R code from vignettes ... SKIPPED
* checking re-building of vignette outputs ... SKIPPED
* checking PDF version of manual ... OK
* DONE

Status: OK


Installation output

CAGEr.Rcheck/00install.out

##############################################################################
##############################################################################
###
### Running command:
###
###   /Library/Frameworks/R.framework/Resources/bin/R CMD INSTALL CAGEr
###
##############################################################################
##############################################################################


* installing to library ‘/Library/Frameworks/R.framework/Versions/4.4-x86_64/Resources/library’
* installing *source* package ‘CAGEr’ ...
** using staged installation
** R
** data
*** moving datasets to lazyload DB
** inst
** byte-compile and prepare package for lazy loading
** help
*** installing help indices
** building package indices
** installing vignettes
** testing if installed package can be loaded from temporary location
** testing if installed package can be loaded from final location
** testing if installed package keeps a record of temporary installation path
* DONE (CAGEr)

Tests output


Example timings

CAGEr.Rcheck/CAGEr-Ex.timings

nameusersystemelapsed
CAGEexp-class 8.903 1.33410.600
CAGEr_Multicore4.2680.0214.316
CTSS-class0.6810.0050.700
CTSScoordinates0.1990.0060.205
CTSSnormalizedTpm1.8880.0501.950
CTSStagCount1.7790.2142.007
CTSStoGenes1.1180.1121.241
CustomConsensusClusters13.325 0.06313.466
GeneExpDESeq21.2170.0211.255
GeneExpSE0.0090.0020.010
QuantileWidthFunctions0.3740.0040.380
TSSlogo6.8940.0887.070
aggregateTagClusters56.914 0.33058.020
annotateCTSS35.136 0.16436.575
byCtss0.0290.0020.030
consensusClusters0.3870.0080.397
consensusClustersDESeq25.8010.0275.873
consensusClustersTpm0.0140.0010.014
cumulativeCTSSdistribution9.5830.0689.788
distclu26.604 0.12026.982
dot-ctss_summary_for_clusters2.2090.0152.241
exampleCAGEexp0.0010.0020.003
exportToTrack102.776 0.445104.571
expressionClasses5.4720.0145.556
filteredCTSSidx0.0230.0010.023
flagLowExpCTSS0.0890.0000.090
genomeName0.0010.0010.002
getCTSS2.6170.0272.659
getExpressionProfiles14.928 0.06615.162
getShiftingPromoters5.5020.0225.586
hanabi0.5340.0090.547
hanabiPlot0.6800.0270.718
import.CAGEscanMolecule0.0000.0000.001
import.CTSS0.1980.0050.204
import.bam0.0000.0010.001
import.bedCTSS0.0000.0000.001
import.bedScore0.0000.0010.001
import.bedmolecule0.0000.0000.001
importPublicData0.0000.0030.003
inputFiles0.0030.0010.004
inputFilesType0.0030.0010.003
librarySizes0.0030.0010.004
mapStats0.1310.0110.147
mergeCAGEsets5.6730.0465.762
mergeSamples1.4490.0131.474
moleculesGR2CTSS0.3290.0030.336
normalizeTagCount1.3770.0221.400
paraclu122.893 0.352125.154
parseCAGEscanBlocksToGrangeTSS0.0510.0010.052
plotAnnot5.6520.0705.862
plotCorrelation0.6510.0210.897
plotExpressionProfiles19.976 0.22720.728
plotInterquantileWidth5.1410.0265.192
plotReverseCumulatives5.7620.0415.744
quantilePositions35.289 0.09635.679
quickEnhancers0.0010.0010.001
ranges2annot0.8660.0040.874
ranges2genes0.1510.0030.203
ranges2names0.1760.0040.218
resetCAGEexp0.7970.0050.850
rowSums.RleDataFrame0.0510.0010.053
rowsum.RleDataFrame0.0580.0020.060
sampleLabels0.0110.0020.012
scoreShift43.539 0.40344.557
seqNameTotalsSE0.0080.0000.009
setColors0.9100.0080.919
strandInvaders1.6700.1481.847
summariseChrExpr1.2040.0121.223
tagClusters0.9930.0121.009