Back to Multiple platform build/check report for BioC 3.20:   simplified   long
AB[C]DEFGHIJKLMNOPQRSTUVWXYZ

This page was generated on 2025-02-06 12:04 -0500 (Thu, 06 Feb 2025).

HostnameOSArch (*)R versionInstalled pkgs
nebbiolo2Linux (Ubuntu 24.04.1 LTS)x86_644.4.2 (2024-10-31) -- "Pile of Leaves" 4753
palomino8Windows Server 2022 Datacenterx644.4.2 (2024-10-31 ucrt) -- "Pile of Leaves" 4501
merida1macOS 12.7.5 Montereyx86_644.4.2 (2024-10-31) -- "Pile of Leaves" 4524
kjohnson1macOS 13.6.6 Venturaarm644.4.2 (2024-10-31) -- "Pile of Leaves" 4476
taishanLinux (openEuler 24.03 LTS)aarch644.4.2 (2024-10-31) -- "Pile of Leaves" 4407
Click on any hostname to see more info about the system (e.g. compilers)      (*) as reported by 'uname -p', except on Windows and Mac OS X

Package 266/2289HostnameOS / ArchINSTALLBUILDCHECKBUILD BIN
CAGEr 2.12.0  (landing page)
Charles Plessy
Snapshot Date: 2025-02-03 13:00 -0500 (Mon, 03 Feb 2025)
git_url: https://git.bioconductor.org/packages/CAGEr
git_branch: RELEASE_3_20
git_last_commit: 492797d
git_last_commit_date: 2024-10-29 09:44:43 -0500 (Tue, 29 Oct 2024)
nebbiolo2Linux (Ubuntu 24.04.1 LTS) / x86_64  OK    OK    OK  UNNEEDED, same version is already published
palomino8Windows Server 2022 Datacenter / x64  OK    OK    OK    OK  UNNEEDED, same version is already published
merida1macOS 12.7.5 Monterey / x86_64  OK    OK    OK    OK  UNNEEDED, same version is already published
kjohnson1macOS 13.6.6 Ventura / arm64  OK    OK    OK    OK  UNNEEDED, same version is already published
taishanLinux (openEuler 24.03 LTS) / aarch64  OK    OK    OK  


CHECK results for CAGEr on nebbiolo2

To the developers/maintainers of the CAGEr package:
- Allow up to 24 hours (and sometimes 48 hours) for your latest push to git@git.bioconductor.org:packages/CAGEr.git to reflect on this report. See Troubleshooting Build Report for more information.
- Use the following Renviron settings to reproduce errors and warnings.
- If 'R CMD check' started to fail recently on the Linux builder(s) over a missing dependency, add the missing dependency to 'Suggests:' in your DESCRIPTION file. See Renviron.bioc for more information.

raw results


Summary

Package: CAGEr
Version: 2.12.0
Command: /home/biocbuild/bbs-3.20-bioc/R/bin/R CMD check --install=check:CAGEr.install-out.txt --library=/home/biocbuild/bbs-3.20-bioc/R/site-library --timings CAGEr_2.12.0.tar.gz
StartedAt: 2025-02-03 20:40:07 -0500 (Mon, 03 Feb 2025)
EndedAt: 2025-02-03 20:51:55 -0500 (Mon, 03 Feb 2025)
EllapsedTime: 707.8 seconds
RetCode: 0
Status:   OK  
CheckDir: CAGEr.Rcheck
Warnings: 0

Command output

##############################################################################
##############################################################################
###
### Running command:
###
###   /home/biocbuild/bbs-3.20-bioc/R/bin/R CMD check --install=check:CAGEr.install-out.txt --library=/home/biocbuild/bbs-3.20-bioc/R/site-library --timings CAGEr_2.12.0.tar.gz
###
##############################################################################
##############################################################################


* using log directory ‘/home/biocbuild/bbs-3.20-bioc/meat/CAGEr.Rcheck’
* using R version 4.4.2 (2024-10-31)
* using platform: x86_64-pc-linux-gnu
* R was compiled by
    gcc (Ubuntu 13.2.0-23ubuntu4) 13.2.0
    GNU Fortran (Ubuntu 13.2.0-23ubuntu4) 13.2.0
* running under: Ubuntu 24.04.1 LTS
* using session charset: UTF-8
* checking for file ‘CAGEr/DESCRIPTION’ ... OK
* this is package ‘CAGEr’ version ‘2.12.0’
* package encoding: UTF-8
* checking package namespace information ... OK
* checking package dependencies ... OK
* checking if this is a source package ... OK
* checking if there is a namespace ... OK
* checking for hidden files and directories ... OK
* checking for portable file names ... OK
* checking for sufficient/correct file permissions ... OK
* checking whether package ‘CAGEr’ can be installed ... OK
* checking installed package size ... OK
* checking package directory ... OK
* checking ‘build’ directory ... OK
* checking DESCRIPTION meta-information ... OK
* checking top-level files ... OK
* checking for left-over files ... OK
* checking index information ... OK
* checking package subdirectories ... OK
* checking code files for non-ASCII characters ... OK
* checking R files for syntax errors ... OK
* checking whether the package can be loaded ... OK
* checking whether the package can be loaded with stated dependencies ... OK
* checking whether the package can be unloaded cleanly ... OK
* checking whether the namespace can be loaded with stated dependencies ... OK
* checking whether the namespace can be unloaded cleanly ... OK
* checking loading without being on the library search path ... OK
* checking dependencies in R code ... OK
* checking S3 generic/method consistency ... OK
* checking replacement functions ... OK
* checking foreign function calls ... OK
* checking R code for possible problems ... OK
* checking Rd files ... OK
* checking Rd metadata ... OK
* checking Rd cross-references ... OK
* checking for missing documentation entries ... OK
* checking for code/documentation mismatches ... OK
* checking Rd \usage sections ... OK
* checking Rd contents ... OK
* checking for unstated dependencies in examples ... OK
* checking contents of ‘data’ directory ... OK
* checking data for non-ASCII characters ... OK
* checking LazyData ... OK
* checking data for ASCII and uncompressed saves ... OK
* checking files in ‘vignettes’ ... OK
* checking examples ... OK
Examples with CPU (user + system) or elapsed time > 5s
                         user system elapsed
paraclu                42.588  0.283  42.872
exportToTrack          34.316  0.007  34.324
aggregateTagClusters   19.909  0.381  20.292
scoreShift             16.620  0.215  16.835
annotateCTSS           11.813  0.133  11.947
quantilePositions      11.727  0.015  11.742
distclu                 8.993  0.004   8.998
plotExpressionProfiles  6.717  0.108   6.825
* checking for unstated dependencies in vignettes ... OK
* checking package vignettes ... OK
* checking re-building of vignette outputs ... OK
* checking PDF version of manual ... OK
* DONE

Status: OK


Installation output

CAGEr.Rcheck/00install.out

##############################################################################
##############################################################################
###
### Running command:
###
###   /home/biocbuild/bbs-3.20-bioc/R/bin/R CMD INSTALL CAGEr
###
##############################################################################
##############################################################################


* installing to library ‘/home/biocbuild/bbs-3.20-bioc/R/site-library’
* installing *source* package ‘CAGEr’ ...
** using staged installation
** R
** data
*** moving datasets to lazyload DB
** inst
** byte-compile and prepare package for lazy loading
** help
*** installing help indices
** building package indices
** installing vignettes
** testing if installed package can be loaded from temporary location
** testing if installed package can be loaded from final location
** testing if installed package keeps a record of temporary installation path
* DONE (CAGEr)

Tests output


Example timings

CAGEr.Rcheck/CAGEr-Ex.timings

nameusersystemelapsed
CAGEexp-class3.0470.0383.089
CAGEr_Multicore3.6410.0613.702
CTSS-class0.2470.0000.247
CTSScoordinates0.0780.0020.080
CTSSnormalizedTpm0.6810.0400.721
CTSStagCount0.6420.0990.741
CTSStoGenes0.3780.0420.420
CustomConsensusClusters4.6810.0364.717
GeneExpDESeq20.4680.0120.480
GeneExpSE0.0030.0000.004
QuantileWidthFunctions0.1590.0080.168
TSSlogo2.3870.0602.450
aggregateTagClusters19.909 0.38120.292
annotateCTSS11.813 0.13311.947
byCtss0.0130.0020.015
consensusClusters0.1410.0000.141
consensusClustersDESeq22.0060.0002.006
consensusClustersTpm0.0060.0000.006
cumulativeCTSSdistribution3.5110.0463.558
distclu8.9930.0048.998
dot-ctss_summary_for_clusters0.7890.0010.790
exampleCAGEexp000
exportToTrack34.316 0.00734.324
expressionClasses1.8670.0201.886
filteredCTSSidx0.0090.0000.009
flagLowExpCTSS0.0300.0020.032
genomeName0.0000.0000.001
getCTSS0.8680.0050.873
getExpressionProfiles4.8200.0164.837
getShiftingPromoters1.8640.0051.869
hanabi0.2210.0030.223
hanabiPlot0.2740.0010.275
import.CAGEscanMolecule000
import.CTSS0.0780.0000.079
import.bam0.0000.0000.001
import.bedCTSS000
import.bedScore000
import.bedmolecule000
importPublicData000
inputFiles0.0010.0000.001
inputFilesType0.0010.0000.001
librarySizes0.0010.0000.001
mapStats0.0480.0010.048
mergeCAGEsets1.9830.0172.000
mergeSamples0.4610.0000.461
moleculesGR2CTSS0.1260.0020.127
normalizeTagCount0.4530.0040.435
paraclu42.588 0.28342.872
parseCAGEscanBlocksToGrangeTSS0.0200.0000.021
plotAnnot2.0670.0102.077
plotCorrelation0.2270.0000.226
plotExpressionProfiles6.7170.1086.825
plotInterquantileWidth3.1260.1733.300
plotReverseCumulatives2.0650.0032.010
quantilePositions11.727 0.01511.742
quickEnhancers000
ranges2annot0.340.000.34
ranges2genes0.0520.0000.052
ranges2names0.0500.0010.050
resetCAGEexp0.2870.0000.287
rowSums.RleDataFrame0.0190.0000.019
rowsum.RleDataFrame0.0210.0010.022
sampleLabels0.0040.0000.004
scoreShift16.620 0.21516.835
seqNameTotalsSE0.0040.0000.003
setColors0.2790.0010.280
strandInvaders0.5710.0190.577
summariseChrExpr0.3790.0040.383
tagClusters0.3770.0000.377