Back to Multiple platform build/check report for BioC 3.20:   simplified   long
AB[C]DEFGHIJKLMNOPQRSTUVWXYZ

This page was generated on 2025-02-06 12:11 -0500 (Thu, 06 Feb 2025).

HostnameOSArch (*)R versionInstalled pkgs
nebbiolo2Linux (Ubuntu 24.04.1 LTS)x86_644.4.2 (2024-10-31) -- "Pile of Leaves" 4753
palomino8Windows Server 2022 Datacenterx644.4.2 (2024-10-31 ucrt) -- "Pile of Leaves" 4501
merida1macOS 12.7.5 Montereyx86_644.4.2 (2024-10-31) -- "Pile of Leaves" 4524
kjohnson1macOS 13.6.6 Venturaarm644.4.2 (2024-10-31) -- "Pile of Leaves" 4476
taishanLinux (openEuler 24.03 LTS)aarch644.4.2 (2024-10-31) -- "Pile of Leaves" 4407
Click on any hostname to see more info about the system (e.g. compilers)      (*) as reported by 'uname -p', except on Windows and Mac OS X

Package 266/2289HostnameOS / ArchINSTALLBUILDCHECKBUILD BIN
CAGEr 2.12.0  (landing page)
Charles Plessy
Snapshot Date: 2025-02-03 13:00 -0500 (Mon, 03 Feb 2025)
git_url: https://git.bioconductor.org/packages/CAGEr
git_branch: RELEASE_3_20
git_last_commit: 492797d
git_last_commit_date: 2024-10-29 09:44:43 -0500 (Tue, 29 Oct 2024)
nebbiolo2Linux (Ubuntu 24.04.1 LTS) / x86_64  OK    OK    OK  UNNEEDED, same version is already published
palomino8Windows Server 2022 Datacenter / x64  OK    OK    OK    OK  UNNEEDED, same version is already published
merida1macOS 12.7.5 Monterey / x86_64  OK    OK    OK    OK  UNNEEDED, same version is already published
kjohnson1macOS 13.6.6 Ventura / arm64  OK    OK    OK    OK  UNNEEDED, same version is already published
taishanLinux (openEuler 24.03 LTS) / aarch64  OK    OK    OK  


CHECK results for CAGEr on taishan

To the developers/maintainers of the CAGEr package:
- Allow up to 24 hours (and sometimes 48 hours) for your latest push to git@git.bioconductor.org:packages/CAGEr.git to reflect on this report. See Troubleshooting Build Report for more information.
- Use the following Renviron settings to reproduce errors and warnings.
- If 'R CMD check' started to fail recently on the Linux builder(s) over a missing dependency, add the missing dependency to 'Suggests:' in your DESCRIPTION file. See Renviron.bioc for more information.
- See Martin Grigorov's blog post for how to debug Linux ARM64 related issues on a x86_64 host.

raw results


Summary

Package: CAGEr
Version: 2.12.0
Command: /home/biocbuild/R/R/bin/R CMD check --install=check:CAGEr.install-out.txt --library=/home/biocbuild/R/R/site-library --no-vignettes --timings CAGEr_2.12.0.tar.gz
StartedAt: 2025-02-04 05:18:39 -0000 (Tue, 04 Feb 2025)
EndedAt: 2025-02-04 05:31:31 -0000 (Tue, 04 Feb 2025)
EllapsedTime: 771.6 seconds
RetCode: 0
Status:   OK  
CheckDir: CAGEr.Rcheck
Warnings: 0

Command output

##############################################################################
##############################################################################
###
### Running command:
###
###   /home/biocbuild/R/R/bin/R CMD check --install=check:CAGEr.install-out.txt --library=/home/biocbuild/R/R/site-library --no-vignettes --timings CAGEr_2.12.0.tar.gz
###
##############################################################################
##############################################################################


* using log directory ‘/home/biocbuild/bbs-3.20-bioc/meat/CAGEr.Rcheck’
* using R version 4.4.2 (2024-10-31)
* using platform: aarch64-unknown-linux-gnu
* R was compiled by
    aarch64-unknown-linux-gnu-gcc (GCC) 14.2.0
    GNU Fortran (GCC) 12.3.1 (openEuler 12.3.1-36.oe2403)
* running under: openEuler 24.03 (LTS)
* using session charset: UTF-8
* using option ‘--no-vignettes’
* checking for file ‘CAGEr/DESCRIPTION’ ... OK
* this is package ‘CAGEr’ version ‘2.12.0’
* package encoding: UTF-8
* checking package namespace information ... OK
* checking package dependencies ... OK
* checking if this is a source package ... OK
* checking if there is a namespace ... OK
* checking for hidden files and directories ... OK
* checking for portable file names ... OK
* checking for sufficient/correct file permissions ... OK
* checking whether package ‘CAGEr’ can be installed ... OK
* checking installed package size ... OK
* checking package directory ... OK
* checking ‘build’ directory ... OK
* checking DESCRIPTION meta-information ... OK
* checking top-level files ... OK
* checking for left-over files ... OK
* checking index information ... OK
* checking package subdirectories ... OK
* checking code files for non-ASCII characters ... OK
* checking R files for syntax errors ... OK
* checking whether the package can be loaded ... OK
* checking whether the package can be loaded with stated dependencies ... OK
* checking whether the package can be unloaded cleanly ... OK
* checking whether the namespace can be loaded with stated dependencies ... OK
* checking whether the namespace can be unloaded cleanly ... OK
* checking loading without being on the library search path ... OK
* checking dependencies in R code ... OK
* checking S3 generic/method consistency ... OK
* checking replacement functions ... OK
* checking foreign function calls ... OK
* checking R code for possible problems ... OK
* checking Rd files ... OK
* checking Rd metadata ... OK
* checking Rd cross-references ... OK
* checking for missing documentation entries ... OK
* checking for code/documentation mismatches ... OK
* checking Rd \usage sections ... OK
* checking Rd contents ... OK
* checking for unstated dependencies in examples ... OK
* checking contents of ‘data’ directory ... OK
* checking data for non-ASCII characters ... OK
* checking LazyData ... OK
* checking data for ASCII and uncompressed saves ... OK
* checking files in ‘vignettes’ ... OK
* checking examples ... OK
Examples with CPU (user + system) or elapsed time > 5s
                             user system elapsed
paraclu                    69.917  0.291  70.418
exportToTrack              55.505  0.231  55.899
aggregateTagClusters       30.330  0.379  30.792
scoreShift                 25.728  0.183  25.988
quantilePositions          19.089  0.052  19.196
annotateCTSS               18.816  0.210  19.083
distclu                    14.733  0.132  14.910
plotExpressionProfiles     10.810  0.095  10.937
getExpressionProfiles       7.802  0.020   7.848
CustomConsensusClusters     7.332  0.080   7.433
cumulativeCTSSdistribution  5.028  0.056   5.097
* checking for unstated dependencies in vignettes ... OK
* checking package vignettes ... OK
* checking running R code from vignettes ... SKIPPED
* checking re-building of vignette outputs ... SKIPPED
* checking PDF version of manual ... OK
* DONE

Status: OK


Installation output

CAGEr.Rcheck/00install.out

##############################################################################
##############################################################################
###
### Running command:
###
###   /home/biocbuild/R/R/bin/R CMD INSTALL CAGEr
###
##############################################################################
##############################################################################


* installing to library ‘/home/biocbuild/R/R-4.4.2/site-library’
* installing *source* package ‘CAGEr’ ...
** using staged installation
** R
** data
*** moving datasets to lazyload DB
** inst
** byte-compile and prepare package for lazy loading
** help
*** installing help indices
** building package indices
** installing vignettes
** testing if installed package can be loaded from temporary location
** testing if installed package can be loaded from final location
** testing if installed package keeps a record of temporary installation path
* DONE (CAGEr)

Tests output


Example timings

CAGEr.Rcheck/CAGEr-Ex.timings

nameusersystemelapsed
CAGEexp-class3.4880.1123.640
CAGEr_Multicore3.3100.1113.431
CTSS-class0.3890.0000.390
CTSScoordinates0.1180.0040.122
CTSSnormalizedTpm1.1010.0481.151
CTSStagCount0.9930.0881.084
CTSStoGenes0.5370.0680.607
CustomConsensusClusters7.3320.0807.433
GeneExpDESeq20.6670.0150.685
GeneExpSE0.0060.0000.005
QuantileWidthFunctions0.2150.0070.223
TSSlogo3.8090.1243.964
aggregateTagClusters30.330 0.37930.792
annotateCTSS18.816 0.21019.083
byCtss0.0160.0040.020
consensusClusters0.2250.0080.233
consensusClustersDESeq23.0340.0083.052
consensusClustersTpm0.0070.0000.007
cumulativeCTSSdistribution5.0280.0565.097
distclu14.733 0.13214.910
dot-ctss_summary_for_clusters1.3130.0161.333
exampleCAGEexp0.0010.0000.000
exportToTrack55.505 0.23155.899
expressionClasses3.0340.0163.061
filteredCTSSidx0.0080.0040.013
flagLowExpCTSS0.0470.0000.048
genomeName0.0000.0000.001
getCTSS1.3370.0001.342
getExpressionProfiles7.8020.0207.848
getShiftingPromoters3.0490.0043.062
hanabi0.3470.0000.348
hanabiPlot0.3910.0120.404
import.CAGEscanMolecule000
import.CTSS0.1150.0000.115
import.bam000
import.bedCTSS000
import.bedScore000
import.bedmolecule000
importPublicData000
inputFiles0.0020.0000.002
inputFilesType0.0010.0000.001
librarySizes0.0020.0000.002
mapStats0.0710.0040.075
mergeCAGEsets2.9700.0403.019
mergeSamples0.6970.0080.706
moleculesGR2CTSS0.1750.0000.175
normalizeTagCount0.6390.0000.638
paraclu69.917 0.29170.418
parseCAGEscanBlocksToGrangeTSS0.0310.0000.031
plotAnnot3.2600.0563.326
plotCorrelation0.3520.0110.365
plotExpressionProfiles10.810 0.09510.937
plotInterquantileWidth4.1660.0764.253
plotReverseCumulatives3.0800.0123.090
quantilePositions19.089 0.05219.196
quickEnhancers000
ranges2annot0.5030.0000.505
ranges2genes0.0760.0000.077
ranges2names0.0740.0000.074
resetCAGEexp0.4610.0000.462
rowSums.RleDataFrame0.030.000.03
rowsum.RleDataFrame0.0330.0040.036
sampleLabels0.0070.0000.007
scoreShift25.728 0.18325.988
seqNameTotalsSE0.0050.0000.005
setColors0.4160.0000.418
strandInvaders0.8080.0320.839
summariseChrExpr0.5370.0000.539
tagClusters0.5420.0040.547