Back to Multiple platform build/check report for BioC 3.20:   simplified   long
AB[C]DEFGHIJKLMNOPQRSTUVWXYZ

This page was generated on 2025-02-13 12:10 -0500 (Thu, 13 Feb 2025).

HostnameOSArch (*)R versionInstalled pkgs
nebbiolo2Linux (Ubuntu 24.04.1 LTS)x86_644.4.2 (2024-10-31) -- "Pile of Leaves" 4754
palomino8Windows Server 2022 Datacenterx644.4.2 (2024-10-31 ucrt) -- "Pile of Leaves" 4502
merida1macOS 12.7.5 Montereyx86_644.4.2 (2024-10-31) -- "Pile of Leaves" 4525
kjohnson1macOS 13.6.6 Venturaarm644.4.2 (2024-10-31) -- "Pile of Leaves" 4477
taishanLinux (openEuler 24.03 LTS)aarch644.4.2 (2024-10-31) -- "Pile of Leaves" 4414
Click on any hostname to see more info about the system (e.g. compilers)      (*) as reported by 'uname -p', except on Windows and Mac OS X

Package 441/2289HostnameOS / ArchINSTALLBUILDCHECKBUILD BIN
CoSIA 1.6.0  (landing page)
Amanda D. Clark
Snapshot Date: 2025-02-10 13:00 -0500 (Mon, 10 Feb 2025)
git_url: https://git.bioconductor.org/packages/CoSIA
git_branch: RELEASE_3_20
git_last_commit: dfc812d
git_last_commit_date: 2024-10-29 11:34:25 -0500 (Tue, 29 Oct 2024)
nebbiolo2Linux (Ubuntu 24.04.1 LTS) / x86_64  OK    OK    OK  UNNEEDED, same version is already published
palomino8Windows Server 2022 Datacenter / x64  OK    OK    OK    OK  UNNEEDED, same version is already published
merida1macOS 12.7.5 Monterey / x86_64  OK    OK    TIMEOUT    OK  
kjohnson1macOS 13.6.6 Ventura / arm64  OK    OK    OK    OK  UNNEEDED, same version is already published
taishanLinux (openEuler 24.03 LTS) / aarch64  OK    OK    TIMEOUT  


CHECK results for CoSIA on kjohnson1

To the developers/maintainers of the CoSIA package:
- Allow up to 24 hours (and sometimes 48 hours) for your latest push to git@git.bioconductor.org:packages/CoSIA.git to reflect on this report. See Troubleshooting Build Report for more information.
- Use the following Renviron settings to reproduce errors and warnings.
- If 'R CMD check' started to fail recently on the Linux builder(s) over a missing dependency, add the missing dependency to 'Suggests:' in your DESCRIPTION file. See Renviron.bioc for more information.

raw results


Summary

Package: CoSIA
Version: 1.6.0
Command: /Library/Frameworks/R.framework/Resources/bin/R CMD check --install=check:CoSIA.install-out.txt --library=/Library/Frameworks/R.framework/Resources/library --no-vignettes --timings CoSIA_1.6.0.tar.gz
StartedAt: 2025-02-11 15:44:12 -0500 (Tue, 11 Feb 2025)
EndedAt: 2025-02-11 16:18:35 -0500 (Tue, 11 Feb 2025)
EllapsedTime: 2062.1 seconds
RetCode: 0
Status:   OK  
CheckDir: CoSIA.Rcheck
Warnings: 0

Command output

##############################################################################
##############################################################################
###
### Running command:
###
###   /Library/Frameworks/R.framework/Resources/bin/R CMD check --install=check:CoSIA.install-out.txt --library=/Library/Frameworks/R.framework/Resources/library --no-vignettes --timings CoSIA_1.6.0.tar.gz
###
##############################################################################
##############################################################################


* using log directory ‘/Users/biocbuild/bbs-3.20-bioc/meat/CoSIA.Rcheck’
* using R version 4.4.2 (2024-10-31)
* using platform: aarch64-apple-darwin20
* R was compiled by
    Apple clang version 14.0.0 (clang-1400.0.29.202)
    GNU Fortran (GCC) 12.2.0
* running under: macOS Ventura 13.7.1
* using session charset: UTF-8
* using option ‘--no-vignettes’
* checking for file ‘CoSIA/DESCRIPTION’ ... OK
* checking extension type ... Package
* this is package ‘CoSIA’ version ‘1.6.0’
* package encoding: UTF-8
* checking package namespace information ... OK
* checking package dependencies ... OK
* checking if this is a source package ... OK
* checking if there is a namespace ... OK
* checking for hidden files and directories ... OK
* checking for portable file names ... OK
* checking for sufficient/correct file permissions ... OK
* checking whether package ‘CoSIA’ can be installed ... OK
* checking installed package size ... OK
* checking package directory ... OK
* checking ‘build’ directory ... OK
* checking DESCRIPTION meta-information ... NOTE
License stub is invalid DCF.
* checking top-level files ... OK
* checking for left-over files ... OK
* checking index information ... OK
* checking package subdirectories ... OK
* checking code files for non-ASCII characters ... OK
* checking R files for syntax errors ... OK
* checking whether the package can be loaded ... OK
* checking whether the package can be loaded with stated dependencies ... OK
* checking whether the package can be unloaded cleanly ... OK
* checking whether the namespace can be loaded with stated dependencies ... OK
* checking whether the namespace can be unloaded cleanly ... OK
* checking dependencies in R code ... OK
* checking S3 generic/method consistency ... OK
* checking replacement functions ... OK
* checking foreign function calls ... OK
* checking R code for possible problems ... OK
* checking Rd files ... OK
* checking Rd metadata ... OK
* checking Rd cross-references ... OK
* checking for missing documentation entries ... OK
* checking for code/documentation mismatches ... OK
* checking Rd \usage sections ... OK
* checking Rd contents ... OK
* checking for unstated dependencies in examples ... OK
* checking files in ‘vignettes’ ... OK
* checking examples ... OK
Examples with CPU (user + system) or elapsed time > 5s
                                user system elapsed
plotCVGEx-CoSIAn-method      519.069 18.931 545.094
plotCVGEx                    449.060 15.562 469.515
getTissues                   132.936  2.344 136.561
plotSpeciesGEx-CoSIAn-method 117.635  2.653 121.778
plotDSGEx                    109.590  2.212 113.183
plotSpeciesGEx               110.060  1.490 113.058
plotTissueGEx-CoSIAn-method  109.605  1.645 112.466
plotTissueGEx                107.961  1.456 110.928
plotDSGEx-CoSIAn-method      103.878  2.092 107.121
getGEx-CoSIAn-method          27.823  1.133  30.476
getGExMetrics-CoSIAn-method   25.270  0.559  26.997
getGEx                        22.672  0.552  24.289
getGExMetrics                 22.473  0.523  23.979
getConversion-CoSIAn-method    5.744  0.139   5.907
* checking for unstated dependencies in vignettes ... OK
* checking package vignettes ... OK
* checking running R code from vignettes ... SKIPPED
* checking re-building of vignette outputs ... SKIPPED
* checking PDF version of manual ... OK
* DONE

Status: 1 NOTE
See
  ‘/Users/biocbuild/bbs-3.20-bioc/meat/CoSIA.Rcheck/00check.log’
for details.


Installation output

CoSIA.Rcheck/00install.out

##############################################################################
##############################################################################
###
### Running command:
###
###   /Library/Frameworks/R.framework/Resources/bin/R CMD INSTALL CoSIA
###
##############################################################################
##############################################################################


* installing to library ‘/Library/Frameworks/R.framework/Versions/4.4-arm64/Resources/library’
* installing *source* package ‘CoSIA’ ...
** using staged installation
** R
** inst
** byte-compile and prepare package for lazy loading
** help
*** installing help indices
** building package indices
** installing vignettes
** testing if installed package can be loaded from temporary location
** testing if installed package can be loaded from final location
** testing if installed package keeps a record of temporary installation path
* DONE (CoSIA)

Tests output


Example timings

CoSIA.Rcheck/CoSIA-Ex.timings

nameusersystemelapsed
CoSIA-constructor0.0030.0000.004
getConversion-CoSIAn-method5.7440.1395.907
getConversion2.9520.0563.009
getGEx-CoSIAn-method27.823 1.13330.476
getGEx22.672 0.55224.289
getGExMetrics-CoSIAn-method25.270 0.55926.997
getGExMetrics22.473 0.52323.979
getTissues132.936 2.344136.561
plotCVGEx-CoSIAn-method519.069 18.931545.094
plotCVGEx449.060 15.562469.515
plotDSGEx-CoSIAn-method103.878 2.092107.121
plotDSGEx109.590 2.212113.183
plotSpeciesGEx-CoSIAn-method117.635 2.653121.778
plotSpeciesGEx110.060 1.490113.058
plotTissueGEx-CoSIAn-method109.605 1.645112.466
plotTissueGEx107.961 1.456110.928
viewCoSIAn-CoSIAn-method0.0010.0000.002
viewCoSIAn0.0010.0010.001