Back to Multiple platform build/check report for BioC 3.20: simplified long |
|
This page was generated on 2025-02-06 12:04 -0500 (Thu, 06 Feb 2025).
Hostname | OS | Arch (*) | R version | Installed pkgs |
---|---|---|---|---|
nebbiolo2 | Linux (Ubuntu 24.04.1 LTS) | x86_64 | 4.4.2 (2024-10-31) -- "Pile of Leaves" | 4753 |
palomino8 | Windows Server 2022 Datacenter | x64 | 4.4.2 (2024-10-31 ucrt) -- "Pile of Leaves" | 4501 |
merida1 | macOS 12.7.5 Monterey | x86_64 | 4.4.2 (2024-10-31) -- "Pile of Leaves" | 4524 |
kjohnson1 | macOS 13.6.6 Ventura | arm64 | 4.4.2 (2024-10-31) -- "Pile of Leaves" | 4476 |
taishan | Linux (openEuler 24.03 LTS) | aarch64 | 4.4.2 (2024-10-31) -- "Pile of Leaves" | 4407 |
Click on any hostname to see more info about the system (e.g. compilers) (*) as reported by 'uname -p', except on Windows and Mac OS X |
Package 441/2289 | Hostname | OS / Arch | INSTALL | BUILD | CHECK | BUILD BIN | ||||||||
CoSIA 1.6.0 (landing page) Amanda D. Clark
| nebbiolo2 | Linux (Ubuntu 24.04.1 LTS) / x86_64 | OK | OK | OK | ![]() | ||||||||
palomino8 | Windows Server 2022 Datacenter / x64 | OK | OK | OK | OK | ![]() | ||||||||
merida1 | macOS 12.7.5 Monterey / x86_64 | OK | OK | TIMEOUT | OK | |||||||||
kjohnson1 | macOS 13.6.6 Ventura / arm64 | OK | OK | OK | OK | ![]() | ||||||||
taishan | Linux (openEuler 24.03 LTS) / aarch64 | OK | OK | OK | ||||||||||
To the developers/maintainers of the CoSIA package: - Allow up to 24 hours (and sometimes 48 hours) for your latest push to git@git.bioconductor.org:packages/CoSIA.git to reflect on this report. See Troubleshooting Build Report for more information. - Use the following Renviron settings to reproduce errors and warnings. - If 'R CMD check' started to fail recently on the Linux builder(s) over a missing dependency, add the missing dependency to 'Suggests:' in your DESCRIPTION file. See Renviron.bioc for more information. |
Package: CoSIA |
Version: 1.6.0 |
Command: /home/biocbuild/bbs-3.20-bioc/R/bin/R CMD check --install=check:CoSIA.install-out.txt --library=/home/biocbuild/bbs-3.20-bioc/R/site-library --timings CoSIA_1.6.0.tar.gz |
StartedAt: 2025-02-03 21:18:26 -0500 (Mon, 03 Feb 2025) |
EndedAt: 2025-02-03 21:45:07 -0500 (Mon, 03 Feb 2025) |
EllapsedTime: 1601.4 seconds |
RetCode: 0 |
Status: OK |
CheckDir: CoSIA.Rcheck |
Warnings: 0 |
############################################################################## ############################################################################## ### ### Running command: ### ### /home/biocbuild/bbs-3.20-bioc/R/bin/R CMD check --install=check:CoSIA.install-out.txt --library=/home/biocbuild/bbs-3.20-bioc/R/site-library --timings CoSIA_1.6.0.tar.gz ### ############################################################################## ############################################################################## * using log directory ‘/home/biocbuild/bbs-3.20-bioc/meat/CoSIA.Rcheck’ * using R version 4.4.2 (2024-10-31) * using platform: x86_64-pc-linux-gnu * R was compiled by gcc (Ubuntu 13.2.0-23ubuntu4) 13.2.0 GNU Fortran (Ubuntu 13.2.0-23ubuntu4) 13.2.0 * running under: Ubuntu 24.04.1 LTS * using session charset: UTF-8 * checking for file ‘CoSIA/DESCRIPTION’ ... OK * checking extension type ... Package * this is package ‘CoSIA’ version ‘1.6.0’ * package encoding: UTF-8 * checking package namespace information ... OK * checking package dependencies ... OK * checking if this is a source package ... OK * checking if there is a namespace ... OK * checking for hidden files and directories ... OK * checking for portable file names ... OK * checking for sufficient/correct file permissions ... OK * checking whether package ‘CoSIA’ can be installed ... OK * checking installed package size ... OK * checking package directory ... OK * checking ‘build’ directory ... OK * checking DESCRIPTION meta-information ... NOTE License stub is invalid DCF. * checking top-level files ... OK * checking for left-over files ... OK * checking index information ... OK * checking package subdirectories ... OK * checking code files for non-ASCII characters ... OK * checking R files for syntax errors ... OK * checking whether the package can be loaded ... OK * checking whether the package can be loaded with stated dependencies ... OK * checking whether the package can be unloaded cleanly ... OK * checking whether the namespace can be loaded with stated dependencies ... OK * checking whether the namespace can be unloaded cleanly ... OK * checking loading without being on the library search path ... OK * checking dependencies in R code ... OK * checking S3 generic/method consistency ... OK * checking replacement functions ... OK * checking foreign function calls ... OK * checking R code for possible problems ... OK * checking Rd files ... OK * checking Rd metadata ... OK * checking Rd cross-references ... OK * checking for missing documentation entries ... OK * checking for code/documentation mismatches ... OK * checking Rd \usage sections ... OK * checking Rd contents ... OK * checking for unstated dependencies in examples ... OK * checking files in ‘vignettes’ ... OK * checking examples ... OK Examples with CPU (user + system) or elapsed time > 5s user system elapsed plotCVGEx-CoSIAn-method 344.644 29.669 375.096 plotCVGEx 295.951 18.488 314.995 getTissues 100.289 3.460 103.983 plotSpeciesGEx 86.187 3.787 90.282 plotSpeciesGEx-CoSIAn-method 84.449 3.991 88.686 plotDSGEx 79.243 2.558 82.080 plotTissueGEx 79.841 1.915 82.033 plotTissueGEx-CoSIAn-method 78.581 1.647 80.487 plotDSGEx-CoSIAn-method 74.215 1.582 76.038 getGEx-CoSIAn-method 19.577 0.720 20.584 getGExMetrics-CoSIAn-method 18.473 0.229 18.931 getGEx 16.663 0.319 17.210 getGExMetrics 15.990 0.310 16.530 * checking for unstated dependencies in vignettes ... OK * checking package vignettes ... OK * checking re-building of vignette outputs ... OK * checking PDF version of manual ... OK * DONE Status: 1 NOTE See ‘/home/biocbuild/bbs-3.20-bioc/meat/CoSIA.Rcheck/00check.log’ for details.
CoSIA.Rcheck/00install.out
############################################################################## ############################################################################## ### ### Running command: ### ### /home/biocbuild/bbs-3.20-bioc/R/bin/R CMD INSTALL CoSIA ### ############################################################################## ############################################################################## * installing to library ‘/home/biocbuild/bbs-3.20-bioc/R/site-library’ * installing *source* package ‘CoSIA’ ... ** using staged installation ** R ** inst ** byte-compile and prepare package for lazy loading ** help *** installing help indices ** building package indices ** installing vignettes ** testing if installed package can be loaded from temporary location ** testing if installed package can be loaded from final location ** testing if installed package keeps a record of temporary installation path * DONE (CoSIA)
CoSIA.Rcheck/CoSIA-Ex.timings
name | user | system | elapsed | |
CoSIA-constructor | 0.003 | 0.000 | 0.003 | |
getConversion-CoSIAn-method | 4.127 | 0.197 | 4.333 | |
getConversion | 2.107 | 0.019 | 2.126 | |
getGEx-CoSIAn-method | 19.577 | 0.720 | 20.584 | |
getGEx | 16.663 | 0.319 | 17.210 | |
getGExMetrics-CoSIAn-method | 18.473 | 0.229 | 18.931 | |
getGExMetrics | 15.99 | 0.31 | 16.53 | |
getTissues | 100.289 | 3.460 | 103.983 | |
plotCVGEx-CoSIAn-method | 344.644 | 29.669 | 375.096 | |
plotCVGEx | 295.951 | 18.488 | 314.995 | |
plotDSGEx-CoSIAn-method | 74.215 | 1.582 | 76.038 | |
plotDSGEx | 79.243 | 2.558 | 82.080 | |
plotSpeciesGEx-CoSIAn-method | 84.449 | 3.991 | 88.686 | |
plotSpeciesGEx | 86.187 | 3.787 | 90.282 | |
plotTissueGEx-CoSIAn-method | 78.581 | 1.647 | 80.487 | |
plotTissueGEx | 79.841 | 1.915 | 82.033 | |
viewCoSIAn-CoSIAn-method | 0.002 | 0.000 | 0.001 | |
viewCoSIAn | 0.001 | 0.000 | 0.001 | |