Back to Multiple platform build/check report for BioC 3.20:   simplified   long
AB[C]DEFGHIJKLMNOPQRSTUVWXYZ

This page was generated on 2025-02-06 12:06 -0500 (Thu, 06 Feb 2025).

HostnameOSArch (*)R versionInstalled pkgs
nebbiolo2Linux (Ubuntu 24.04.1 LTS)x86_644.4.2 (2024-10-31) -- "Pile of Leaves" 4753
palomino8Windows Server 2022 Datacenterx644.4.2 (2024-10-31 ucrt) -- "Pile of Leaves" 4501
merida1macOS 12.7.5 Montereyx86_644.4.2 (2024-10-31) -- "Pile of Leaves" 4524
kjohnson1macOS 13.6.6 Venturaarm644.4.2 (2024-10-31) -- "Pile of Leaves" 4476
taishanLinux (openEuler 24.03 LTS)aarch644.4.2 (2024-10-31) -- "Pile of Leaves" 4407
Click on any hostname to see more info about the system (e.g. compilers)      (*) as reported by 'uname -p', except on Windows and Mac OS X

Package 441/2289HostnameOS / ArchINSTALLBUILDCHECKBUILD BIN
CoSIA 1.6.0  (landing page)
Amanda D. Clark
Snapshot Date: 2025-02-03 13:00 -0500 (Mon, 03 Feb 2025)
git_url: https://git.bioconductor.org/packages/CoSIA
git_branch: RELEASE_3_20
git_last_commit: dfc812d
git_last_commit_date: 2024-10-29 11:34:25 -0500 (Tue, 29 Oct 2024)
nebbiolo2Linux (Ubuntu 24.04.1 LTS) / x86_64  OK    OK    OK  UNNEEDED, same version is already published
palomino8Windows Server 2022 Datacenter / x64  OK    OK    OK    OK  UNNEEDED, same version is already published
merida1macOS 12.7.5 Monterey / x86_64  OK    OK    TIMEOUT    OK  
kjohnson1macOS 13.6.6 Ventura / arm64  OK    OK    OK    OK  UNNEEDED, same version is already published
taishanLinux (openEuler 24.03 LTS) / aarch64  OK    OK    OK  


CHECK results for CoSIA on palomino8

To the developers/maintainers of the CoSIA package:
- Allow up to 24 hours (and sometimes 48 hours) for your latest push to git@git.bioconductor.org:packages/CoSIA.git to reflect on this report. See Troubleshooting Build Report for more information.
- Use the following Renviron settings to reproduce errors and warnings.
- If 'R CMD check' started to fail recently on the Linux builder(s) over a missing dependency, add the missing dependency to 'Suggests:' in your DESCRIPTION file. See Renviron.bioc for more information.

raw results


Summary

Package: CoSIA
Version: 1.6.0
Command: F:\biocbuild\bbs-3.20-bioc\R\bin\R.exe CMD check --no-multiarch --install=check:CoSIA.install-out.txt --library=F:\biocbuild\bbs-3.20-bioc\R\library --no-vignettes --timings CoSIA_1.6.0.tar.gz
StartedAt: 2025-02-04 00:39:48 -0500 (Tue, 04 Feb 2025)
EndedAt: 2025-02-04 01:10:50 -0500 (Tue, 04 Feb 2025)
EllapsedTime: 1862.0 seconds
RetCode: 0
Status:   OK  
CheckDir: CoSIA.Rcheck
Warnings: 0

Command output

##############################################################################
##############################################################################
###
### Running command:
###
###   F:\biocbuild\bbs-3.20-bioc\R\bin\R.exe CMD check --no-multiarch --install=check:CoSIA.install-out.txt --library=F:\biocbuild\bbs-3.20-bioc\R\library --no-vignettes --timings CoSIA_1.6.0.tar.gz
###
##############################################################################
##############################################################################


* using log directory 'F:/biocbuild/bbs-3.20-bioc/meat/CoSIA.Rcheck'
* using R version 4.4.2 (2024-10-31 ucrt)
* using platform: x86_64-w64-mingw32
* R was compiled by
    gcc.exe (GCC) 13.3.0
    GNU Fortran (GCC) 13.3.0
* running under: Windows Server 2022 x64 (build 20348)
* using session charset: UTF-8
* using option '--no-vignettes'
* checking for file 'CoSIA/DESCRIPTION' ... OK
* checking extension type ... Package
* this is package 'CoSIA' version '1.6.0'
* package encoding: UTF-8
* checking package namespace information ... OK
* checking package dependencies ... OK
* checking if this is a source package ... OK
* checking if there is a namespace ... OK
* checking for hidden files and directories ... OK
* checking for portable file names ... OK
* checking whether package 'CoSIA' can be installed ... OK
* checking installed package size ... OK
* checking package directory ... OK
* checking 'build' directory ... OK
* checking DESCRIPTION meta-information ... NOTE
License stub is invalid DCF.
* checking top-level files ... OK
* checking for left-over files ... OK
* checking index information ... OK
* checking package subdirectories ... OK
* checking code files for non-ASCII characters ... OK
* checking R files for syntax errors ... OK
* checking whether the package can be loaded ... OK
* checking whether the package can be loaded with stated dependencies ... OK
* checking whether the package can be unloaded cleanly ... OK
* checking whether the namespace can be loaded with stated dependencies ... OK
* checking whether the namespace can be unloaded cleanly ... OK
* checking dependencies in R code ... OK
* checking S3 generic/method consistency ... OK
* checking replacement functions ... OK
* checking foreign function calls ... OK
* checking R code for possible problems ... OK
* checking Rd files ... OK
* checking Rd metadata ... OK
* checking Rd cross-references ... OK
* checking for missing documentation entries ... OK
* checking for code/documentation mismatches ... OK
* checking Rd \usage sections ... OK
* checking Rd contents ... OK
* checking for unstated dependencies in examples ... OK
* checking files in 'vignettes' ... OK
* checking examples ... OK
Examples with CPU (user + system) or elapsed time > 5s
                               user system elapsed
plotCVGEx-CoSIAn-method      373.02  38.46  546.60
plotCVGEx                    330.38  27.03  360.33
getTissues                   106.65   5.20  122.05
plotSpeciesGEx-CoSIAn-method 104.97   5.44  113.14
plotDSGEx                     95.68   3.11   98.94
plotTissueGEx-CoSIAn-method   95.50   2.90   98.77
plotSpeciesGEx                94.29   2.55   98.34
plotTissueGEx                 89.55   2.25   95.14
plotDSGEx-CoSIAn-method       80.35   3.26   94.41
getGEx-CoSIAn-method          24.50   2.35   29.05
getGExMetrics-CoSIAn-method   21.14   0.79   22.20
getGEx                        18.36   0.75   19.38
getGExMetrics                 17.89   0.66   18.70
getConversion-CoSIAn-method    5.33   0.25    5.88
* checking for unstated dependencies in vignettes ... OK
* checking package vignettes ... OK
* checking running R code from vignettes ... SKIPPED
* checking re-building of vignette outputs ... SKIPPED
* checking PDF version of manual ... OK
* DONE

Status: 1 NOTE
See
  'F:/biocbuild/bbs-3.20-bioc/meat/CoSIA.Rcheck/00check.log'
for details.


Installation output

CoSIA.Rcheck/00install.out

##############################################################################
##############################################################################
###
### Running command:
###
###   F:\biocbuild\bbs-3.20-bioc\R\bin\R.exe CMD INSTALL CoSIA
###
##############################################################################
##############################################################################


* installing to library 'F:/biocbuild/bbs-3.20-bioc/R/library'
* installing *source* package 'CoSIA' ...
** using staged installation
** R
** inst
** byte-compile and prepare package for lazy loading
** help
*** installing help indices
** building package indices
** installing vignettes
** testing if installed package can be loaded from temporary location
** testing if installed package can be loaded from final location
** testing if installed package keeps a record of temporary installation path
* DONE (CoSIA)

Tests output


Example timings

CoSIA.Rcheck/CoSIA-Ex.timings

nameusersystemelapsed
CoSIA-constructor0.010.000.02
getConversion-CoSIAn-method5.330.255.88
getConversion3.290.123.42
getGEx-CoSIAn-method24.50 2.3529.05
getGEx18.36 0.7519.38
getGExMetrics-CoSIAn-method21.14 0.7922.20
getGExMetrics17.89 0.6618.70
getTissues106.65 5.20122.05
plotCVGEx-CoSIAn-method373.02 38.46546.60
plotCVGEx330.38 27.03360.33
plotDSGEx-CoSIAn-method80.35 3.2694.41
plotDSGEx95.68 3.1198.94
plotSpeciesGEx-CoSIAn-method104.97 5.44113.14
plotSpeciesGEx94.29 2.5598.34
plotTissueGEx-CoSIAn-method95.50 2.9098.77
plotTissueGEx89.55 2.2595.14
viewCoSIAn-CoSIAn-method000
viewCoSIAn0.000.000.01