Back to Multiple platform build/check report for BioC 3.20:   simplified   long
ABCDE[F]GHIJKLMNOPQRSTUVWXYZ

This page was generated on 2025-02-06 12:09 -0500 (Thu, 06 Feb 2025).

HostnameOSArch (*)R versionInstalled pkgs
nebbiolo2Linux (Ubuntu 24.04.1 LTS)x86_644.4.2 (2024-10-31) -- "Pile of Leaves" 4753
palomino8Windows Server 2022 Datacenterx644.4.2 (2024-10-31 ucrt) -- "Pile of Leaves" 4501
merida1macOS 12.7.5 Montereyx86_644.4.2 (2024-10-31) -- "Pile of Leaves" 4524
kjohnson1macOS 13.6.6 Venturaarm644.4.2 (2024-10-31) -- "Pile of Leaves" 4476
taishanLinux (openEuler 24.03 LTS)aarch644.4.2 (2024-10-31) -- "Pile of Leaves" 4407
Click on any hostname to see more info about the system (e.g. compilers)      (*) as reported by 'uname -p', except on Windows and Mac OS X

Package 742/2289HostnameOS / ArchINSTALLBUILDCHECKBUILD BIN
FlowSOM 2.14.0  (landing page)
Sofie Van Gassen
Snapshot Date: 2025-02-03 13:00 -0500 (Mon, 03 Feb 2025)
git_url: https://git.bioconductor.org/packages/FlowSOM
git_branch: RELEASE_3_20
git_last_commit: 85b1db5
git_last_commit_date: 2024-10-29 09:57:26 -0500 (Tue, 29 Oct 2024)
nebbiolo2Linux (Ubuntu 24.04.1 LTS) / x86_64  OK    OK    OK  UNNEEDED, same version is already published
palomino8Windows Server 2022 Datacenter / x64  OK    OK    OK    OK  UNNEEDED, same version is already published
merida1macOS 12.7.5 Monterey / x86_64  OK    OK    OK    OK  UNNEEDED, same version is already published
kjohnson1macOS 13.6.6 Ventura / arm64  OK    OK    OK    OK  UNNEEDED, same version is already published
taishanLinux (openEuler 24.03 LTS) / aarch64  OK    OK    OK  


CHECK results for FlowSOM on kjohnson1

To the developers/maintainers of the FlowSOM package:
- Allow up to 24 hours (and sometimes 48 hours) for your latest push to git@git.bioconductor.org:packages/FlowSOM.git to reflect on this report. See Troubleshooting Build Report for more information.
- Use the following Renviron settings to reproduce errors and warnings.
- If 'R CMD check' started to fail recently on the Linux builder(s) over a missing dependency, add the missing dependency to 'Suggests:' in your DESCRIPTION file. See Renviron.bioc for more information.

raw results


Summary

Package: FlowSOM
Version: 2.14.0
Command: /Library/Frameworks/R.framework/Resources/bin/R CMD check --install=check:FlowSOM.install-out.txt --library=/Library/Frameworks/R.framework/Resources/library --no-vignettes --timings FlowSOM_2.14.0.tar.gz
StartedAt: 2025-02-04 20:05:18 -0500 (Tue, 04 Feb 2025)
EndedAt: 2025-02-04 20:14:45 -0500 (Tue, 04 Feb 2025)
EllapsedTime: 567.0 seconds
RetCode: 0
Status:   OK  
CheckDir: FlowSOM.Rcheck
Warnings: 0

Command output

##############################################################################
##############################################################################
###
### Running command:
###
###   /Library/Frameworks/R.framework/Resources/bin/R CMD check --install=check:FlowSOM.install-out.txt --library=/Library/Frameworks/R.framework/Resources/library --no-vignettes --timings FlowSOM_2.14.0.tar.gz
###
##############################################################################
##############################################################################


* using log directory ‘/Users/biocbuild/bbs-3.20-bioc/meat/FlowSOM.Rcheck’
* using R version 4.4.2 (2024-10-31)
* using platform: aarch64-apple-darwin20
* R was compiled by
    Apple clang version 14.0.0 (clang-1400.0.29.202)
    GNU Fortran (GCC) 12.2.0
* running under: macOS Ventura 13.7.1
* using session charset: UTF-8
* using option ‘--no-vignettes’
* checking for file ‘FlowSOM/DESCRIPTION’ ... OK
* this is package ‘FlowSOM’ version ‘2.14.0’
* package encoding: UTF-8
* checking package namespace information ... OK
* checking package dependencies ... OK
* checking if this is a source package ... OK
* checking if there is a namespace ... OK
* checking for hidden files and directories ... OK
* checking for portable file names ... OK
* checking for sufficient/correct file permissions ... OK
* checking whether package ‘FlowSOM’ can be installed ... OK
* used C compiler: ‘Apple clang version 15.0.0 (clang-1500.0.40.1)’
* used SDK: ‘MacOSX11.3.sdk’
* checking installed package size ... OK
* checking package directory ... OK
* checking ‘build’ directory ... OK
* checking DESCRIPTION meta-information ... OK
* checking top-level files ... OK
* checking for left-over files ... OK
* checking index information ... OK
* checking package subdirectories ... OK
* checking code files for non-ASCII characters ... OK
* checking R files for syntax errors ... OK
* checking whether the package can be loaded ... OK
* checking whether the package can be loaded with stated dependencies ... OK
* checking whether the package can be unloaded cleanly ... OK
* checking whether the namespace can be loaded with stated dependencies ... OK
* checking whether the namespace can be unloaded cleanly ... OK
* checking whether startup messages can be suppressed ... OK
* checking dependencies in R code ... OK
* checking S3 generic/method consistency ... OK
* checking replacement functions ... OK
* checking foreign function calls ... OK
* checking R code for possible problems ... OK
* checking Rd files ... NOTE
checkRd: (-1) PlotDimRed.Rd:55: Lost braces
    55 | of the dimred default = function(dimred){dimred$Y}.}
       |                                         ^
* checking Rd metadata ... OK
* checking Rd cross-references ... OK
* checking for missing documentation entries ... OK
* checking for code/documentation mismatches ... OK
* checking Rd \usage sections ... OK
* checking Rd contents ... OK
* checking for unstated dependencies in examples ... OK
* checking line endings in C/C++/Fortran sources/headers ... OK
* checking compiled code ... NOTE
Note: information on .o files is not available
* checking sizes of PDF files under ‘inst/doc’ ... OK
* checking files in ‘vignettes’ ... OK
* checking examples ... OK
Examples with CPU (user + system) or elapsed time > 5s
                                    user system elapsed
FlowSOMmary                       56.861  2.482  59.742
PlotDimRed                        52.949  3.167  56.354
PlotMarker                        16.519  1.247  17.799
UpdateMetaclusters                16.179  1.133  17.332
PlotOutliers                      15.829  0.620  16.506
PlotStars                         13.932  0.906  14.871
FlowSOM                           12.795  1.083  14.075
GroupStats                        12.185  0.920  13.124
PlotGroups                        10.917  1.009  11.950
query_multiple                     9.158  0.655   9.832
QueryMultiple                      8.914  0.588   9.526
AddAnnotation                      8.809  0.565   9.381
GetFlowJoLabels                    7.961  0.839   8.817
Plot2DScatters                     8.042  0.715   8.767
CountGroups                        7.339  0.630   8.035
PlotManualBars                     7.049  0.705   7.789
PlotNode                           6.651  0.706   7.366
PlotNumbers                        6.531  0.712   7.258
PlotVariable                       6.302  0.710   7.041
SaveClustersToFCS                  6.234  0.734   6.980
QueryStarPlot                      6.410  0.480   6.956
PlotPies                           6.151  0.710   6.910
PlotLabels                         5.505  0.637   6.159
PlotFlowSOM                        5.486  0.631   6.138
GetMetaclusterCVs                  5.346  0.701   6.072
NMetaclusters                      5.370  0.628   6.004
UpdateNodeSize                     5.695  0.277   5.983
MetaclusterCVs                     5.326  0.601   5.981
TestOutliers                       5.253  0.673   5.955
GetFeatures                        5.448  0.454   5.907
MetaclusterMFIs                    5.124  0.572   5.741
GetMFIs                            4.852  0.774   5.640
print.FlowSOM                      4.904  0.694   5.635
PlotOverview2D                     4.996  0.583   5.593
GetMetaclusters                    4.854  0.704   5.571
NClusters                          4.908  0.608   5.599
GetPercentages                     4.879  0.568   5.463
GetMetaclusterMFIs                 4.723  0.626   5.353
GetCounts                          4.710  0.620   5.453
GetClusterMFIs                     4.702  0.554   5.319
GetClusters                        4.574  0.546   5.148
GetMetaclusterPercentagesPositive  4.403  0.707   5.145
GetClusterPercentagesPositive      4.668  0.420   5.140
* checking for unstated dependencies in vignettes ... OK
* checking package vignettes ... OK
* checking running R code from vignettes ... SKIPPED
* checking re-building of vignette outputs ... SKIPPED
* checking PDF version of manual ... OK
* DONE

Status: 2 NOTEs
See
  ‘/Users/biocbuild/bbs-3.20-bioc/meat/FlowSOM.Rcheck/00check.log’
for details.


Installation output

FlowSOM.Rcheck/00install.out

##############################################################################
##############################################################################
###
### Running command:
###
###   /Library/Frameworks/R.framework/Resources/bin/R CMD INSTALL FlowSOM
###
##############################################################################
##############################################################################


* installing to library ‘/Library/Frameworks/R.framework/Versions/4.4-arm64/Resources/library’
* installing *source* package ‘FlowSOM’ ...
** using staged installation
** libs
using C compiler: ‘Apple clang version 15.0.0 (clang-1500.0.40.1)’
using SDK: ‘MacOSX11.3.sdk’
clang -arch arm64 -I"/Library/Frameworks/R.framework/Resources/include" -DNDEBUG   -I/opt/R/arm64/include    -fPIC  -falign-functions=64 -Wall -g -O2  -c som.c -o som.o
clang -arch arm64 -dynamiclib -Wl,-headerpad_max_install_names -undefined dynamic_lookup -L/Library/Frameworks/R.framework/Resources/lib -L/opt/R/arm64/lib -o FlowSOM.so som.o -F/Library/Frameworks/R.framework/.. -framework R -Wl,-framework -Wl,CoreFoundation
installing to /Library/Frameworks/R.framework/Versions/4.4-arm64/Resources/library/00LOCK-FlowSOM/00new/FlowSOM/libs
** R
** inst
** byte-compile and prepare package for lazy loading
** help
*** installing help indices
** building package indices
** installing vignettes
** testing if installed package can be loaded from temporary location
** checking absolute paths in shared objects and dynamic libraries
** testing if installed package can be loaded from final location
** testing if installed package keeps a record of temporary installation path
* DONE (FlowSOM)

Tests output


Example timings

FlowSOM.Rcheck/FlowSOM-Ex.timings

nameusersystemelapsed
AddAnnotation8.8090.5659.381
AggregateFlowFrames0.1080.0140.126
BuildMST1.7150.1171.847
BuildSOM1.2950.1001.406
CountGroups7.3390.6308.035
FMeasure0.0010.0000.001
FlowSOM12.795 1.08314.075
FlowSOMSubset4.5870.2824.896
FlowSOMmary56.861 2.48259.742
GetChannels0.0410.0040.045
GetClusterMFIs4.7020.5545.319
GetClusterPercentagesPositive4.6680.4205.140
GetClusters4.5740.5465.148
GetCounts4.7100.6205.453
GetFeatures5.4480.4545.907
GetFlowJoLabels7.9610.8398.817
GetMFIs4.8520.7745.640
GetMarkers0.0410.0030.044
GetMetaclusterCVs5.3460.7016.072
GetMetaclusterMFIs4.7230.6265.353
GetMetaclusterPercentagesPositive4.4030.7075.145
GetMetaclusters4.8540.7045.571
GetPercentages4.8790.5685.463
GroupStats12.185 0.92013.124
Initialize_KWSP0.0040.0000.004
Initialize_PCA0.0010.0000.001
MetaClustering3.1720.5903.765
MetaclusterCVs5.3260.6015.981
MetaclusterMFIs5.1240.5725.741
NClusters4.9080.6085.599
NMetaclusters5.3700.6286.004
NewData4.1490.4274.583
Plot2DScatters8.0420.7158.767
PlotCenters1.2840.0981.384
PlotClusters2D1.1620.0671.230
PlotDimRed52.949 3.16756.354
PlotFileScatters0.5690.0330.605
PlotFlowSOM5.4860.6316.138
PlotGroups10.917 1.00911.950
PlotLabels5.5050.6376.159
PlotManualBars7.0490.7057.789
PlotMarker16.519 1.24717.799
PlotNode6.6510.7067.366
PlotNumbers6.5310.7127.258
PlotOutliers15.829 0.62016.506
PlotOverview2D4.9960.5835.593
PlotPies6.1510.7106.910
PlotSD1.8910.1662.064
PlotStars13.932 0.90614.871
PlotVariable6.3020.7107.041
Purity0.0010.0000.001
QueryMultiple8.9140.5889.526
QueryStarPlot6.4100.4806.956
ReadInput3.2430.5573.815
SaveClustersToFCS6.2340.7346.980
TestOutliers5.2530.6735.955
UpdateMetaclusters16.179 1.13317.332
UpdateNodeSize5.6950.2775.983
get_channels0.0410.0040.044
get_markers0.0420.0050.046
metaClustering_consensus3.1260.6193.763
plotStarLegend0.4620.0040.467
print.FlowSOM4.9040.6945.635
query_multiple9.1580.6559.832