Back to Multiple platform build/check report for BioC 3.20: simplified long |
|
This page was generated on 2025-02-06 12:04 -0500 (Thu, 06 Feb 2025).
Hostname | OS | Arch (*) | R version | Installed pkgs |
---|---|---|---|---|
nebbiolo2 | Linux (Ubuntu 24.04.1 LTS) | x86_64 | 4.4.2 (2024-10-31) -- "Pile of Leaves" | 4753 |
palomino8 | Windows Server 2022 Datacenter | x64 | 4.4.2 (2024-10-31 ucrt) -- "Pile of Leaves" | 4501 |
merida1 | macOS 12.7.5 Monterey | x86_64 | 4.4.2 (2024-10-31) -- "Pile of Leaves" | 4524 |
kjohnson1 | macOS 13.6.6 Ventura | arm64 | 4.4.2 (2024-10-31) -- "Pile of Leaves" | 4476 |
taishan | Linux (openEuler 24.03 LTS) | aarch64 | 4.4.2 (2024-10-31) -- "Pile of Leaves" | 4407 |
Click on any hostname to see more info about the system (e.g. compilers) (*) as reported by 'uname -p', except on Windows and Mac OS X |
Package 742/2289 | Hostname | OS / Arch | INSTALL | BUILD | CHECK | BUILD BIN | ||||||||
FlowSOM 2.14.0 (landing page) Sofie Van Gassen
| nebbiolo2 | Linux (Ubuntu 24.04.1 LTS) / x86_64 | OK | OK | OK | ![]() | ||||||||
palomino8 | Windows Server 2022 Datacenter / x64 | OK | OK | OK | OK | ![]() | ||||||||
merida1 | macOS 12.7.5 Monterey / x86_64 | OK | OK | OK | OK | ![]() | ||||||||
kjohnson1 | macOS 13.6.6 Ventura / arm64 | OK | OK | OK | OK | ![]() | ||||||||
taishan | Linux (openEuler 24.03 LTS) / aarch64 | OK | OK | OK | ||||||||||
To the developers/maintainers of the FlowSOM package: - Allow up to 24 hours (and sometimes 48 hours) for your latest push to git@git.bioconductor.org:packages/FlowSOM.git to reflect on this report. See Troubleshooting Build Report for more information. - Use the following Renviron settings to reproduce errors and warnings. - If 'R CMD check' started to fail recently on the Linux builder(s) over a missing dependency, add the missing dependency to 'Suggests:' in your DESCRIPTION file. See Renviron.bioc for more information. |
Package: FlowSOM |
Version: 2.14.0 |
Command: /home/biocbuild/bbs-3.20-bioc/R/bin/R CMD check --install=check:FlowSOM.install-out.txt --library=/home/biocbuild/bbs-3.20-bioc/R/site-library --timings FlowSOM_2.14.0.tar.gz |
StartedAt: 2025-02-03 22:27:15 -0500 (Mon, 03 Feb 2025) |
EndedAt: 2025-02-03 22:36:27 -0500 (Mon, 03 Feb 2025) |
EllapsedTime: 552.7 seconds |
RetCode: 0 |
Status: OK |
CheckDir: FlowSOM.Rcheck |
Warnings: 0 |
############################################################################## ############################################################################## ### ### Running command: ### ### /home/biocbuild/bbs-3.20-bioc/R/bin/R CMD check --install=check:FlowSOM.install-out.txt --library=/home/biocbuild/bbs-3.20-bioc/R/site-library --timings FlowSOM_2.14.0.tar.gz ### ############################################################################## ############################################################################## * using log directory ‘/home/biocbuild/bbs-3.20-bioc/meat/FlowSOM.Rcheck’ * using R version 4.4.2 (2024-10-31) * using platform: x86_64-pc-linux-gnu * R was compiled by gcc (Ubuntu 13.2.0-23ubuntu4) 13.2.0 GNU Fortran (Ubuntu 13.2.0-23ubuntu4) 13.2.0 * running under: Ubuntu 24.04.1 LTS * using session charset: UTF-8 * checking for file ‘FlowSOM/DESCRIPTION’ ... OK * this is package ‘FlowSOM’ version ‘2.14.0’ * package encoding: UTF-8 * checking package namespace information ... OK * checking package dependencies ... OK * checking if this is a source package ... OK * checking if there is a namespace ... OK * checking for hidden files and directories ... OK * checking for portable file names ... OK * checking for sufficient/correct file permissions ... OK * checking whether package ‘FlowSOM’ can be installed ... OK * used C compiler: ‘gcc (Ubuntu 13.3.0-6ubuntu2~24.04) 13.3.0’ * checking installed package size ... OK * checking package directory ... OK * checking ‘build’ directory ... OK * checking DESCRIPTION meta-information ... OK * checking top-level files ... OK * checking for left-over files ... OK * checking index information ... OK * checking package subdirectories ... OK * checking code files for non-ASCII characters ... OK * checking R files for syntax errors ... OK * checking whether the package can be loaded ... OK * checking whether the package can be loaded with stated dependencies ... OK * checking whether the package can be unloaded cleanly ... OK * checking whether the namespace can be loaded with stated dependencies ... OK * checking whether the namespace can be unloaded cleanly ... OK * checking loading without being on the library search path ... OK * checking whether startup messages can be suppressed ... OK * checking dependencies in R code ... OK * checking S3 generic/method consistency ... OK * checking replacement functions ... OK * checking foreign function calls ... OK * checking R code for possible problems ... OK * checking Rd files ... NOTE checkRd: (-1) PlotDimRed.Rd:55: Lost braces 55 | of the dimred default = function(dimred){dimred$Y}.} | ^ * checking Rd metadata ... OK * checking Rd cross-references ... OK * checking for missing documentation entries ... OK * checking for code/documentation mismatches ... OK * checking Rd \usage sections ... OK * checking Rd contents ... OK * checking for unstated dependencies in examples ... OK * checking line endings in C/C++/Fortran sources/headers ... OK * checking compiled code ... NOTE Note: information on .o files is not available * checking files in ‘vignettes’ ... OK * checking examples ... OK Examples with CPU (user + system) or elapsed time > 5s user system elapsed FlowSOMmary 47.242 0.468 47.536 PlotDimRed 43.509 0.127 43.593 PlotOutliers 16.934 0.009 16.944 UpdateMetaclusters 15.509 0.014 15.524 PlotMarker 15.013 0.075 15.089 PlotStars 14.066 0.020 14.087 GroupStats 11.420 0.077 11.497 FlowSOM 10.680 0.111 10.792 PlotGroups 9.764 0.024 9.788 QueryMultiple 9.197 0.084 9.281 query_multiple 8.503 0.016 8.520 AddAnnotation 7.801 0.235 8.037 Plot2DScatters 7.528 0.073 7.591 PlotVariable 7.009 0.011 7.019 PlotNode 6.974 0.030 7.004 PlotManualBars 6.815 0.025 6.841 GetFlowJoLabels 6.660 0.128 6.790 PlotPies 6.570 0.010 6.581 QueryStarPlot 6.325 0.010 6.335 PlotNumbers 6.006 0.011 6.017 CountGroups 5.437 0.130 5.567 UpdateNodeSize 5.250 0.011 5.262 NMetaclusters 5.108 0.077 5.185 SaveClustersToFCS 5.090 0.014 5.104 MetaclusterMFIs 5.088 0.014 5.102 NClusters 4.999 0.014 5.014 * checking for unstated dependencies in vignettes ... OK * checking package vignettes ... OK * checking re-building of vignette outputs ... OK * checking PDF version of manual ... OK * DONE Status: 2 NOTEs See ‘/home/biocbuild/bbs-3.20-bioc/meat/FlowSOM.Rcheck/00check.log’ for details.
FlowSOM.Rcheck/00install.out
############################################################################## ############################################################################## ### ### Running command: ### ### /home/biocbuild/bbs-3.20-bioc/R/bin/R CMD INSTALL FlowSOM ### ############################################################################## ############################################################################## * installing to library ‘/home/biocbuild/bbs-3.20-bioc/R/site-library’ * installing *source* package ‘FlowSOM’ ... ** using staged installation ** libs using C compiler: ‘gcc (Ubuntu 13.3.0-6ubuntu2~24.04) 13.3.0’ gcc -I"/home/biocbuild/bbs-3.20-bioc/R/include" -DNDEBUG -I/usr/local/include -fpic -g -O2 -Wall -c som.c -o som.o gcc -shared -L/home/biocbuild/bbs-3.20-bioc/R/lib -L/usr/local/lib -o FlowSOM.so som.o -L/home/biocbuild/bbs-3.20-bioc/R/lib -lR installing to /home/biocbuild/bbs-3.20-bioc/R/site-library/00LOCK-FlowSOM/00new/FlowSOM/libs ** R ** inst ** byte-compile and prepare package for lazy loading ** help *** installing help indices ** building package indices ** installing vignettes ** testing if installed package can be loaded from temporary location ** checking absolute paths in shared objects and dynamic libraries ** testing if installed package can be loaded from final location ** testing if installed package keeps a record of temporary installation path * DONE (FlowSOM)
FlowSOM.Rcheck/FlowSOM-Ex.timings
name | user | system | elapsed | |
AddAnnotation | 7.801 | 0.235 | 8.037 | |
AggregateFlowFrames | 0.069 | 0.006 | 0.075 | |
BuildMST | 1.080 | 0.009 | 1.089 | |
BuildSOM | 1.071 | 0.015 | 1.087 | |
CountGroups | 5.437 | 0.130 | 5.567 | |
FMeasure | 0.002 | 0.000 | 0.002 | |
FlowSOM | 10.680 | 0.111 | 10.792 | |
FlowSOMSubset | 3.754 | 0.012 | 3.766 | |
FlowSOMmary | 47.242 | 0.468 | 47.536 | |
GetChannels | 0.027 | 0.000 | 0.027 | |
GetClusterMFIs | 3.894 | 0.058 | 3.951 | |
GetClusterPercentagesPositive | 3.831 | 0.007 | 3.838 | |
GetClusters | 3.885 | 0.057 | 3.942 | |
GetCounts | 3.883 | 0.021 | 3.904 | |
GetFeatures | 4.920 | 0.038 | 4.958 | |
GetFlowJoLabels | 6.660 | 0.128 | 6.790 | |
GetMFIs | 4.333 | 0.017 | 4.350 | |
GetMarkers | 0.027 | 0.000 | 0.026 | |
GetMetaclusterCVs | 4.374 | 0.008 | 4.382 | |
GetMetaclusterMFIs | 4.443 | 0.010 | 4.451 | |
GetMetaclusterPercentagesPositive | 4.161 | 0.008 | 4.169 | |
GetMetaclusters | 4.479 | 0.044 | 4.524 | |
GetPercentages | 4.590 | 0.033 | 4.624 | |
GroupStats | 11.420 | 0.077 | 11.497 | |
Initialize_KWSP | 0.003 | 0.000 | 0.003 | |
Initialize_PCA | 0.001 | 0.000 | 0.001 | |
MetaClustering | 3.049 | 0.031 | 3.081 | |
MetaclusterCVs | 4.548 | 0.016 | 4.564 | |
MetaclusterMFIs | 5.088 | 0.014 | 5.102 | |
NClusters | 4.999 | 0.014 | 5.014 | |
NMetaclusters | 5.108 | 0.077 | 5.185 | |
NewData | 3.738 | 0.004 | 3.741 | |
Plot2DScatters | 7.528 | 0.073 | 7.591 | |
PlotCenters | 1.033 | 0.019 | 1.052 | |
PlotClusters2D | 1.002 | 0.002 | 1.004 | |
PlotDimRed | 43.509 | 0.127 | 43.593 | |
PlotFileScatters | 1.050 | 0.019 | 1.069 | |
PlotFlowSOM | 4.982 | 0.011 | 4.995 | |
PlotGroups | 9.764 | 0.024 | 9.788 | |
PlotLabels | 4.811 | 0.008 | 4.820 | |
PlotManualBars | 6.815 | 0.025 | 6.841 | |
PlotMarker | 15.013 | 0.075 | 15.089 | |
PlotNode | 6.974 | 0.030 | 7.004 | |
PlotNumbers | 6.006 | 0.011 | 6.017 | |
PlotOutliers | 16.934 | 0.009 | 16.944 | |
PlotOverview2D | 4.394 | 0.006 | 4.401 | |
PlotPies | 6.570 | 0.010 | 6.581 | |
PlotSD | 1.881 | 0.017 | 1.898 | |
PlotStars | 14.066 | 0.020 | 14.087 | |
PlotVariable | 7.009 | 0.011 | 7.019 | |
Purity | 0.001 | 0.000 | 0.001 | |
QueryMultiple | 9.197 | 0.084 | 9.281 | |
QueryStarPlot | 6.325 | 0.010 | 6.335 | |
ReadInput | 2.741 | 0.023 | 2.764 | |
SaveClustersToFCS | 5.090 | 0.014 | 5.104 | |
TestOutliers | 4.764 | 0.010 | 4.775 | |
UpdateMetaclusters | 15.509 | 0.014 | 15.524 | |
UpdateNodeSize | 5.250 | 0.011 | 5.262 | |
get_channels | 0.028 | 0.000 | 0.028 | |
get_markers | 0.029 | 0.000 | 0.029 | |
metaClustering_consensus | 2.405 | 0.014 | 2.419 | |
plotStarLegend | 0.392 | 0.001 | 0.393 | |
print.FlowSOM | 4.576 | 0.016 | 4.592 | |
query_multiple | 8.503 | 0.016 | 8.520 | |