Back to Multiple platform build/check report for BioC 3.20:   simplified   long
ABCDE[F]GHIJKLMNOPQRSTUVWXYZ

This page was generated on 2025-02-06 12:08 -0500 (Thu, 06 Feb 2025).

HostnameOSArch (*)R versionInstalled pkgs
nebbiolo2Linux (Ubuntu 24.04.1 LTS)x86_644.4.2 (2024-10-31) -- "Pile of Leaves" 4753
palomino8Windows Server 2022 Datacenterx644.4.2 (2024-10-31 ucrt) -- "Pile of Leaves" 4501
merida1macOS 12.7.5 Montereyx86_644.4.2 (2024-10-31) -- "Pile of Leaves" 4524
kjohnson1macOS 13.6.6 Venturaarm644.4.2 (2024-10-31) -- "Pile of Leaves" 4476
taishanLinux (openEuler 24.03 LTS)aarch644.4.2 (2024-10-31) -- "Pile of Leaves" 4407
Click on any hostname to see more info about the system (e.g. compilers)      (*) as reported by 'uname -p', except on Windows and Mac OS X

Package 742/2289HostnameOS / ArchINSTALLBUILDCHECKBUILD BIN
FlowSOM 2.14.0  (landing page)
Sofie Van Gassen
Snapshot Date: 2025-02-03 13:00 -0500 (Mon, 03 Feb 2025)
git_url: https://git.bioconductor.org/packages/FlowSOM
git_branch: RELEASE_3_20
git_last_commit: 85b1db5
git_last_commit_date: 2024-10-29 09:57:26 -0500 (Tue, 29 Oct 2024)
nebbiolo2Linux (Ubuntu 24.04.1 LTS) / x86_64  OK    OK    OK  UNNEEDED, same version is already published
palomino8Windows Server 2022 Datacenter / x64  OK    OK    OK    OK  UNNEEDED, same version is already published
merida1macOS 12.7.5 Monterey / x86_64  OK    OK    OK    OK  UNNEEDED, same version is already published
kjohnson1macOS 13.6.6 Ventura / arm64  OK    OK    OK    OK  UNNEEDED, same version is already published
taishanLinux (openEuler 24.03 LTS) / aarch64  OK    OK    OK  


CHECK results for FlowSOM on merida1

To the developers/maintainers of the FlowSOM package:
- Allow up to 24 hours (and sometimes 48 hours) for your latest push to git@git.bioconductor.org:packages/FlowSOM.git to reflect on this report. See Troubleshooting Build Report for more information.
- Use the following Renviron settings to reproduce errors and warnings.
- If 'R CMD check' started to fail recently on the Linux builder(s) over a missing dependency, add the missing dependency to 'Suggests:' in your DESCRIPTION file. See Renviron.bioc for more information.

raw results


Summary

Package: FlowSOM
Version: 2.14.0
Command: /Library/Frameworks/R.framework/Resources/bin/R CMD check --install=check:FlowSOM.install-out.txt --library=/Library/Frameworks/R.framework/Resources/library --no-vignettes --timings FlowSOM_2.14.0.tar.gz
StartedAt: 2025-02-04 03:50:15 -0500 (Tue, 04 Feb 2025)
EndedAt: 2025-02-04 04:08:11 -0500 (Tue, 04 Feb 2025)
EllapsedTime: 1076.1 seconds
RetCode: 0
Status:   OK  
CheckDir: FlowSOM.Rcheck
Warnings: 0

Command output

##############################################################################
##############################################################################
###
### Running command:
###
###   /Library/Frameworks/R.framework/Resources/bin/R CMD check --install=check:FlowSOM.install-out.txt --library=/Library/Frameworks/R.framework/Resources/library --no-vignettes --timings FlowSOM_2.14.0.tar.gz
###
##############################################################################
##############################################################################


* using log directory ‘/Users/biocbuild/bbs-3.20-bioc/meat/FlowSOM.Rcheck’
* using R version 4.4.2 (2024-10-31)
* using platform: x86_64-apple-darwin20
* R was compiled by
    Apple clang version 14.0.0 (clang-1400.0.29.202)
    GNU Fortran (GCC) 12.2.0
* running under: macOS Monterey 12.7.6
* using session charset: UTF-8
* using option ‘--no-vignettes’
* checking for file ‘FlowSOM/DESCRIPTION’ ... OK
* this is package ‘FlowSOM’ version ‘2.14.0’
* package encoding: UTF-8
* checking package namespace information ... OK
* checking package dependencies ... OK
* checking if this is a source package ... OK
* checking if there is a namespace ... OK
* checking for hidden files and directories ... OK
* checking for portable file names ... OK
* checking for sufficient/correct file permissions ... OK
* checking whether package ‘FlowSOM’ can be installed ... OK
* used C compiler: ‘Apple clang version 14.0.0 (clang-1400.0.29.202)’
* used SDK: ‘MacOSX11.3.sdk’
* checking installed package size ... OK
* checking package directory ... OK
* checking ‘build’ directory ... OK
* checking DESCRIPTION meta-information ... OK
* checking top-level files ... OK
* checking for left-over files ... OK
* checking index information ... OK
* checking package subdirectories ... OK
* checking code files for non-ASCII characters ... OK
* checking R files for syntax errors ... OK
* checking whether the package can be loaded ... OK
* checking whether the package can be loaded with stated dependencies ... OK
* checking whether the package can be unloaded cleanly ... OK
* checking whether the namespace can be loaded with stated dependencies ... OK
* checking whether the namespace can be unloaded cleanly ... OK
* checking whether startup messages can be suppressed ... OK
* checking dependencies in R code ... OK
* checking S3 generic/method consistency ... OK
* checking replacement functions ... OK
* checking foreign function calls ... OK
* checking R code for possible problems ... OK
* checking Rd files ... NOTE
checkRd: (-1) PlotDimRed.Rd:55: Lost braces
    55 | of the dimred default = function(dimred){dimred$Y}.}
       |                                         ^
* checking Rd metadata ... OK
* checking Rd cross-references ... OK
* checking for missing documentation entries ... OK
* checking for code/documentation mismatches ... OK
* checking Rd \usage sections ... OK
* checking Rd contents ... OK
* checking for unstated dependencies in examples ... OK
* checking line endings in C/C++/Fortran sources/headers ... OK
* checking compiled code ... NOTE
Note: information on .o files is not available
* checking sizes of PDF files under ‘inst/doc’ ... OK
* checking files in ‘vignettes’ ... OK
* checking examples ... OK
Examples with CPU (user + system) or elapsed time > 5s
                                    user system elapsed
FlowSOMmary                       91.219  2.512 101.370
PlotDimRed                        74.638  2.859  82.392
PlotOutliers                      38.735  0.838  42.520
PlotMarker                        33.274  1.245  36.751
UpdateMetaclusters                32.795  1.213  37.174
PlotStars                         28.733  1.120  33.941
GroupStats                        26.384  1.013  29.683
PlotGroups                        22.916  1.179  26.542
FlowSOM                           22.647  1.104  25.025
query_multiple                    17.590  0.580  19.303
AddAnnotation                     17.229  0.746  19.489
QueryMultiple                     17.246  0.496  18.537
Plot2DScatters                    16.041  0.721  17.953
PlotManualBars                    14.913  0.792  16.798
GetFlowJoLabels                   13.761  0.613  15.528
PlotNode                          13.068  0.738  14.841
PlotNumbers                       12.411  0.700  14.537
QueryStarPlot                     12.694  0.382  13.595
PlotVariable                      12.229  0.746  14.874
GetFeatures                       12.425  0.420  13.556
UpdateNodeSize                    12.211  0.271  13.265
PlotPies                          11.673  0.705  13.030
CountGroups                       11.125  0.632  12.388
PlotFlowSOM                       10.838  0.652  12.853
SaveClustersToFCS                  9.823  0.677  11.084
MetaclusterMFIs                    9.321  0.760  10.703
PlotLabels                         9.487  0.548  10.754
NMetaclusters                      9.204  0.744  13.678
NClusters                          9.254  0.639  10.734
TestOutliers                       8.933  0.590  10.690
FlowSOMSubset                      8.708  0.414   9.558
GetPercentages                     8.189  0.603   8.953
PlotOverview2D                     8.182  0.559   9.258
MetaclusterCVs                     8.056  0.617   9.571
GetMFIs                            7.991  0.664   9.183
GetMetaclusterCVs                  7.974  0.621   9.112
print.FlowSOM                      7.911  0.668   9.005
GetMetaclusters                    7.931  0.607   8.900
GetMetaclusterMFIs                 7.906  0.621   8.986
GetMetaclusterPercentagesPositive  7.905  0.540   9.088
GetCounts                          7.687  0.465   8.945
GetClusterPercentagesPositive      7.596  0.482   8.545
GetClusterMFIs                     7.611  0.447   8.592
GetClusters                        7.568  0.445   8.407
NewData                            7.479  0.501   8.910
ReadInput                          6.809  0.504   7.859
MetaClustering                     6.626  0.527   7.672
metaClustering_consensus           5.371  0.338   5.981
* checking for unstated dependencies in vignettes ... OK
* checking package vignettes ... OK
* checking running R code from vignettes ... SKIPPED
* checking re-building of vignette outputs ... SKIPPED
* checking PDF version of manual ... OK
* DONE

Status: 2 NOTEs
See
  ‘/Users/biocbuild/bbs-3.20-bioc/meat/FlowSOM.Rcheck/00check.log’
for details.


Installation output

FlowSOM.Rcheck/00install.out

##############################################################################
##############################################################################
###
### Running command:
###
###   /Library/Frameworks/R.framework/Resources/bin/R CMD INSTALL FlowSOM
###
##############################################################################
##############################################################################


* installing to library ‘/Library/Frameworks/R.framework/Versions/4.4-x86_64/Resources/library’
* installing *source* package ‘FlowSOM’ ...
** using staged installation
** libs
using C compiler: ‘Apple clang version 14.0.0 (clang-1400.0.29.202)’
using SDK: ‘MacOSX11.3.sdk’
clang -arch x86_64 -I"/Library/Frameworks/R.framework/Resources/include" -DNDEBUG   -I/opt/R/x86_64/include    -fPIC  -falign-functions=64 -Wall -g -O2  -c som.c -o som.o
clang -arch x86_64 -dynamiclib -Wl,-headerpad_max_install_names -undefined dynamic_lookup -L/Library/Frameworks/R.framework/Resources/lib -L/opt/R/x86_64/lib -o FlowSOM.so som.o -F/Library/Frameworks/R.framework/.. -framework R -Wl,-framework -Wl,CoreFoundation
installing to /Library/Frameworks/R.framework/Versions/4.4-x86_64/Resources/library/00LOCK-FlowSOM/00new/FlowSOM/libs
** R
** inst
** byte-compile and prepare package for lazy loading
** help
*** installing help indices
** building package indices
** installing vignettes
** testing if installed package can be loaded from temporary location
** checking absolute paths in shared objects and dynamic libraries
** testing if installed package can be loaded from final location
** testing if installed package keeps a record of temporary installation path
* DONE (FlowSOM)

Tests output


Example timings

FlowSOM.Rcheck/FlowSOM-Ex.timings

nameusersystemelapsed
AddAnnotation17.229 0.74619.489
AggregateFlowFrames0.1730.0070.188
BuildMST2.7650.1053.053
BuildSOM2.6240.1182.903
CountGroups11.125 0.63212.388
FMeasure0.0030.0000.004
FlowSOM22.647 1.10425.025
FlowSOMSubset8.7080.4149.558
FlowSOMmary 91.219 2.512101.370
GetChannels0.0700.0060.078
GetClusterMFIs7.6110.4478.592
GetClusterPercentagesPositive7.5960.4828.545
GetClusters7.5680.4458.407
GetCounts7.6870.4658.945
GetFeatures12.425 0.42013.556
GetFlowJoLabels13.761 0.61315.528
GetMFIs7.9910.6649.183
GetMarkers0.0700.0040.083
GetMetaclusterCVs7.9740.6219.112
GetMetaclusterMFIs7.9060.6218.986
GetMetaclusterPercentagesPositive7.9050.5409.088
GetMetaclusters7.9310.6078.900
GetPercentages8.1890.6038.953
GroupStats26.384 1.01329.683
Initialize_KWSP0.0130.0010.013
Initialize_PCA0.0010.0010.003
MetaClustering6.6260.5277.672
MetaclusterCVs8.0560.6179.571
MetaclusterMFIs 9.321 0.76010.703
NClusters 9.254 0.63910.734
NMetaclusters 9.204 0.74413.678
NewData7.4790.5018.910
Plot2DScatters16.041 0.72117.953
PlotCenters2.4580.0892.773
PlotClusters2D2.4130.0872.711
PlotDimRed74.638 2.85982.392
PlotFileScatters1.7510.0441.983
PlotFlowSOM10.838 0.65212.853
PlotGroups22.916 1.17926.542
PlotLabels 9.487 0.54810.754
PlotManualBars14.913 0.79216.798
PlotMarker33.274 1.24536.751
PlotNode13.068 0.73814.841
PlotNumbers12.411 0.70014.537
PlotOutliers38.735 0.83842.520
PlotOverview2D8.1820.5599.258
PlotPies11.673 0.70513.030
PlotSD4.2280.1244.569
PlotStars28.733 1.12033.941
PlotVariable12.229 0.74614.874
Purity0.0020.0010.003
QueryMultiple17.246 0.49618.537
QueryStarPlot12.694 0.38213.595
ReadInput6.8090.5047.859
SaveClustersToFCS 9.823 0.67711.084
TestOutliers 8.933 0.59010.690
UpdateMetaclusters32.795 1.21337.174
UpdateNodeSize12.211 0.27113.265
get_channels0.0700.0050.078
get_markers0.0700.0050.078
metaClustering_consensus5.3710.3385.981
plotStarLegend0.8010.0120.849
print.FlowSOM7.9110.6689.005
query_multiple17.590 0.58019.303