Back to Multiple platform build/check report for BioC 3.20: simplified long |
|
This page was generated on 2025-02-13 12:11 -0500 (Thu, 13 Feb 2025).
Hostname | OS | Arch (*) | R version | Installed pkgs |
---|---|---|---|---|
nebbiolo2 | Linux (Ubuntu 24.04.1 LTS) | x86_64 | 4.4.2 (2024-10-31) -- "Pile of Leaves" | 4754 |
palomino8 | Windows Server 2022 Datacenter | x64 | 4.4.2 (2024-10-31 ucrt) -- "Pile of Leaves" | 4502 |
merida1 | macOS 12.7.5 Monterey | x86_64 | 4.4.2 (2024-10-31) -- "Pile of Leaves" | 4525 |
kjohnson1 | macOS 13.6.6 Ventura | arm64 | 4.4.2 (2024-10-31) -- "Pile of Leaves" | 4477 |
taishan | Linux (openEuler 24.03 LTS) | aarch64 | 4.4.2 (2024-10-31) -- "Pile of Leaves" | 4414 |
Click on any hostname to see more info about the system (e.g. compilers) (*) as reported by 'uname -p', except on Windows and Mac OS X |
Package 1456/2289 | Hostname | OS / Arch | INSTALL | BUILD | CHECK | BUILD BIN | ||||||||
OmnipathR 3.14.0 (landing page) Denes Turei
| nebbiolo2 | Linux (Ubuntu 24.04.1 LTS) / x86_64 | OK | OK | OK | ![]() | ||||||||
palomino8 | Windows Server 2022 Datacenter / x64 | OK | OK | OK | OK | ![]() | ||||||||
merida1 | macOS 12.7.5 Monterey / x86_64 | OK | OK | OK | OK | ![]() | ||||||||
kjohnson1 | macOS 13.6.6 Ventura / arm64 | OK | OK | OK | OK | ![]() | ||||||||
taishan | Linux (openEuler 24.03 LTS) / aarch64 | OK | OK | OK | ||||||||||
To the developers/maintainers of the OmnipathR package: - Allow up to 24 hours (and sometimes 48 hours) for your latest push to git@git.bioconductor.org:packages/OmnipathR.git to reflect on this report. See Troubleshooting Build Report for more information. - Use the following Renviron settings to reproduce errors and warnings. - If 'R CMD check' started to fail recently on the Linux builder(s) over a missing dependency, add the missing dependency to 'Suggests:' in your DESCRIPTION file. See Renviron.bioc for more information. |
Package: OmnipathR |
Version: 3.14.0 |
Command: /Library/Frameworks/R.framework/Resources/bin/R CMD check --install=check:OmnipathR.install-out.txt --library=/Library/Frameworks/R.framework/Resources/library --no-vignettes --timings OmnipathR_3.14.0.tar.gz |
StartedAt: 2025-02-12 03:49:22 -0500 (Wed, 12 Feb 2025) |
EndedAt: 2025-02-12 04:07:03 -0500 (Wed, 12 Feb 2025) |
EllapsedTime: 1061.4 seconds |
RetCode: 0 |
Status: OK |
CheckDir: OmnipathR.Rcheck |
Warnings: 0 |
############################################################################## ############################################################################## ### ### Running command: ### ### /Library/Frameworks/R.framework/Resources/bin/R CMD check --install=check:OmnipathR.install-out.txt --library=/Library/Frameworks/R.framework/Resources/library --no-vignettes --timings OmnipathR_3.14.0.tar.gz ### ############################################################################## ############################################################################## * using log directory ‘/Users/biocbuild/bbs-3.20-bioc/meat/OmnipathR.Rcheck’ * using R version 4.4.2 (2024-10-31) * using platform: aarch64-apple-darwin20 * R was compiled by Apple clang version 14.0.0 (clang-1400.0.29.202) GNU Fortran (GCC) 12.2.0 * running under: macOS Ventura 13.7.1 * using session charset: UTF-8 * using option ‘--no-vignettes’ * checking for file ‘OmnipathR/DESCRIPTION’ ... OK * checking extension type ... Package * this is package ‘OmnipathR’ version ‘3.14.0’ * package encoding: UTF-8 * checking package namespace information ... OK * checking package dependencies ... OK * checking if this is a source package ... OK * checking if there is a namespace ... OK * checking for hidden files and directories ... OK * checking for portable file names ... OK * checking for sufficient/correct file permissions ... OK * checking whether package ‘OmnipathR’ can be installed ... OK * checking installed package size ... OK * checking package directory ... OK * checking DESCRIPTION meta-information ... OK * checking top-level files ... OK * checking for left-over files ... OK * checking index information ... OK * checking package subdirectories ... OK * checking code files for non-ASCII characters ... OK * checking R files for syntax errors ... OK * checking whether the package can be loaded ... OK * checking whether the package can be loaded with stated dependencies ... OK * checking whether the package can be unloaded cleanly ... OK * checking whether the namespace can be loaded with stated dependencies ... OK * checking whether the namespace can be unloaded cleanly ... OK * checking whether startup messages can be suppressed ... NOTE [2025-02-12 03:49:46] [TRACE] [OmnipathR] Reading JSON from `/Users/biocbuild/Library/Caches/OmnipathR/cache.json` (encoding: UTF-8). [2025-02-12 03:49:46] [TRACE] [OmnipathR] JSON validation successful: TRUE [2025-02-12 03:49:46] [INFO] [OmnipathR] Initialized cache: `/Users/biocbuild/Library/Caches/OmnipathR`. [2025-02-12 03:49:46] [TRACE] [OmnipathR] Running on a build server, wiping cache. [2025-02-12 03:49:46] [TRACE] [OmnipathR] Cache is at `/Users/biocbuild/Library/Caches/OmnipathR`. [2025-02-12 03:49:46] [TRACE] [OmnipathR] Contains 1 files. [2025-02-12 03:49:46] [TRACE] [OmnipathR] Cache is locked: FALSE. [2025-02-12 03:49:46] [TRACE] [OmnipathR] Reading JSON from `/Users/biocbuild/Library/Caches/OmnipathR/cache.json` (encoding: UTF-8). [2025-02-12 03:49:46] [TRACE] [OmnipathR] JSON validation successful: TRUE [2025-02-12 03:49:46] [SUCCESS] [OmnipathR] Removing all cache contents from `/Users/biocbuild/Library/Caches/OmnipathR`. [2025-02-12 03:49:46] [TRACE] [OmnipathR] Pandoc version: `3.1.2`. [2025-02-12 03:49:46] [TRACE] [OmnipathR] Reading JSON from `/Library/Frameworks/R.framework/Versions/4.4-arm64/Resources/library/OmnipathR/db/db_def.json` (encoding: UTF-8). [2025-02-12 03:49:46] [TRACE] [OmnipathR] JSON validation successful: TRUE [2025-02-12 03:49:46] [TRACE] [OmnipathR] Reading JSON from `/Library/Frameworks/R.framework/Versions/4.4-arm64/Resources/library/OmnipathR/internal/magic_bytes.json` (encoding: UTF-8). [2025-02-12 03:49:46] [TRACE] [OmnipathR] JSON validation successful: TRUE [2025-02-12 03:49:46] [TRACE] [OmnipathR] Reading JSON from `/Library/Frameworks/R.framework/Versions/4.4-arm64/Resources/library/OmnipathR/internal/urls.json` (encoding: UTF-8). [2025-02-12 03:49:46] [TRACE] [OmnipathR] JSON validation successful: TRUE [2025-02-12 03:49:46] [TRACE] [OmnipathR] Reading JSON from `/Library/Frameworks/R.framework/Versions/4.4-arm64/Resources/library/OmnipathR/internal/id_types.json` (encoding: UTF-8). [2025-02-12 03:49:46] [TRACE] [OmnipathR] JSON validation successful: TRUE [2025-02-12 03:49:46] [TRACE] [OmnipathR] Cache locked: FALSE It looks like this package (or a package it requires) has a startup message which cannot be suppressed: see ?packageStartupMessage. * checking dependencies in R code ... OK * checking S3 generic/method consistency ... OK * checking replacement functions ... OK * checking foreign function calls ... OK * checking R code for possible problems ... NOTE [2025-02-12 03:50:02] [TRACE] [OmnipathR] Reading JSON from `/Users/biocbuild/Library/Caches/OmnipathR/cache.json` (encoding: UTF-8). [2025-02-12 03:50:02] [TRACE] [OmnipathR] JSON validation successful: TRUE [2025-02-12 03:50:02] [INFO] [OmnipathR] Initialized cache: `/Users/biocbuild/Library/Caches/OmnipathR`. [2025-02-12 03:50:02] [TRACE] [OmnipathR] Running on a build server, wiping cache. [2025-02-12 03:50:02] [TRACE] [OmnipathR] Cache is at `/Users/biocbuild/Library/Caches/OmnipathR`. [2025-02-12 03:50:02] [TRACE] [OmnipathR] Contains 1 files. [2025-02-12 03:50:02] [TRACE] [OmnipathR] Cache is locked: FALSE. [2025-02-12 03:50:02] [TRACE] [OmnipathR] Reading JSON from `/Users/biocbuild/Library/Caches/OmnipathR/cache.json` (encoding: UTF-8). [2025-02-12 03:50:02] [TRACE] [OmnipathR] JSON validation successful: TRUE [2025-02-12 03:50:02] [SUCCESS] [OmnipathR] Removing all cache contents from `/Users/biocbuild/Library/Caches/OmnipathR`. [2025-02-12 03:50:02] [TRACE] [OmnipathR] Pandoc version: `3.1.2`. [2025-02-12 03:50:02] [TRACE] [OmnipathR] Reading JSON from `/Library/Frameworks/R.framework/Versions/4.4-arm64/Resources/library/OmnipathR/db/db_def.json` (encoding: UTF-8). [2025-02-12 03:50:02] [TRACE] [OmnipathR] JSON validation successful: TRUE [2025-02-12 03:50:02] [TRACE] [OmnipathR] Reading JSON from `/Library/Frameworks/R.framework/Versions/4.4-arm64/Resources/library/OmnipathR/internal/magic_bytes.json` (encoding: UTF-8). [2025-02-12 03:50:02] [TRACE] [OmnipathR] JSON validation successful: TRUE [2025-02-12 03:50:02] [TRACE] [OmnipathR] Reading JSON from `/Library/Frameworks/R.framework/Versions/4.4-arm64/Resources/library/OmnipathR/internal/urls.json` (encoding: UTF-8). [2025-02-12 03:50:02] [TRACE] [OmnipathR] JSON validation successful: TRUE [2025-02-12 03:50:02] [TRACE] [OmnipathR] Reading JSON from `/Library/Frameworks/R.framework/Versions/4.4-arm64/Resources/library/OmnipathR/internal/id_types.json` (encoding: UTF-8). [2025-02-12 03:50:02] [TRACE] [OmnipathR] JSON validation successful: TRUE [2025-02-12 03:50:02] [TRACE] [OmnipathR] Cache locked: FALSE * checking Rd files ... OK * checking Rd metadata ... OK * checking Rd cross-references ... OK * checking for missing documentation entries ... OK * checking for code/documentation mismatches ... OK * checking Rd \usage sections ... OK * checking Rd contents ... OK * checking for unstated dependencies in examples ... OK * checking R/sysdata.rda ... OK * checking files in ‘vignettes’ ... OK * checking examples ... OK Examples with CPU (user + system) or elapsed time > 5s user system elapsed annotation_categories 106.225 0.213 106.640 curated_ligrec_stats 27.569 1.053 36.559 omnipath-interactions 20.669 0.742 36.913 filter_extra_attrs 17.617 0.079 17.828 go_annot_download 12.395 0.531 12.495 nichenet_gr_network_omnipath 12.007 0.698 12.801 pivot_annotations 11.034 0.703 23.978 extra_attr_values 10.392 0.155 10.639 giant_component 9.967 0.314 10.385 nichenet_signaling_network_omnipath 8.917 0.488 12.531 extra_attrs_to_cols 9.109 0.045 9.155 with_extra_attrs 8.042 0.130 13.298 omnipath_for_cosmos 7.731 0.192 158.567 translate_ids_multi 7.589 0.264 72.125 filter_intercell 7.264 0.356 8.010 static_table 6.941 0.320 7.181 has_extra_attrs 6.321 0.070 6.397 find_all_paths 5.962 0.141 6.132 extra_attrs 5.549 0.040 5.642 curated_ligand_receptor_interactions 4.327 0.210 5.282 print_interactions 3.423 0.128 5.261 ensembl_id_mapping_table 1.324 0.084 124.374 translate_ids 1.216 0.112 19.103 biomart_query 1.074 0.080 48.815 all_uniprots 0.751 0.090 25.201 uniprot_full_id_mapping_table 0.684 0.074 22.319 * checking for unstated dependencies in ‘tests’ ... OK * checking tests ... Running ‘testthat.R’ OK * checking for unstated dependencies in vignettes ... OK * checking package vignettes ... OK * checking running R code from vignettes ... SKIPPED * checking re-building of vignette outputs ... SKIPPED * checking PDF version of manual ... OK * DONE Status: 2 NOTEs See ‘/Users/biocbuild/bbs-3.20-bioc/meat/OmnipathR.Rcheck/00check.log’ for details.
OmnipathR.Rcheck/00install.out
############################################################################## ############################################################################## ### ### Running command: ### ### /Library/Frameworks/R.framework/Resources/bin/R CMD INSTALL OmnipathR ### ############################################################################## ############################################################################## * installing to library ‘/Library/Frameworks/R.framework/Versions/4.4-arm64/Resources/library’ * installing *source* package ‘OmnipathR’ ... ** using staged installation ** R ** inst ** byte-compile and prepare package for lazy loading ** help *** installing help indices *** copying figures ** building package indices ** installing vignettes ** testing if installed package can be loaded from temporary location [2025-02-10 16:59:25] [TRACE] [OmnipathR] Reading JSON from `/Users/biocbuild/Library/Caches/OmnipathR/cache.json` (encoding: UTF-8). [2025-02-10 16:59:25] [TRACE] [OmnipathR] JSON validation successful: TRUE [2025-02-10 16:59:25] [INFO] [OmnipathR] Initialized cache: `/Users/biocbuild/Library/Caches/OmnipathR`. [2025-02-10 16:59:25] [TRACE] [OmnipathR] Running on a build server, wiping cache. [2025-02-10 16:59:25] [TRACE] [OmnipathR] Cache is at `/Users/biocbuild/Library/Caches/OmnipathR`. [2025-02-10 16:59:25] [TRACE] [OmnipathR] Contains 1 files. [2025-02-10 16:59:25] [TRACE] [OmnipathR] Cache is locked: FALSE. [2025-02-10 16:59:25] [TRACE] [OmnipathR] Reading JSON from `/Users/biocbuild/Library/Caches/OmnipathR/cache.json` (encoding: UTF-8). [2025-02-10 16:59:25] [TRACE] [OmnipathR] JSON validation successful: TRUE [2025-02-10 16:59:25] [SUCCESS] [OmnipathR] Removing all cache contents from `/Users/biocbuild/Library/Caches/OmnipathR`. [2025-02-10 16:59:26] [TRACE] [OmnipathR] Pandoc version: `3.1.2`. [2025-02-10 16:59:26] [TRACE] [OmnipathR] Reading JSON from `/Library/Frameworks/R.framework/Versions/4.4-arm64/Resources/library/00LOCK-OmnipathR/00new/OmnipathR/db/db_def.json` (encoding: UTF-8). [2025-02-10 16:59:26] [TRACE] [OmnipathR] JSON validation successful: TRUE [2025-02-10 16:59:26] [TRACE] [OmnipathR] Reading JSON from `/Library/Frameworks/R.framework/Versions/4.4-arm64/Resources/library/00LOCK-OmnipathR/00new/OmnipathR/internal/magic_bytes.json` (encoding: UTF-8). [2025-02-10 16:59:26] [TRACE] [OmnipathR] JSON validation successful: TRUE [2025-02-10 16:59:26] [TRACE] [OmnipathR] Reading JSON from `/Library/Frameworks/R.framework/Versions/4.4-arm64/Resources/library/00LOCK-OmnipathR/00new/OmnipathR/internal/urls.json` (encoding: UTF-8). [2025-02-10 16:59:26] [TRACE] [OmnipathR] JSON validation successful: TRUE [2025-02-10 16:59:26] [TRACE] [OmnipathR] Reading JSON from `/Library/Frameworks/R.framework/Versions/4.4-arm64/Resources/library/00LOCK-OmnipathR/00new/OmnipathR/internal/id_types.json` (encoding: UTF-8). [2025-02-10 16:59:26] [TRACE] [OmnipathR] JSON validation successful: TRUE [2025-02-10 16:59:26] [TRACE] [OmnipathR] Cache locked: FALSE ** testing if installed package can be loaded from final location [2025-02-10 16:59:28] [TRACE] [OmnipathR] Reading JSON from `/Users/biocbuild/Library/Caches/OmnipathR/cache.json` (encoding: UTF-8). [2025-02-10 16:59:28] [TRACE] [OmnipathR] JSON validation successful: TRUE [2025-02-10 16:59:28] [INFO] [OmnipathR] Initialized cache: `/Users/biocbuild/Library/Caches/OmnipathR`. [2025-02-10 16:59:28] [TRACE] [OmnipathR] Running on a build server, wiping cache. [2025-02-10 16:59:28] [TRACE] [OmnipathR] Cache is at `/Users/biocbuild/Library/Caches/OmnipathR`. [2025-02-10 16:59:28] [TRACE] [OmnipathR] Contains 1 files. [2025-02-10 16:59:28] [TRACE] [OmnipathR] Cache is locked: FALSE. [2025-02-10 16:59:28] [TRACE] [OmnipathR] Reading JSON from `/Users/biocbuild/Library/Caches/OmnipathR/cache.json` (encoding: UTF-8). [2025-02-10 16:59:28] [TRACE] [OmnipathR] JSON validation successful: TRUE [2025-02-10 16:59:28] [SUCCESS] [OmnipathR] Removing all cache contents from `/Users/biocbuild/Library/Caches/OmnipathR`. [2025-02-10 16:59:28] [TRACE] [OmnipathR] Pandoc version: `3.1.2`. [2025-02-10 16:59:28] [TRACE] [OmnipathR] Reading JSON from `/Library/Frameworks/R.framework/Versions/4.4-arm64/Resources/library/OmnipathR/db/db_def.json` (encoding: UTF-8). [2025-02-10 16:59:28] [TRACE] [OmnipathR] JSON validation successful: TRUE [2025-02-10 16:59:28] [TRACE] [OmnipathR] Reading JSON from `/Library/Frameworks/R.framework/Versions/4.4-arm64/Resources/library/OmnipathR/internal/magic_bytes.json` (encoding: UTF-8). [2025-02-10 16:59:28] [TRACE] [OmnipathR] JSON validation successful: TRUE [2025-02-10 16:59:28] [TRACE] [OmnipathR] Reading JSON from `/Library/Frameworks/R.framework/Versions/4.4-arm64/Resources/library/OmnipathR/internal/urls.json` (encoding: UTF-8). [2025-02-10 16:59:28] [TRACE] [OmnipathR] JSON validation successful: TRUE [2025-02-10 16:59:28] [TRACE] [OmnipathR] Reading JSON from `/Library/Frameworks/R.framework/Versions/4.4-arm64/Resources/library/OmnipathR/internal/id_types.json` (encoding: UTF-8). [2025-02-10 16:59:28] [TRACE] [OmnipathR] JSON validation successful: TRUE [2025-02-10 16:59:28] [TRACE] [OmnipathR] Cache locked: FALSE ** testing if installed package keeps a record of temporary installation path * DONE (OmnipathR)
OmnipathR.Rcheck/tests/testthat.Rout
R version 4.4.2 (2024-10-31) -- "Pile of Leaves" Copyright (C) 2024 The R Foundation for Statistical Computing Platform: aarch64-apple-darwin20 R is free software and comes with ABSOLUTELY NO WARRANTY. You are welcome to redistribute it under certain conditions. Type 'license()' or 'licence()' for distribution details. R is a collaborative project with many contributors. Type 'contributors()' for more information and 'citation()' on how to cite R or R packages in publications. Type 'demo()' for some demos, 'help()' for on-line help, or 'help.start()' for an HTML browser interface to help. Type 'q()' to quit R. > #!/usr/bin/env Rscript > > # > # This file is part of the `OmnipathR` R package > # > # Copyright > # 2018-2024 > # Saez Lab, Uniklinik RWTH Aachen, Heidelberg University > # > # File author(s): Alberto Valdeolivas > # Dénes Türei (turei.denes@gmail.com) > # Attila Gábor > # > # Distributed under the MIT (Expat) License. > # See accompanying file `LICENSE` or find a copy at > # https://directory.fsf.org/wiki/License:Expat > # > # Website: https://r.omnipathdb.org/ > # Git repo: https://github.com/saezlab/OmnipathR > # > > > library(testthat) > library(OmnipathR) [2025-02-12 04:05:10] [TRACE] [OmnipathR] Reading JSON from `/Users/biocbuild/Library/Caches/OmnipathR/cache.json` (encoding: UTF-8). [2025-02-12 04:05:10] [TRACE] [OmnipathR] JSON validation successful: TRUE [2025-02-12 04:05:10] [INFO] [OmnipathR] Initialized cache: `/Users/biocbuild/Library/Caches/OmnipathR`. [2025-02-12 04:05:10] [TRACE] [OmnipathR] Running on a build server, wiping cache. [2025-02-12 04:05:10] [TRACE] [OmnipathR] Cache is at `/Users/biocbuild/Library/Caches/OmnipathR`. [2025-02-12 04:05:10] [TRACE] [OmnipathR] Contains 21 files. [2025-02-12 04:05:10] [TRACE] [OmnipathR] Cache is locked: FALSE. [2025-02-12 04:05:10] [TRACE] [OmnipathR] Reading JSON from `/Users/biocbuild/Library/Caches/OmnipathR/cache.json` (encoding: UTF-8). [2025-02-12 04:05:10] [TRACE] [OmnipathR] JSON validation successful: TRUE [2025-02-12 04:05:10] [SUCCESS] [OmnipathR] Removing all cache contents from `/Users/biocbuild/Library/Caches/OmnipathR`. [2025-02-12 04:05:10] [TRACE] [OmnipathR] Pandoc version: `3.1.2`. [2025-02-12 04:05:10] [TRACE] [OmnipathR] Reading JSON from `/Library/Frameworks/R.framework/Versions/4.4-arm64/Resources/library/OmnipathR/db/db_def.json` (encoding: UTF-8). [2025-02-12 04:05:10] [TRACE] [OmnipathR] JSON validation successful: TRUE [2025-02-12 04:05:10] [TRACE] [OmnipathR] Reading JSON from `/Library/Frameworks/R.framework/Versions/4.4-arm64/Resources/library/OmnipathR/internal/magic_bytes.json` (encoding: UTF-8). [2025-02-12 04:05:10] [TRACE] [OmnipathR] JSON validation successful: TRUE [2025-02-12 04:05:10] [TRACE] [OmnipathR] Reading JSON from `/Library/Frameworks/R.framework/Versions/4.4-arm64/Resources/library/OmnipathR/internal/urls.json` (encoding: UTF-8). [2025-02-12 04:05:10] [TRACE] [OmnipathR] JSON validation successful: TRUE [2025-02-12 04:05:10] [TRACE] [OmnipathR] Reading JSON from `/Library/Frameworks/R.framework/Versions/4.4-arm64/Resources/library/OmnipathR/internal/id_types.json` (encoding: UTF-8). [2025-02-12 04:05:10] [TRACE] [OmnipathR] JSON validation successful: TRUE [2025-02-12 04:05:10] [TRACE] [OmnipathR] Cache locked: FALSE > > test_check('OmnipathR') [ FAIL 0 | WARN 0 | SKIP 0 | PASS 34 ] > > proc.time() user system elapsed 10.178 0.935 97.653
OmnipathR.Rcheck/OmnipathR-Ex.timings
name | user | system | elapsed | |
OmnipathR | 0 | 0 | 0 | |
all_uniprot_acs | 0.014 | 0.002 | 0.016 | |
all_uniprots | 0.751 | 0.090 | 25.201 | |
ancestors | 0.008 | 0.001 | 0.009 | |
annotated_network | 0.671 | 0.055 | 1.085 | |
annotation_categories | 106.225 | 0.213 | 106.640 | |
annotation_resources | 0.059 | 0.004 | 0.300 | |
annotations | 0.225 | 0.018 | 0.312 | |
biomart_query | 1.074 | 0.080 | 48.815 | |
bioplex1 | 0.007 | 0.001 | 0.008 | |
bioplex2 | 0.007 | 0.001 | 0.008 | |
bioplex3 | 0.007 | 0.001 | 0.007 | |
bioplex_all | 0.006 | 0.001 | 0.008 | |
bioplex_hct116_1 | 0.006 | 0.001 | 0.007 | |
bma_motif_es | 0.334 | 0.030 | 0.431 | |
bma_motif_vs | 0.174 | 0.008 | 0.408 | |
chalmers_gem | 0.008 | 0.001 | 0.009 | |
chalmers_gem_id_mapping_table | 0.007 | 0.001 | 0.007 | |
chalmers_gem_id_type | 0.002 | 0.000 | 0.002 | |
chalmers_gem_metabolites | 0.007 | 0.000 | 0.008 | |
chalmers_gem_network | 0.007 | 0.000 | 0.008 | |
chalmers_gem_raw | 0.006 | 0.001 | 0.007 | |
chalmers_gem_reactions | 0.006 | 0.001 | 0.007 | |
common_name | 0.029 | 0.001 | 0.029 | |
complex_genes | 0.459 | 0.024 | 0.584 | |
complex_resources | 0.057 | 0.003 | 0.285 | |
complexes | 0.165 | 0.006 | 0.214 | |
consensuspathdb_download | 0.000 | 0.000 | 0.001 | |
consensuspathdb_raw_table | 0.007 | 0.000 | 0.008 | |
cosmos_pkn | 0 | 0 | 0 | |
curated_ligand_receptor_interactions | 4.327 | 0.210 | 5.282 | |
curated_ligrec_stats | 27.569 | 1.053 | 36.559 | |
database_summary | 0.826 | 0.032 | 0.934 | |
descendants | 0.005 | 0.000 | 0.005 | |
ensembl_dataset | 0.008 | 0.000 | 0.008 | |
ensembl_id_mapping_table | 1.324 | 0.084 | 124.374 | |
ensembl_id_type | 0.002 | 0.001 | 0.002 | |
ensembl_name | 0.061 | 0.001 | 0.062 | |
ensembl_organisms | 0.111 | 0.002 | 0.113 | |
ensembl_organisms_raw | 0.250 | 0.005 | 0.255 | |
ensembl_orthology | 0.000 | 0.001 | 0.000 | |
enzsub_graph | 1.940 | 0.061 | 2.284 | |
enzsub_resources | 0.054 | 0.003 | 0.103 | |
enzyme_substrate | 0.961 | 0.010 | 1.159 | |
evex_download | 0.007 | 0.001 | 0.008 | |
evidences | 0 | 0 | 0 | |
extra_attr_values | 10.392 | 0.155 | 10.639 | |
extra_attrs | 5.549 | 0.040 | 5.642 | |
extra_attrs_to_cols | 9.109 | 0.045 | 9.155 | |
filter_by_resource | 4.687 | 0.096 | 4.879 | |
filter_extra_attrs | 17.617 | 0.079 | 17.828 | |
filter_intercell | 7.264 | 0.356 | 8.010 | |
filter_intercell_network | 0.016 | 0.001 | 0.018 | |
find_all_paths | 5.962 | 0.141 | 6.132 | |
from_evidences | 0 | 0 | 0 | |
get_db | 0 | 0 | 0 | |
get_ontology_db | 0.009 | 0.001 | 0.010 | |
giant_component | 9.967 | 0.314 | 10.385 | |
go_annot_download | 12.395 | 0.531 | 12.495 | |
go_annot_slim | 0 | 0 | 0 | |
go_ontology_download | 0.007 | 0.000 | 0.007 | |
guide2pharma_download | 0.006 | 0.000 | 0.007 | |
harmonizome_download | 0.006 | 0.000 | 0.007 | |
has_extra_attrs | 6.321 | 0.070 | 6.397 | |
hmdb_id_mapping_table | 0.008 | 0.001 | 0.009 | |
hmdb_id_type | 0.003 | 0.000 | 0.003 | |
hmdb_metabolite_fields | 0.001 | 0.000 | 0.001 | |
hmdb_protein_fields | 0.000 | 0.000 | 0.001 | |
hmdb_table | 0.007 | 0.000 | 0.008 | |
homologene_download | 0.007 | 0.001 | 0.008 | |
homologene_raw | 0.019 | 0.001 | 0.020 | |
homologene_uniprot_orthology | 0.007 | 0.000 | 0.008 | |
hpo_download | 2.204 | 0.135 | 4.083 | |
htridb_download | 0.007 | 0.001 | 0.008 | |
id_translation_resources | 0.001 | 0.000 | 0.000 | |
id_types | 0.040 | 0.001 | 0.046 | |
inbiomap_download | 0.000 | 0.001 | 0.000 | |
inbiomap_raw | 0 | 0 | 0 | |
interaction_datasets | 0.324 | 0.039 | 0.401 | |
interaction_graph | 0.414 | 0.009 | 0.706 | |
interaction_resources | 0.064 | 0.005 | 0.117 | |
interaction_types | 0.040 | 0.002 | 0.041 | |
intercell | 0.392 | 0.034 | 0.537 | |
intercell_categories | 0.324 | 0.032 | 0.384 | |
intercell_consensus_filter | 0.707 | 0.071 | 1.711 | |
intercell_generic_categories | 0.021 | 0.001 | 0.023 | |
intercell_network | 0.003 | 0.001 | 0.004 | |
intercell_resources | 0.031 | 0.003 | 0.266 | |
intercell_summary | 0.037 | 0.008 | 0.045 | |
is_ontology_id | 0 | 0 | 0 | |
is_swissprot | 0.027 | 0.002 | 0.028 | |
is_trembl | 0.019 | 0.001 | 0.020 | |
is_uniprot | 0.004 | 0.000 | 0.005 | |
kegg_info | 0.005 | 0.001 | 0.005 | |
kegg_open | 0.006 | 0.001 | 0.006 | |
kegg_pathway_annotations | 0 | 0 | 0 | |
kegg_pathway_download | 0.005 | 0.001 | 0.005 | |
kegg_pathway_list | 0.008 | 0.002 | 0.009 | |
kegg_pathways_download | 0 | 0 | 0 | |
kegg_picture | 0.093 | 0.013 | 2.668 | |
kegg_process | 0.016 | 0.002 | 0.018 | |
latin_name | 0.053 | 0.001 | 0.054 | |
load_db | 0.054 | 0.001 | 0.055 | |
ncbi_taxid | 0.051 | 0.001 | 0.052 | |
nichenet_build_model | 0.000 | 0.001 | 0.000 | |
nichenet_expression_data | 0.007 | 0.000 | 0.008 | |
nichenet_gr_network | 0.018 | 0.001 | 0.019 | |
nichenet_gr_network_evex | 0.006 | 0.001 | 0.006 | |
nichenet_gr_network_harmonizome | 0.006 | 0.001 | 0.007 | |
nichenet_gr_network_htridb | 0.006 | 0.000 | 0.007 | |
nichenet_gr_network_omnipath | 12.007 | 0.698 | 12.801 | |
nichenet_gr_network_pathwaycommons | 0.008 | 0.001 | 0.008 | |
nichenet_gr_network_regnetwork | 0.007 | 0.001 | 0.008 | |
nichenet_gr_network_remap | 0.007 | 0.000 | 0.007 | |
nichenet_gr_network_trrust | 0.007 | 0.001 | 0.007 | |
nichenet_ligand_activities | 0.000 | 0.000 | 0.001 | |
nichenet_ligand_target_links | 0.001 | 0.000 | 0.001 | |
nichenet_ligand_target_matrix | 0 | 0 | 0 | |
nichenet_lr_network | 0.285 | 0.003 | 0.289 | |
nichenet_lr_network_guide2pharma | 0.008 | 0.000 | 0.009 | |
nichenet_lr_network_omnipath | 0.028 | 0.002 | 0.030 | |
nichenet_lr_network_ramilowski | 0.011 | 0.001 | 0.013 | |
nichenet_main | 0.000 | 0.000 | 0.001 | |
nichenet_networks | 0.049 | 0.005 | 0.055 | |
nichenet_optimization | 0 | 0 | 0 | |
nichenet_remove_orphan_ligands | 0.019 | 0.002 | 0.020 | |
nichenet_results_dir | 0 | 0 | 0 | |
nichenet_signaling_network | 0.022 | 0.002 | 0.024 | |
nichenet_signaling_network_cpdb | 0.007 | 0.001 | 0.007 | |
nichenet_signaling_network_evex | 0.007 | 0.001 | 0.008 | |
nichenet_signaling_network_harmonizome | 0.007 | 0.000 | 0.007 | |
nichenet_signaling_network_inbiomap | 0 | 0 | 0 | |
nichenet_signaling_network_omnipath | 8.917 | 0.488 | 12.531 | |
nichenet_signaling_network_pathwaycommons | 0.008 | 0.001 | 0.008 | |
nichenet_signaling_network_vinayagam | 0.007 | 0.000 | 0.008 | |
nichenet_test | 0 | 0 | 0 | |
nichenet_workarounds | 0 | 0 | 0 | |
obo_parser | 0.085 | 0.005 | 0.256 | |
oma_code | 0.031 | 0.000 | 0.030 | |
oma_organisms | 0.049 | 0.002 | 0.050 | |
oma_pairwise | 0.054 | 0.002 | 0.056 | |
oma_pairwise_genesymbols | 0.008 | 0.001 | 0.009 | |
oma_pairwise_translated | 0.008 | 0.000 | 0.009 | |
omnipath-interactions | 20.669 | 0.742 | 36.913 | |
omnipath_cache_autoclean | 0.001 | 0.000 | 0.000 | |
omnipath_cache_clean | 0.006 | 0.001 | 0.007 | |
omnipath_cache_clean_db | 0.074 | 0.005 | 0.079 | |
omnipath_cache_download_ready | 0.417 | 0.038 | 0.611 | |
omnipath_cache_filter_versions | 0.109 | 0.011 | 0.134 | |
omnipath_cache_get | 0.063 | 0.009 | 0.071 | |
omnipath_cache_key | 0.001 | 0.000 | 0.001 | |
omnipath_cache_latest_or_new | 0.043 | 0.006 | 0.049 | |
omnipath_cache_load | 0.467 | 0.021 | 1.207 | |
omnipath_cache_move_in | 0.057 | 0.012 | 0.074 | |
omnipath_cache_remove | 0.081 | 0.010 | 0.097 | |
omnipath_cache_save | 0.078 | 0.010 | 0.093 | |
omnipath_cache_search | 0.001 | 0.000 | 0.000 | |
omnipath_cache_set_ext | 0.053 | 0.008 | 0.064 | |
omnipath_cache_update_status | 0.065 | 0.009 | 0.073 | |
omnipath_cache_wipe | 0.000 | 0.000 | 0.001 | |
omnipath_config_path | 0.000 | 0.000 | 0.001 | |
omnipath_for_cosmos | 7.731 | 0.192 | 158.567 | |
omnipath_load_config | 0.000 | 0.000 | 0.001 | |
omnipath_log | 0 | 0 | 0 | |
omnipath_logfile | 0.001 | 0.001 | 0.002 | |
omnipath_msg | 0.005 | 0.001 | 0.009 | |
omnipath_query | 3.453 | 0.057 | 3.549 | |
omnipath_reset_config | 0 | 0 | 0 | |
omnipath_save_config | 0.000 | 0.001 | 0.001 | |
omnipath_set_cachedir | 0.022 | 0.003 | 0.025 | |
omnipath_set_console_loglevel | 0.004 | 0.001 | 0.003 | |
omnipath_set_logfile_loglevel | 0.003 | 0.000 | 0.003 | |
omnipath_set_loglevel | 0.002 | 0.000 | 0.002 | |
omnipath_show_db | 0.047 | 0.001 | 0.047 | |
omnipath_unlock_cache_db | 0.001 | 0.000 | 0.001 | |
only_from | 0.000 | 0.001 | 0.001 | |
ontology_ensure_id | 0.000 | 0.000 | 0.001 | |
ontology_ensure_name | 0 | 0 | 0 | |
ontology_name_id | 0.000 | 0.001 | 0.001 | |
organism_for | 0.040 | 0.001 | 0.040 | |
pathwaycommons_download | 0.001 | 0.000 | 0.001 | |
pivot_annotations | 11.034 | 0.703 | 23.978 | |
preppi_download | 0.001 | 0.000 | 0.001 | |
preppi_filter | 0.001 | 0.001 | 0.001 | |
print_bma_motif_es | 0.160 | 0.025 | 0.249 | |
print_bma_motif_vs | 0.135 | 0.006 | 0.185 | |
print_interactions | 3.423 | 0.128 | 5.261 | |
print_path_es | 0.446 | 0.031 | 0.571 | |
print_path_vs | 2.061 | 0.147 | 2.544 | |
pubmed_open | 3.959 | 0.113 | 4.085 | |
query_info | 0.084 | 0.011 | 0.122 | |
ramilowski_download | 0.001 | 0.000 | 0.001 | |
ramp_id_mapping_table | 0.001 | 0.000 | 0.000 | |
ramp_id_type | 0.002 | 0.000 | 0.002 | |
ramp_sqlite | 0.001 | 0.001 | 0.001 | |
ramp_table | 0.001 | 0.000 | 0.000 | |
ramp_tables | 0 | 0 | 0 | |
regnetwork_directions | 0.001 | 0.000 | 0.001 | |
regnetwork_download | 0.001 | 0.000 | 0.001 | |
relations_list_to_table | 0.076 | 0.006 | 0.159 | |
relations_table_to_graph | 0.000 | 0.001 | 0.000 | |
relations_table_to_list | 0.065 | 0.005 | 0.097 | |
remap_dorothea_download | 0.000 | 0.000 | 0.001 | |
remap_filtered | 0 | 0 | 0 | |
remap_tf_target_download | 0 | 0 | 0 | |
resource_info | 0.136 | 0.049 | 0.483 | |
resources | 0.053 | 0.004 | 0.255 | |
resources_colname | 0.355 | 0.036 | 0.461 | |
resources_in | 2.897 | 0.039 | 2.943 | |
show_network | 0 | 0 | 0 | |
signed_ptms | 4.359 | 0.033 | 4.437 | |
simplify_intercell_network | 0.000 | 0.000 | 0.001 | |
static_table | 6.941 | 0.320 | 7.181 | |
static_tables | 0.041 | 0.001 | 0.055 | |
stitch_actions | 0.001 | 0.000 | 0.001 | |
stitch_links | 0.001 | 0.001 | 0.001 | |
stitch_network | 0.001 | 0.000 | 0.001 | |
stitch_remove_prefixes | 0.007 | 0.001 | 0.008 | |
swap_relations | 0.071 | 0.004 | 0.089 | |
swissprots_only | 0.086 | 0.001 | 0.086 | |
tfcensus_download | 0.146 | 0.018 | 0.198 | |
translate_ids | 1.216 | 0.112 | 19.103 | |
translate_ids_multi | 7.589 | 0.264 | 72.125 | |
trembls_only | 0.037 | 0.000 | 0.047 | |
trrust_download | 0.000 | 0.000 | 0.001 | |
uniprot_full_id_mapping_table | 0.684 | 0.074 | 22.319 | |
uniprot_genesymbol_cleanup | 0 | 0 | 0 | |
uniprot_id_mapping_table | 0.001 | 0.000 | 0.001 | |
uniprot_id_type | 0.002 | 0.000 | 0.003 | |
uniprot_idmapping_id_types | 0.168 | 0.018 | 0.330 | |
unique_intercell_network | 0.001 | 0.000 | 0.001 | |
unnest_evidences | 0 | 0 | 0 | |
uploadlists_id_type | 0.002 | 0.001 | 0.003 | |
vinayagam_download | 0.000 | 0.001 | 0.001 | |
walk_ontology_tree | 0.001 | 0.001 | 0.009 | |
with_extra_attrs | 8.042 | 0.130 | 13.298 | |
with_references | 0.367 | 0.026 | 0.675 | |
zenodo_download | 0.002 | 0.001 | 0.003 | |