Back to Multiple platform build/check report for BioC 3.20:   simplified   long
ABCDEFGHIJKLMN[O]PQRSTUVWXYZ

This page was generated on 2025-02-06 12:06 -0500 (Thu, 06 Feb 2025).

HostnameOSArch (*)R versionInstalled pkgs
nebbiolo2Linux (Ubuntu 24.04.1 LTS)x86_644.4.2 (2024-10-31) -- "Pile of Leaves" 4753
palomino8Windows Server 2022 Datacenterx644.4.2 (2024-10-31 ucrt) -- "Pile of Leaves" 4501
merida1macOS 12.7.5 Montereyx86_644.4.2 (2024-10-31) -- "Pile of Leaves" 4524
kjohnson1macOS 13.6.6 Venturaarm644.4.2 (2024-10-31) -- "Pile of Leaves" 4476
taishanLinux (openEuler 24.03 LTS)aarch644.4.2 (2024-10-31) -- "Pile of Leaves" 4407
Click on any hostname to see more info about the system (e.g. compilers)      (*) as reported by 'uname -p', except on Windows and Mac OS X

Package 1456/2289HostnameOS / ArchINSTALLBUILDCHECKBUILD BIN
OmnipathR 3.14.0  (landing page)
Denes Turei
Snapshot Date: 2025-02-03 13:00 -0500 (Mon, 03 Feb 2025)
git_url: https://git.bioconductor.org/packages/OmnipathR
git_branch: RELEASE_3_20
git_last_commit: 3c7d7f1
git_last_commit_date: 2024-10-29 10:41:00 -0500 (Tue, 29 Oct 2024)
nebbiolo2Linux (Ubuntu 24.04.1 LTS) / x86_64  OK    OK    OK  UNNEEDED, same version is already published
palomino8Windows Server 2022 Datacenter / x64  OK    OK    OK    OK  UNNEEDED, same version is already published
merida1macOS 12.7.5 Monterey / x86_64  OK    OK    OK    OK  UNNEEDED, same version is already published
kjohnson1macOS 13.6.6 Ventura / arm64  OK    OK    OK    OK  UNNEEDED, same version is already published
taishanLinux (openEuler 24.03 LTS) / aarch64  OK    OK    OK  


CHECK results for OmnipathR on palomino8

To the developers/maintainers of the OmnipathR package:
- Allow up to 24 hours (and sometimes 48 hours) for your latest push to git@git.bioconductor.org:packages/OmnipathR.git to reflect on this report. See Troubleshooting Build Report for more information.
- Use the following Renviron settings to reproduce errors and warnings.
- If 'R CMD check' started to fail recently on the Linux builder(s) over a missing dependency, add the missing dependency to 'Suggests:' in your DESCRIPTION file. See Renviron.bioc for more information.

raw results


Summary

Package: OmnipathR
Version: 3.14.0
Command: F:\biocbuild\bbs-3.20-bioc\R\bin\R.exe CMD check --no-multiarch --install=check:OmnipathR.install-out.txt --library=F:\biocbuild\bbs-3.20-bioc\R\library --no-vignettes --timings OmnipathR_3.14.0.tar.gz
StartedAt: 2025-02-04 04:33:34 -0500 (Tue, 04 Feb 2025)
EndedAt: 2025-02-04 04:47:32 -0500 (Tue, 04 Feb 2025)
EllapsedTime: 838.2 seconds
RetCode: 0
Status:   OK  
CheckDir: OmnipathR.Rcheck
Warnings: 0

Command output

##############################################################################
##############################################################################
###
### Running command:
###
###   F:\biocbuild\bbs-3.20-bioc\R\bin\R.exe CMD check --no-multiarch --install=check:OmnipathR.install-out.txt --library=F:\biocbuild\bbs-3.20-bioc\R\library --no-vignettes --timings OmnipathR_3.14.0.tar.gz
###
##############################################################################
##############################################################################


* using log directory 'F:/biocbuild/bbs-3.20-bioc/meat/OmnipathR.Rcheck'
* using R version 4.4.2 (2024-10-31 ucrt)
* using platform: x86_64-w64-mingw32
* R was compiled by
    gcc.exe (GCC) 13.3.0
    GNU Fortran (GCC) 13.3.0
* running under: Windows Server 2022 x64 (build 20348)
* using session charset: UTF-8
* using option '--no-vignettes'
* checking for file 'OmnipathR/DESCRIPTION' ... OK
* checking extension type ... Package
* this is package 'OmnipathR' version '3.14.0'
* package encoding: UTF-8
* checking package namespace information ... OK
* checking package dependencies ... OK
* checking if this is a source package ... OK
* checking if there is a namespace ... OK
* checking for hidden files and directories ... OK
* checking for portable file names ... OK
* checking whether package 'OmnipathR' can be installed ... OK
* checking installed package size ... OK
* checking package directory ... OK
* checking DESCRIPTION meta-information ... OK
* checking top-level files ... OK
* checking for left-over files ... OK
* checking index information ... OK
* checking package subdirectories ... OK
* checking code files for non-ASCII characters ... OK
* checking R files for syntax errors ... OK
* checking whether the package can be loaded ... OK
* checking whether the package can be loaded with stated dependencies ... OK
* checking whether the package can be unloaded cleanly ... OK
* checking whether the namespace can be loaded with stated dependencies ... OK
* checking whether the namespace can be unloaded cleanly ... OK
* checking whether startup messages can be suppressed ... NOTE
[2025-02-04 04:34:14] [TRACE]   [OmnipathR] Reading JSON from `C:\Users\biocbuild\AppData\Local\Cache\OmnipathR/cache.json` (encoding: UTF-8).
[2025-02-04 04:34:14] [TRACE]   [OmnipathR] JSON validation successful: TRUE
[2025-02-04 04:34:14] [INFO]    [OmnipathR] Initialized cache: `C:\Users\biocbuild\AppData\Local\Cache\OmnipathR`.
[2025-02-04 04:34:14] [TRACE]   [OmnipathR] Running on a build server, wiping cache.
[2025-02-04 04:34:14] [TRACE]   [OmnipathR] Cache is at `C:\Users\biocbuild\AppData\Local\Cache\OmnipathR`.
[2025-02-04 04:34:14] [TRACE]   [OmnipathR] Contains 1 files.
[2025-02-04 04:34:14] [TRACE]   [OmnipathR] Cache is locked: FALSE.
[2025-02-04 04:34:14] [TRACE]   [OmnipathR] Reading JSON from `C:\Users\biocbuild\AppData\Local\Cache\OmnipathR/cache.json` (encoding: UTF-8).
[2025-02-04 04:34:14] [TRACE]   [OmnipathR] JSON validation successful: TRUE
[2025-02-04 04:34:14] [SUCCESS] [OmnipathR] Removing all cache contents from `C:\Users\biocbuild\AppData\Local\Cache\OmnipathR`.
[2025-02-04 04:34:14] [TRACE]   [OmnipathR] Pandoc version: `2.7.3`.
[2025-02-04 04:34:14] [TRACE]   [OmnipathR] Reading JSON from `F:/biocbuild/bbs-3.20-bioc/R/library/OmnipathR/db/db_def.json` (encoding: UTF-8).
[2025-02-04 04:34:14] [TRACE]   [OmnipathR] JSON validation successful: TRUE
[2025-02-04 04:34:14] [TRACE]   [OmnipathR] Reading JSON from `F:/biocbuild/bbs-3.20-bioc/R/library/OmnipathR/internal/magic_bytes.json` (encoding: UTF-8).
[2025-02-04 04:34:14] [TRACE]   [OmnipathR] JSON validation successful: TRUE
[2025-02-04 04:34:14] [TRACE]   [OmnipathR] Reading JSON from `F:/biocbuild/bbs-3.20-bioc/R/library/OmnipathR/internal/urls.json` (encoding: UTF-8).
[2025-02-04 04:34:14] [TRACE]   [OmnipathR] JSON validation successful: TRUE
[2025-02-04 04:34:14] [TRACE]   [OmnipathR] Reading JSON from `F:/biocbuild/bbs-3.20-bioc/R/library/OmnipathR/internal/id_types.json` (encoding: UTF-8).
[2025-02-04 04:34:14] [TRACE]   [OmnipathR] JSON validation successful: TRUE
[2025-02-04 04:34:14] [TRACE]   [OmnipathR] Cache locked: FALSE

It looks like this package (or a package it requires) has a startup
message which cannot be suppressed: see ?packageStartupMessage.
* checking dependencies in R code ... OK
* checking S3 generic/method consistency ... OK
* checking replacement functions ... OK
* checking foreign function calls ... OK
* checking R code for possible problems ... NOTE
[2025-02-04 04:34:33] [TRACE]   [OmnipathR] Reading JSON from `C:\Users\biocbuild\AppData\Local\Cache\OmnipathR/cache.json` (encoding: UTF-8).
[2025-02-04 04:34:33] [TRACE]   [OmnipathR] JSON validation successful: TRUE
[2025-02-04 04:34:33] [INFO]    [OmnipathR] Initialized cache: `C:\Users\biocbuild\AppData\Local\Cache\OmnipathR`.
[2025-02-04 04:34:33] [TRACE]   [OmnipathR] Running on a build server, wiping cache.
[2025-02-04 04:34:33] [TRACE]   [OmnipathR] Cache is at `C:\Users\biocbuild\AppData\Local\Cache\OmnipathR`.
[2025-02-04 04:34:33] [TRACE]   [OmnipathR] Contains 1 files.
[2025-02-04 04:34:33] [TRACE]   [OmnipathR] Cache is locked: FALSE.
[2025-02-04 04:34:33] [TRACE]   [OmnipathR] Reading JSON from `C:\Users\biocbuild\AppData\Local\Cache\OmnipathR/cache.json` (encoding: UTF-8).
[2025-02-04 04:34:33] [TRACE]   [OmnipathR] JSON validation successful: TRUE
[2025-02-04 04:34:33] [SUCCESS] [OmnipathR] Removing all cache contents from `C:\Users\biocbuild\AppData\Local\Cache\OmnipathR`.
[2025-02-04 04:34:33] [TRACE]   [OmnipathR] Pandoc version: `2.7.3`.
[2025-02-04 04:34:33] [TRACE]   [OmnipathR] Reading JSON from `F:/biocbuild/bbs-3.20-bioc/R/library/OmnipathR/db/db_def.json` (encoding: UTF-8).
[2025-02-04 04:34:33] [TRACE]   [OmnipathR] JSON validation successful: TRUE
[2025-02-04 04:34:33] [TRACE]   [OmnipathR] Reading JSON from `F:/biocbuild/bbs-3.20-bioc/R/library/OmnipathR/internal/magic_bytes.json` (encoding: UTF-8).
[2025-02-04 04:34:33] [TRACE]   [OmnipathR] JSON validation successful: TRUE
[2025-02-04 04:34:33] [TRACE]   [OmnipathR] Reading JSON from `F:/biocbuild/bbs-3.20-bioc/R/library/OmnipathR/internal/urls.json` (encoding: UTF-8).
[2025-02-04 04:34:33] [TRACE]   [OmnipathR] JSON validation successful: TRUE
[2025-02-04 04:34:33] [TRACE]   [OmnipathR] Reading JSON from `F:/biocbuild/bbs-3.20-bioc/R/library/OmnipathR/internal/id_types.json` (encoding: UTF-8).
[2025-02-04 04:34:33] [TRACE]   [OmnipathR] JSON validation successful: TRUE
[2025-02-04 04:34:33] [TRACE]   [OmnipathR] Cache locked: FALSE
* checking Rd files ... OK
* checking Rd metadata ... OK
* checking Rd cross-references ... OK
* checking for missing documentation entries ... OK
* checking for code/documentation mismatches ... OK
* checking Rd \usage sections ... OK
* checking Rd contents ... OK
* checking for unstated dependencies in examples ... OK
* checking R/sysdata.rda ... OK
* checking files in 'vignettes' ... OK
* checking examples ... OK
Examples with CPU (user + system) or elapsed time > 5s
                                      user system elapsed
annotation_categories                67.75   0.04   68.41
curated_ligrec_stats                 31.07   1.67   78.94
omnipath-interactions                27.92   0.83   41.71
filter_extra_attrs                   21.50   0.19   22.09
nichenet_gr_network_omnipath         13.64   0.90   15.02
go_annot_download                    12.24   0.87   11.91
pivot_annotations                    12.08   0.89   20.30
extra_attr_values                    11.61   0.30   13.45
giant_component                      10.84   0.30   11.55
nichenet_signaling_network_omnipath   9.74   0.69   11.07
omnipath_for_cosmos                   9.82   0.26   55.12
with_extra_attrs                      9.66   0.21   10.70
extra_attrs_to_cols                   9.66   0.11    9.76
translate_ids_multi                   7.58   0.12   52.50
print_interactions                    6.58   0.31   16.12
filter_intercell                      6.47   0.37    6.94
static_table                          6.45   0.34    7.03
has_extra_attrs                       6.50   0.08    6.58
filter_by_resource                    6.36   0.13    7.02
extra_attrs                           6.32   0.04    6.38
find_all_paths                        5.86   0.14    6.03
curated_ligand_receptor_interactions  5.31   0.42   11.86
signed_ptms                           4.86   0.00    5.34
ensembl_id_mapping_table              1.56   0.05   39.49
translate_ids                         1.30   0.06   19.56
uniprot_full_id_mapping_table         1.06   0.22   24.38
all_uniprots                          0.91   0.06   20.98
print_path_es                         0.51   0.10   10.58
* checking for unstated dependencies in 'tests' ... OK
* checking tests ...
  Running 'testthat.R'
 OK
* checking for unstated dependencies in vignettes ... OK
* checking package vignettes ... OK
* checking running R code from vignettes ... SKIPPED
* checking re-building of vignette outputs ... SKIPPED
* checking PDF version of manual ... OK
* DONE

Status: 2 NOTEs
See
  'F:/biocbuild/bbs-3.20-bioc/meat/OmnipathR.Rcheck/00check.log'
for details.


Installation output

OmnipathR.Rcheck/00install.out

##############################################################################
##############################################################################
###
### Running command:
###
###   F:\biocbuild\bbs-3.20-bioc\R\bin\R.exe CMD INSTALL OmnipathR
###
##############################################################################
##############################################################################


* installing to library 'F:/biocbuild/bbs-3.20-bioc/R/library'
* installing *source* package 'OmnipathR' ...
** using staged installation
** R
** inst
** byte-compile and prepare package for lazy loading
** help
*** installing help indices
*** copying figures
** building package indices
** installing vignettes
** testing if installed package can be loaded from temporary location
[2025-02-03 16:05:51] [TRACE]   [OmnipathR] Reading JSON from `C:\Users\biocbuild\AppData\Local\Cache\OmnipathR/cache.json` (encoding: UTF-8).
[2025-02-03 16:05:51] [TRACE]   [OmnipathR] JSON validation successful: TRUE
[2025-02-03 16:05:51] [INFO]    [OmnipathR] Initialized cache: `C:\Users\biocbuild\AppData\Local\Cache\OmnipathR`.
[2025-02-03 16:05:51] [TRACE]   [OmnipathR] Running on a build server, wiping cache.
[2025-02-03 16:05:51] [TRACE]   [OmnipathR] Cache is at `C:\Users\biocbuild\AppData\Local\Cache\OmnipathR`.
[2025-02-03 16:05:51] [TRACE]   [OmnipathR] Contains 1 files.
[2025-02-03 16:05:51] [TRACE]   [OmnipathR] Cache is locked: FALSE.
[2025-02-03 16:05:51] [TRACE]   [OmnipathR] Reading JSON from `C:\Users\biocbuild\AppData\Local\Cache\OmnipathR/cache.json` (encoding: UTF-8).
[2025-02-03 16:05:51] [TRACE]   [OmnipathR] JSON validation successful: TRUE
[2025-02-03 16:05:51] [SUCCESS] [OmnipathR] Removing all cache contents from `C:\Users\biocbuild\AppData\Local\Cache\OmnipathR`.
[2025-02-03 16:05:51] [TRACE]   [OmnipathR] Pandoc version: `2.7.3`.
[2025-02-03 16:05:51] [TRACE]   [OmnipathR] Reading JSON from `F:/biocbuild/bbs-3.20-bioc/R/library/00LOCK-OmnipathR/00new/OmnipathR/db/db_def.json` (encoding: UTF-8).
[2025-02-03 16:05:51] [TRACE]   [OmnipathR] JSON validation successful: TRUE
[2025-02-03 16:05:51] [TRACE]   [OmnipathR] Reading JSON from `F:/biocbuild/bbs-3.20-bioc/R/library/00LOCK-OmnipathR/00new/OmnipathR/internal/magic_bytes.json` (encoding: UTF-8).
[2025-02-03 16:05:51] [TRACE]   [OmnipathR] JSON validation successful: TRUE
[2025-02-03 16:05:51] [TRACE]   [OmnipathR] Reading JSON from `F:/biocbuild/bbs-3.20-bioc/R/library/00LOCK-OmnipathR/00new/OmnipathR/internal/urls.json` (encoding: UTF-8).
[2025-02-03 16:05:51] [TRACE]   [OmnipathR] JSON validation successful: TRUE
[2025-02-03 16:05:51] [TRACE]   [OmnipathR] Reading JSON from `F:/biocbuild/bbs-3.20-bioc/R/library/00LOCK-OmnipathR/00new/OmnipathR/internal/id_types.json` (encoding: UTF-8).
[2025-02-03 16:05:51] [TRACE]   [OmnipathR] JSON validation successful: TRUE
[2025-02-03 16:05:51] [TRACE]   [OmnipathR] Cache locked: FALSE
** testing if installed package can be loaded from final location
[2025-02-03 16:05:54] [TRACE]   [OmnipathR] Reading JSON from `C:\Users\biocbuild\AppData\Local\Cache\OmnipathR/cache.json` (encoding: UTF-8).
[2025-02-03 16:05:54] [TRACE]   [OmnipathR] JSON validation successful: TRUE
[2025-02-03 16:05:54] [INFO]    [OmnipathR] Initialized cache: `C:\Users\biocbuild\AppData\Local\Cache\OmnipathR`.
[2025-02-03 16:05:54] [TRACE]   [OmnipathR] Running on a build server, wiping cache.
[2025-02-03 16:05:54] [TRACE]   [OmnipathR] Cache is at `C:\Users\biocbuild\AppData\Local\Cache\OmnipathR`.
[2025-02-03 16:05:54] [TRACE]   [OmnipathR] Contains 1 files.
[2025-02-03 16:05:54] [TRACE]   [OmnipathR] Cache is locked: FALSE.
[2025-02-03 16:05:54] [TRACE]   [OmnipathR] Reading JSON from `C:\Users\biocbuild\AppData\Local\Cache\OmnipathR/cache.json` (encoding: UTF-8).
[2025-02-03 16:05:54] [TRACE]   [OmnipathR] JSON validation successful: TRUE
[2025-02-03 16:05:54] [SUCCESS] [OmnipathR] Removing all cache contents from `C:\Users\biocbuild\AppData\Local\Cache\OmnipathR`.
[2025-02-03 16:05:54] [TRACE]   [OmnipathR] Pandoc version: `2.7.3`.
[2025-02-03 16:05:54] [TRACE]   [OmnipathR] Reading JSON from `F:/biocbuild/bbs-3.20-bioc/R/library/OmnipathR/db/db_def.json` (encoding: UTF-8).
[2025-02-03 16:05:54] [TRACE]   [OmnipathR] JSON validation successful: TRUE
[2025-02-03 16:05:54] [TRACE]   [OmnipathR] Reading JSON from `F:/biocbuild/bbs-3.20-bioc/R/library/OmnipathR/internal/magic_bytes.json` (encoding: UTF-8).
[2025-02-03 16:05:54] [TRACE]   [OmnipathR] JSON validation successful: TRUE
[2025-02-03 16:05:54] [TRACE]   [OmnipathR] Reading JSON from `F:/biocbuild/bbs-3.20-bioc/R/library/OmnipathR/internal/urls.json` (encoding: UTF-8).
[2025-02-03 16:05:54] [TRACE]   [OmnipathR] JSON validation successful: TRUE
[2025-02-03 16:05:54] [TRACE]   [OmnipathR] Reading JSON from `F:/biocbuild/bbs-3.20-bioc/R/library/OmnipathR/internal/id_types.json` (encoding: UTF-8).
[2025-02-03 16:05:54] [TRACE]   [OmnipathR] JSON validation successful: TRUE
[2025-02-03 16:05:54] [TRACE]   [OmnipathR] Cache locked: FALSE
** testing if installed package keeps a record of temporary installation path
* DONE (OmnipathR)

Tests output

OmnipathR.Rcheck/tests/testthat.Rout


R version 4.4.2 (2024-10-31 ucrt) -- "Pile of Leaves"
Copyright (C) 2024 The R Foundation for Statistical Computing
Platform: x86_64-w64-mingw32/x64

R is free software and comes with ABSOLUTELY NO WARRANTY.
You are welcome to redistribute it under certain conditions.
Type 'license()' or 'licence()' for distribution details.

R is a collaborative project with many contributors.
Type 'contributors()' for more information and
'citation()' on how to cite R or R packages in publications.

Type 'demo()' for some demos, 'help()' for on-line help, or
'help.start()' for an HTML browser interface to help.
Type 'q()' to quit R.

> #!/usr/bin/env Rscript
> 
> #
> #  This file is part of the `OmnipathR` R package
> #
> #  Copyright
> #  2018-2024
> #  Saez Lab, Uniklinik RWTH Aachen, Heidelberg University
> #
> #  File author(s): Alberto Valdeolivas
> #                  Dénes Türei (turei.denes@gmail.com)
> #                  Attila Gábor
> #
> #  Distributed under the MIT (Expat) License.
> #  See accompanying file `LICENSE` or find a copy at
> #      https://directory.fsf.org/wiki/License:Expat
> #
> #  Website: https://r.omnipathdb.org/
> #  Git repo: https://github.com/saezlab/OmnipathR
> #
> 
> 
> library(testthat)
> library(OmnipathR)
[2025-02-04 04:46:36] [TRACE]   [OmnipathR] Reading JSON from `C:\Users\biocbuild\AppData\Local\Cache\OmnipathR/cache.json` (encoding: UTF-8).
[2025-02-04 04:46:36] [TRACE]   [OmnipathR] JSON validation successful: TRUE
[2025-02-04 04:46:36] [INFO]    [OmnipathR] Initialized cache: `C:\Users\biocbuild\AppData\Local\Cache\OmnipathR`.
[2025-02-04 04:46:37] [TRACE]   [OmnipathR] Running on a build server, wiping cache.
[2025-02-04 04:46:37] [TRACE]   [OmnipathR] Cache is at `C:\Users\biocbuild\AppData\Local\Cache\OmnipathR`.
[2025-02-04 04:46:37] [TRACE]   [OmnipathR] Contains 21 files.
[2025-02-04 04:46:37] [TRACE]   [OmnipathR] Cache is locked: FALSE.
[2025-02-04 04:46:37] [TRACE]   [OmnipathR] Reading JSON from `C:\Users\biocbuild\AppData\Local\Cache\OmnipathR/cache.json` (encoding: UTF-8).
[2025-02-04 04:46:37] [TRACE]   [OmnipathR] JSON validation successful: TRUE
[2025-02-04 04:46:37] [SUCCESS] [OmnipathR] Removing all cache contents from `C:\Users\biocbuild\AppData\Local\Cache\OmnipathR`.
[2025-02-04 04:46:37] [TRACE]   [OmnipathR] Pandoc version: `2.7.3`.
[2025-02-04 04:46:37] [TRACE]   [OmnipathR] Reading JSON from `F:/biocbuild/bbs-3.20-bioc/R/library/OmnipathR/db/db_def.json` (encoding: UTF-8).
[2025-02-04 04:46:37] [TRACE]   [OmnipathR] JSON validation successful: TRUE
[2025-02-04 04:46:37] [TRACE]   [OmnipathR] Reading JSON from `F:/biocbuild/bbs-3.20-bioc/R/library/OmnipathR/internal/magic_bytes.json` (encoding: UTF-8).
[2025-02-04 04:46:37] [TRACE]   [OmnipathR] JSON validation successful: TRUE
[2025-02-04 04:46:37] [TRACE]   [OmnipathR] Reading JSON from `F:/biocbuild/bbs-3.20-bioc/R/library/OmnipathR/internal/urls.json` (encoding: UTF-8).
[2025-02-04 04:46:37] [TRACE]   [OmnipathR] JSON validation successful: TRUE
[2025-02-04 04:46:37] [TRACE]   [OmnipathR] Reading JSON from `F:/biocbuild/bbs-3.20-bioc/R/library/OmnipathR/internal/id_types.json` (encoding: UTF-8).
[2025-02-04 04:46:37] [TRACE]   [OmnipathR] JSON validation successful: TRUE
[2025-02-04 04:46:37] [TRACE]   [OmnipathR] Cache locked: FALSE
> 
> test_check('OmnipathR')
[ FAIL 0 | WARN 0 | SKIP 0 | PASS 34 ]
> 
> proc.time()
   user  system elapsed 
  11.98    1.37   32.93 

Example timings

OmnipathR.Rcheck/OmnipathR-Ex.timings

nameusersystemelapsed
OmnipathR000
all_uniprot_acs0.020.020.03
all_uniprots 0.91 0.0620.98
ancestors0.010.000.02
annotated_network0.920.092.81
annotation_categories67.75 0.0468.41
annotation_resources0.080.000.48
annotations0.310.011.06
biomart_query1.220.083.58
bioplex10.020.000.02
bioplex20.000.020.01
bioplex30.010.000.02
bioplex_all0.050.000.04
bioplex_hct116_1000
bma_motif_es0.340.041.13
bma_motif_vs0.190.000.73
chalmers_gem0.020.000.02
chalmers_gem_id_mapping_table000
chalmers_gem_id_type0.010.000.02
chalmers_gem_metabolites000
chalmers_gem_network0.020.000.01
chalmers_gem_raw0.010.000.02
chalmers_gem_reactions000
common_name0.040.000.03
complex_genes0.480.021.51
complex_resources0.080.000.49
complexes0.190.000.61
consensuspathdb_download000
consensuspathdb_raw_table0.010.000.01
cosmos_pkn000
curated_ligand_receptor_interactions 5.31 0.4211.86
curated_ligrec_stats31.07 1.6778.94
database_summary1.460.062.31
descendants0.040.000.03
ensembl_dataset000
ensembl_id_mapping_table 1.56 0.0539.49
ensembl_id_type000
ensembl_name0.080.020.09
ensembl_organisms0.140.000.28
ensembl_organisms_raw0.180.010.21
ensembl_orthology000
enzsub_graph2.300.053.37
enzsub_resources0.060.010.47
enzyme_substrate1.300.021.77
evex_download0.020.000.01
evidences000
extra_attr_values11.61 0.3013.45
extra_attrs6.320.046.38
extra_attrs_to_cols9.660.119.76
filter_by_resource6.360.137.02
filter_extra_attrs21.50 0.1922.09
filter_intercell6.470.376.94
filter_intercell_network0.010.000.02
find_all_paths5.860.146.03
from_evidences000
get_db000
get_ontology_db000
giant_component10.84 0.3011.55
go_annot_download12.24 0.8711.91
go_annot_slim000
go_ontology_download0.010.000.01
guide2pharma_download000
harmonizome_download000
has_extra_attrs6.500.086.58
hmdb_id_mapping_table000
hmdb_id_type000
hmdb_metabolite_fields000
hmdb_protein_fields000
hmdb_table000
homologene_download0.010.000.02
homologene_raw0.020.000.01
homologene_uniprot_orthology000
hpo_download2.420.222.70
htridb_download0.020.000.02
id_translation_resources000
id_types0.040.000.04
inbiomap_download0.020.000.02
inbiomap_raw000
interaction_datasets0.450.020.73
interaction_graph0.380.000.79
interaction_resources0.080.000.46
interaction_types0.040.000.05
intercell0.470.061.00
intercell_categories0.440.050.75
intercell_consensus_filter1.500.072.16
intercell_generic_categories0.060.000.06
intercell_network000
intercell_resources0.110.020.53
intercell_summary0.040.020.06
is_ontology_id000
is_swissprot0.030.000.03
is_trembl0.040.000.03
is_uniprot0.010.000.02
kegg_info000
kegg_open000
kegg_pathway_annotations0.020.000.01
kegg_pathway_download000
kegg_pathway_list0.010.000.02
kegg_pathways_download000
kegg_picture0.080.002.16
kegg_process0.020.000.01
latin_name0.090.000.09
load_db0.090.010.11
ncbi_taxid0.130.000.13
nichenet_build_model000
nichenet_expression_data0.010.000.01
nichenet_gr_network0.020.020.04
nichenet_gr_network_evex000
nichenet_gr_network_harmonizome0.020.000.01
nichenet_gr_network_htridb000
nichenet_gr_network_omnipath13.64 0.9015.02
nichenet_gr_network_pathwaycommons0.010.000.01
nichenet_gr_network_regnetwork0.000.020.02
nichenet_gr_network_remap000
nichenet_gr_network_trrust0.020.000.01
nichenet_ligand_activities000
nichenet_ligand_target_links000
nichenet_ligand_target_matrix000
nichenet_lr_network0.080.000.08
nichenet_lr_network_guide2pharma0.010.000.02
nichenet_lr_network_omnipath0.020.000.03
nichenet_lr_network_ramilowski000
nichenet_main000
nichenet_networks0.040.000.05
nichenet_optimization000
nichenet_remove_orphan_ligands0.030.000.03
nichenet_results_dir000
nichenet_signaling_network0.030.020.05
nichenet_signaling_network_cpdb000
nichenet_signaling_network_evex0.020.000.01
nichenet_signaling_network_harmonizome0.010.000.02
nichenet_signaling_network_inbiomap000
nichenet_signaling_network_omnipath 9.74 0.6911.07
nichenet_signaling_network_pathwaycommons0.010.000.02
nichenet_signaling_network_vinayagam0.020.000.02
nichenet_test000
nichenet_workarounds000
obo_parser0.110.000.17
oma_code0.050.000.04
oma_organisms0.120.000.15
oma_pairwise0.020.000.01
oma_pairwise_genesymbols0.010.000.02
oma_pairwise_translated0.020.000.01
omnipath-interactions27.92 0.8341.71
omnipath_cache_autoclean000
omnipath_cache_clean000
omnipath_cache_clean_db0.090.000.09
omnipath_cache_download_ready0.630.040.86
omnipath_cache_filter_versions0.190.000.30
omnipath_cache_get0.070.050.12
omnipath_cache_key000
omnipath_cache_latest_or_new0.080.020.09
omnipath_cache_load0.500.011.30
omnipath_cache_move_in0.240.020.36
omnipath_cache_remove0.140.000.20
omnipath_cache_save0.150.010.28
omnipath_cache_search000
omnipath_cache_set_ext0.130.000.21
omnipath_cache_update_status0.120.020.17
omnipath_cache_wipe000
omnipath_config_path000
omnipath_for_cosmos 9.82 0.2655.12
omnipath_load_config000
omnipath_log000
omnipath_logfile000
omnipath_msg000
omnipath_query3.310.053.36
omnipath_reset_config000
omnipath_save_config000
omnipath_set_cachedir0.010.000.02
omnipath_set_console_loglevel0.020.000.01
omnipath_set_logfile_loglevel000
omnipath_set_loglevel000
omnipath_show_db0.060.000.06
omnipath_unlock_cache_db000
only_from000
ontology_ensure_id000
ontology_ensure_name000
ontology_name_id000
organism_for0.110.000.11
pathwaycommons_download000
pivot_annotations12.08 0.8920.30
preppi_download000
preppi_filter000
print_bma_motif_es0.230.010.95
print_bma_motif_vs0.160.000.57
print_interactions 6.58 0.3116.12
print_path_es 0.51 0.1010.58
print_path_vs2.100.113.75
pubmed_open3.860.014.03
query_info0.110.000.40
ramilowski_download000
ramp_id_mapping_table000
ramp_id_type000
ramp_sqlite000
ramp_table0.000.020.02
ramp_tables000
regnetwork_directions000
regnetwork_download000
relations_list_to_table0.100.000.22
relations_table_to_graph000
relations_table_to_list0.080.000.13
remap_dorothea_download000
remap_filtered000
remap_tf_target_download000
resource_info0.520.051.00
resources0.060.000.49
resources_colname0.520.091.29
resources_in3.700.023.82
show_network000
signed_ptms4.860.005.34
simplify_intercell_network000
static_table6.450.347.03
static_tables0.050.000.12
stitch_actions000
stitch_links000
stitch_network000
stitch_remove_prefixes000
swap_relations0.150.000.18
swissprots_only0.050.000.05
tfcensus_download0.140.040.44
translate_ids 1.30 0.0619.56
translate_ids_multi 7.58 0.1252.50
trembls_only0.040.000.05
trrust_download000
uniprot_full_id_mapping_table 1.06 0.2224.38
uniprot_genesymbol_cleanup000
uniprot_id_mapping_table000
uniprot_id_type000
uniprot_idmapping_id_types0.160.000.48
unique_intercell_network000
unnest_evidences000
uploadlists_id_type000
vinayagam_download000
walk_ontology_tree000
with_extra_attrs 9.66 0.2110.70
with_references0.480.041.36
zenodo_download000