Back to Multiple platform build/check report for BioC 3.20: simplified long |
|
This page was generated on 2025-02-13 12:13 -0500 (Thu, 13 Feb 2025).
Hostname | OS | Arch (*) | R version | Installed pkgs |
---|---|---|---|---|
nebbiolo2 | Linux (Ubuntu 24.04.1 LTS) | x86_64 | 4.4.2 (2024-10-31) -- "Pile of Leaves" | 4754 |
palomino8 | Windows Server 2022 Datacenter | x64 | 4.4.2 (2024-10-31 ucrt) -- "Pile of Leaves" | 4502 |
merida1 | macOS 12.7.5 Monterey | x86_64 | 4.4.2 (2024-10-31) -- "Pile of Leaves" | 4525 |
kjohnson1 | macOS 13.6.6 Ventura | arm64 | 4.4.2 (2024-10-31) -- "Pile of Leaves" | 4477 |
taishan | Linux (openEuler 24.03 LTS) | aarch64 | 4.4.2 (2024-10-31) -- "Pile of Leaves" | 4414 |
Click on any hostname to see more info about the system (e.g. compilers) (*) as reported by 'uname -p', except on Windows and Mac OS X |
Package 1456/2289 | Hostname | OS / Arch | INSTALL | BUILD | CHECK | BUILD BIN | ||||||||
OmnipathR 3.14.0 (landing page) Denes Turei
| nebbiolo2 | Linux (Ubuntu 24.04.1 LTS) / x86_64 | OK | OK | OK | |||||||||
palomino8 | Windows Server 2022 Datacenter / x64 | OK | OK | OK | OK | |||||||||
merida1 | macOS 12.7.5 Monterey / x86_64 | OK | OK | OK | OK | |||||||||
kjohnson1 | macOS 13.6.6 Ventura / arm64 | OK | OK | OK | OK | |||||||||
taishan | Linux (openEuler 24.03 LTS) / aarch64 | OK | OK | OK | ||||||||||
To the developers/maintainers of the OmnipathR package: - Allow up to 24 hours (and sometimes 48 hours) for your latest push to git@git.bioconductor.org:packages/OmnipathR.git to reflect on this report. See Troubleshooting Build Report for more information. - Use the following Renviron settings to reproduce errors and warnings. - If 'R CMD check' started to fail recently on the Linux builder(s) over a missing dependency, add the missing dependency to 'Suggests:' in your DESCRIPTION file. See Renviron.bioc for more information. - See Martin Grigorov's blog post for how to debug Linux ARM64 related issues on a x86_64 host. |
Package: OmnipathR |
Version: 3.14.0 |
Command: /home/biocbuild/R/R/bin/R CMD check --install=check:OmnipathR.install-out.txt --library=/home/biocbuild/R/R/site-library --no-vignettes --timings OmnipathR_3.14.0.tar.gz |
StartedAt: 2025-02-11 08:49:57 -0000 (Tue, 11 Feb 2025) |
EndedAt: 2025-02-11 09:09:51 -0000 (Tue, 11 Feb 2025) |
EllapsedTime: 1194.1 seconds |
RetCode: 0 |
Status: OK |
CheckDir: OmnipathR.Rcheck |
Warnings: 0 |
############################################################################## ############################################################################## ### ### Running command: ### ### /home/biocbuild/R/R/bin/R CMD check --install=check:OmnipathR.install-out.txt --library=/home/biocbuild/R/R/site-library --no-vignettes --timings OmnipathR_3.14.0.tar.gz ### ############################################################################## ############################################################################## * using log directory ‘/home/biocbuild/bbs-3.20-bioc/meat/OmnipathR.Rcheck’ * using R version 4.4.2 (2024-10-31) * using platform: aarch64-unknown-linux-gnu * R was compiled by aarch64-unknown-linux-gnu-gcc (GCC) 14.2.0 GNU Fortran (GCC) 12.3.1 (openEuler 12.3.1-36.oe2403) * running under: openEuler 24.03 (LTS) * using session charset: UTF-8 * using option ‘--no-vignettes’ * checking for file ‘OmnipathR/DESCRIPTION’ ... OK * checking extension type ... Package * this is package ‘OmnipathR’ version ‘3.14.0’ * package encoding: UTF-8 * checking package namespace information ... OK * checking package dependencies ... OK * checking if this is a source package ... OK * checking if there is a namespace ... OK * checking for hidden files and directories ... OK * checking for portable file names ... OK * checking for sufficient/correct file permissions ... OK * checking whether package ‘OmnipathR’ can be installed ... OK * checking installed package size ... OK * checking package directory ... OK * checking DESCRIPTION meta-information ... OK * checking top-level files ... OK * checking for left-over files ... OK * checking index information ... OK * checking package subdirectories ... OK * checking code files for non-ASCII characters ... OK * checking R files for syntax errors ... OK * checking whether the package can be loaded ... OK * checking whether the package can be loaded with stated dependencies ... OK * checking whether the package can be unloaded cleanly ... OK * checking whether the namespace can be loaded with stated dependencies ... OK * checking whether the namespace can be unloaded cleanly ... OK * checking loading without being on the library search path ... OK * checking whether startup messages can be suppressed ... NOTE [2025-02-11 08:50:26] [TRACE] [OmnipathR] Reading JSON from `/home/biocbuild/.cache/OmnipathR/cache.json` (encoding: UTF-8). [2025-02-11 08:50:26] [TRACE] [OmnipathR] JSON validation successful: TRUE [2025-02-11 08:50:26] [INFO] [OmnipathR] Initialized cache: `/home/biocbuild/.cache/OmnipathR`. [2025-02-11 08:50:26] [TRACE] [OmnipathR] Running on a build server, wiping cache. [2025-02-11 08:50:26] [TRACE] [OmnipathR] Cache is at `/home/biocbuild/.cache/OmnipathR`. [2025-02-11 08:50:26] [TRACE] [OmnipathR] Contains 1 files. [2025-02-11 08:50:26] [TRACE] [OmnipathR] Cache is locked: FALSE. [2025-02-11 08:50:26] [TRACE] [OmnipathR] Reading JSON from `/home/biocbuild/.cache/OmnipathR/cache.json` (encoding: UTF-8). [2025-02-11 08:50:26] [TRACE] [OmnipathR] JSON validation successful: TRUE [2025-02-11 08:50:26] [SUCCESS] [OmnipathR] Removing all cache contents from `/home/biocbuild/.cache/OmnipathR`. [2025-02-11 08:50:26] [TRACE] [OmnipathR] Pandoc version: `2.12`. [2025-02-11 08:50:26] [TRACE] [OmnipathR] Reading JSON from `/home/biocbuild/R/R-4.4.2/site-library/OmnipathR/db/db_def.json` (encoding: UTF-8). [2025-02-11 08:50:26] [TRACE] [OmnipathR] JSON validation successful: TRUE [2025-02-11 08:50:26] [TRACE] [OmnipathR] Reading JSON from `/home/biocbuild/R/R-4.4.2/site-library/OmnipathR/internal/magic_bytes.json` (encoding: UTF-8). [2025-02-11 08:50:26] [TRACE] [OmnipathR] JSON validation successful: TRUE [2025-02-11 08:50:26] [TRACE] [OmnipathR] Reading JSON from `/home/biocbuild/R/R-4.4.2/site-library/OmnipathR/internal/urls.json` (encoding: UTF-8). [2025-02-11 08:50:26] [TRACE] [OmnipathR] JSON validation successful: TRUE [2025-02-11 08:50:26] [TRACE] [OmnipathR] Reading JSON from `/home/biocbuild/R/R-4.4.2/site-library/OmnipathR/internal/id_types.json` (encoding: UTF-8). [2025-02-11 08:50:26] [TRACE] [OmnipathR] JSON validation successful: TRUE [2025-02-11 08:50:26] [TRACE] [OmnipathR] Cache locked: FALSE It looks like this package (or a package it requires) has a startup message which cannot be suppressed: see ?packageStartupMessage. * checking dependencies in R code ... OK * checking S3 generic/method consistency ... OK * checking replacement functions ... OK * checking foreign function calls ... OK * checking R code for possible problems ... NOTE [2025-02-11 08:50:43] [TRACE] [OmnipathR] Reading JSON from `/home/biocbuild/.cache/OmnipathR/cache.json` (encoding: UTF-8). [2025-02-11 08:50:43] [TRACE] [OmnipathR] JSON validation successful: TRUE [2025-02-11 08:50:43] [INFO] [OmnipathR] Initialized cache: `/home/biocbuild/.cache/OmnipathR`. [2025-02-11 08:50:43] [TRACE] [OmnipathR] Running on a build server, wiping cache. [2025-02-11 08:50:43] [TRACE] [OmnipathR] Cache is at `/home/biocbuild/.cache/OmnipathR`. [2025-02-11 08:50:43] [TRACE] [OmnipathR] Contains 1 files. [2025-02-11 08:50:43] [TRACE] [OmnipathR] Cache is locked: FALSE. [2025-02-11 08:50:43] [TRACE] [OmnipathR] Reading JSON from `/home/biocbuild/.cache/OmnipathR/cache.json` (encoding: UTF-8). [2025-02-11 08:50:43] [TRACE] [OmnipathR] JSON validation successful: TRUE [2025-02-11 08:50:43] [SUCCESS] [OmnipathR] Removing all cache contents from `/home/biocbuild/.cache/OmnipathR`. [2025-02-11 08:50:43] [TRACE] [OmnipathR] Pandoc version: `2.12`. [2025-02-11 08:50:43] [TRACE] [OmnipathR] Reading JSON from `/home/biocbuild/R/R-4.4.2/site-library/OmnipathR/db/db_def.json` (encoding: UTF-8). [2025-02-11 08:50:43] [TRACE] [OmnipathR] JSON validation successful: TRUE [2025-02-11 08:50:43] [TRACE] [OmnipathR] Reading JSON from `/home/biocbuild/R/R-4.4.2/site-library/OmnipathR/internal/magic_bytes.json` (encoding: UTF-8). [2025-02-11 08:50:43] [TRACE] [OmnipathR] JSON validation successful: TRUE [2025-02-11 08:50:43] [TRACE] [OmnipathR] Reading JSON from `/home/biocbuild/R/R-4.4.2/site-library/OmnipathR/internal/urls.json` (encoding: UTF-8). [2025-02-11 08:50:43] [TRACE] [OmnipathR] JSON validation successful: TRUE [2025-02-11 08:50:43] [TRACE] [OmnipathR] Reading JSON from `/home/biocbuild/R/R-4.4.2/site-library/OmnipathR/internal/id_types.json` (encoding: UTF-8). [2025-02-11 08:50:43] [TRACE] [OmnipathR] JSON validation successful: TRUE [2025-02-11 08:50:43] [TRACE] [OmnipathR] Cache locked: FALSE * checking Rd files ... OK * checking Rd metadata ... OK * checking Rd cross-references ... OK * checking for missing documentation entries ... OK * checking for code/documentation mismatches ... OK * checking Rd \usage sections ... OK * checking Rd contents ... OK * checking for unstated dependencies in examples ... OK * checking R/sysdata.rda ... OK * checking files in ‘vignettes’ ... OK * checking examples ... OK Examples with CPU (user + system) or elapsed time > 5s user system elapsed annotation_categories 101.401 0.076 107.505 curated_ligrec_stats 34.409 2.711 153.739 omnipath-interactions 27.889 0.973 56.026 filter_extra_attrs 25.751 0.316 32.132 nichenet_gr_network_omnipath 14.044 0.828 16.404 extra_attr_values 14.027 0.284 25.883 extra_attrs_to_cols 13.499 0.145 31.671 go_annot_download 11.710 0.891 22.225 extra_attrs 8.265 3.276 29.066 giant_component 10.418 0.270 12.571 pivot_annotations 10.035 0.371 20.231 with_extra_attrs 9.940 0.078 11.560 nichenet_signaling_network_omnipath 9.816 0.139 11.509 omnipath_for_cosmos 9.268 0.147 52.977 has_extra_attrs 7.507 0.176 7.698 filter_by_resource 7.148 0.157 15.619 translate_ids_multi 7.037 0.017 20.767 find_all_paths 6.305 0.120 6.446 print_interactions 6.196 0.086 10.035 curated_ligand_receptor_interactions 5.579 0.642 23.545 static_table 5.762 0.149 11.128 filter_intercell 5.547 0.205 9.795 signed_ptms 5.445 0.123 6.527 enzsub_graph 2.683 0.125 8.311 hpo_download 2.153 0.428 49.510 print_path_vs 2.284 0.139 5.536 ensembl_id_mapping_table 1.353 0.175 54.772 translate_ids 1.307 0.021 19.980 all_uniprots 0.950 0.188 82.574 annotated_network 0.878 0.098 5.003 biomart_query 0.939 0.035 29.543 uniprot_full_id_mapping_table 0.928 0.016 24.316 * checking for unstated dependencies in ‘tests’ ... OK * checking tests ... Running ‘testthat.R’ OK * checking for unstated dependencies in vignettes ... OK * checking package vignettes ... OK * checking running R code from vignettes ... SKIPPED * checking re-building of vignette outputs ... SKIPPED * checking PDF version of manual ... OK * DONE Status: 2 NOTEs See ‘/home/biocbuild/bbs-3.20-bioc/meat/OmnipathR.Rcheck/00check.log’ for details.
OmnipathR.Rcheck/00install.out
############################################################################## ############################################################################## ### ### Running command: ### ### /home/biocbuild/R/R/bin/R CMD INSTALL OmnipathR ### ############################################################################## ############################################################################## * installing to library ‘/home/biocbuild/R/R-4.4.2/site-library’ * installing *source* package ‘OmnipathR’ ... ** using staged installation ** R ** inst ** byte-compile and prepare package for lazy loading ** help *** installing help indices *** copying figures ** building package indices ** installing vignettes ** testing if installed package can be loaded from temporary location [2025-02-10 20:45:16] [TRACE] [OmnipathR] Reading JSON from `/home/biocbuild/.cache/OmnipathR/cache.json` (encoding: UTF-8). [2025-02-10 20:45:16] [TRACE] [OmnipathR] JSON validation successful: TRUE [2025-02-10 20:45:16] [INFO] [OmnipathR] Initialized cache: `/home/biocbuild/.cache/OmnipathR`. [2025-02-10 20:45:16] [TRACE] [OmnipathR] Running on a build server, wiping cache. [2025-02-10 20:45:16] [TRACE] [OmnipathR] Cache is at `/home/biocbuild/.cache/OmnipathR`. [2025-02-10 20:45:16] [TRACE] [OmnipathR] Contains 6 files. [2025-02-10 20:45:16] [TRACE] [OmnipathR] Cache is locked: FALSE. [2025-02-10 20:45:17] [TRACE] [OmnipathR] Reading JSON from `/home/biocbuild/.cache/OmnipathR/cache.json` (encoding: UTF-8). [2025-02-10 20:45:17] [TRACE] [OmnipathR] JSON validation successful: TRUE [2025-02-10 20:45:17] [SUCCESS] [OmnipathR] Removing all cache contents from `/home/biocbuild/.cache/OmnipathR`. [2025-02-10 20:45:17] [TRACE] [OmnipathR] Pandoc version: `2.12`. [2025-02-10 20:45:17] [TRACE] [OmnipathR] Reading JSON from `/home/biocbuild/R/R-4.4.2/site-library/00LOCK-OmnipathR/00new/OmnipathR/db/db_def.json` (encoding: UTF-8). [2025-02-10 20:45:17] [TRACE] [OmnipathR] JSON validation successful: TRUE [2025-02-10 20:45:17] [TRACE] [OmnipathR] Reading JSON from `/home/biocbuild/R/R-4.4.2/site-library/00LOCK-OmnipathR/00new/OmnipathR/internal/magic_bytes.json` (encoding: UTF-8). [2025-02-10 20:45:17] [TRACE] [OmnipathR] JSON validation successful: TRUE [2025-02-10 20:45:17] [TRACE] [OmnipathR] Reading JSON from `/home/biocbuild/R/R-4.4.2/site-library/00LOCK-OmnipathR/00new/OmnipathR/internal/urls.json` (encoding: UTF-8). [2025-02-10 20:45:17] [TRACE] [OmnipathR] JSON validation successful: TRUE [2025-02-10 20:45:17] [TRACE] [OmnipathR] Reading JSON from `/home/biocbuild/R/R-4.4.2/site-library/00LOCK-OmnipathR/00new/OmnipathR/internal/id_types.json` (encoding: UTF-8). [2025-02-10 20:45:17] [TRACE] [OmnipathR] JSON validation successful: TRUE [2025-02-10 20:45:17] [TRACE] [OmnipathR] Cache locked: FALSE ** testing if installed package can be loaded from final location [2025-02-10 20:45:19] [TRACE] [OmnipathR] Reading JSON from `/home/biocbuild/.cache/OmnipathR/cache.json` (encoding: UTF-8). [2025-02-10 20:45:19] [TRACE] [OmnipathR] JSON validation successful: TRUE [2025-02-10 20:45:19] [INFO] [OmnipathR] Initialized cache: `/home/biocbuild/.cache/OmnipathR`. [2025-02-10 20:45:19] [TRACE] [OmnipathR] Running on a build server, wiping cache. [2025-02-10 20:45:19] [TRACE] [OmnipathR] Cache is at `/home/biocbuild/.cache/OmnipathR`. [2025-02-10 20:45:19] [TRACE] [OmnipathR] Contains 1 files. [2025-02-10 20:45:19] [TRACE] [OmnipathR] Cache is locked: FALSE. [2025-02-10 20:45:19] [TRACE] [OmnipathR] Reading JSON from `/home/biocbuild/.cache/OmnipathR/cache.json` (encoding: UTF-8). [2025-02-10 20:45:20] [TRACE] [OmnipathR] JSON validation successful: TRUE [2025-02-10 20:45:20] [SUCCESS] [OmnipathR] Removing all cache contents from `/home/biocbuild/.cache/OmnipathR`. [2025-02-10 20:45:20] [TRACE] [OmnipathR] Pandoc version: `2.12`. [2025-02-10 20:45:20] [TRACE] [OmnipathR] Reading JSON from `/home/biocbuild/R/R-4.4.2/site-library/OmnipathR/db/db_def.json` (encoding: UTF-8). [2025-02-10 20:45:20] [TRACE] [OmnipathR] JSON validation successful: TRUE [2025-02-10 20:45:20] [TRACE] [OmnipathR] Reading JSON from `/home/biocbuild/R/R-4.4.2/site-library/OmnipathR/internal/magic_bytes.json` (encoding: UTF-8). [2025-02-10 20:45:20] [TRACE] [OmnipathR] JSON validation successful: TRUE [2025-02-10 20:45:20] [TRACE] [OmnipathR] Reading JSON from `/home/biocbuild/R/R-4.4.2/site-library/OmnipathR/internal/urls.json` (encoding: UTF-8). [2025-02-10 20:45:20] [TRACE] [OmnipathR] JSON validation successful: TRUE [2025-02-10 20:45:20] [TRACE] [OmnipathR] Reading JSON from `/home/biocbuild/R/R-4.4.2/site-library/OmnipathR/internal/id_types.json` (encoding: UTF-8). [2025-02-10 20:45:20] [TRACE] [OmnipathR] JSON validation successful: TRUE [2025-02-10 20:45:20] [TRACE] [OmnipathR] Cache locked: FALSE ** testing if installed package keeps a record of temporary installation path * DONE (OmnipathR)
OmnipathR.Rcheck/tests/testthat.Rout
R version 4.4.2 (2024-10-31) -- "Pile of Leaves" Copyright (C) 2024 The R Foundation for Statistical Computing Platform: aarch64-unknown-linux-gnu R is free software and comes with ABSOLUTELY NO WARRANTY. You are welcome to redistribute it under certain conditions. Type 'license()' or 'licence()' for distribution details. R is a collaborative project with many contributors. Type 'contributors()' for more information and 'citation()' on how to cite R or R packages in publications. Type 'demo()' for some demos, 'help()' for on-line help, or 'help.start()' for an HTML browser interface to help. Type 'q()' to quit R. > #!/usr/bin/env Rscript > > # > # This file is part of the `OmnipathR` R package > # > # Copyright > # 2018-2024 > # Saez Lab, Uniklinik RWTH Aachen, Heidelberg University > # > # File author(s): Alberto Valdeolivas > # Dénes Türei (turei.denes@gmail.com) > # Attila Gábor > # > # Distributed under the MIT (Expat) License. > # See accompanying file `LICENSE` or find a copy at > # https://directory.fsf.org/wiki/License:Expat > # > # Website: https://r.omnipathdb.org/ > # Git repo: https://github.com/saezlab/OmnipathR > # > > > library(testthat) > library(OmnipathR) [2025-02-11 09:08:49] [TRACE] [OmnipathR] Reading JSON from `/home/biocbuild/.cache/OmnipathR/cache.json` (encoding: UTF-8). [2025-02-11 09:08:49] [TRACE] [OmnipathR] JSON validation successful: TRUE [2025-02-11 09:08:49] [INFO] [OmnipathR] Initialized cache: `/home/biocbuild/.cache/OmnipathR`. [2025-02-11 09:08:49] [TRACE] [OmnipathR] Running on a build server, wiping cache. [2025-02-11 09:08:49] [TRACE] [OmnipathR] Cache is at `/home/biocbuild/.cache/OmnipathR`. [2025-02-11 09:08:49] [TRACE] [OmnipathR] Contains 21 files. [2025-02-11 09:08:49] [TRACE] [OmnipathR] Cache is locked: FALSE. [2025-02-11 09:08:49] [TRACE] [OmnipathR] Reading JSON from `/home/biocbuild/.cache/OmnipathR/cache.json` (encoding: UTF-8). [2025-02-11 09:08:49] [TRACE] [OmnipathR] JSON validation successful: TRUE [2025-02-11 09:08:49] [SUCCESS] [OmnipathR] Removing all cache contents from `/home/biocbuild/.cache/OmnipathR`. [2025-02-11 09:08:49] [TRACE] [OmnipathR] Pandoc version: `2.12`. [2025-02-11 09:08:49] [TRACE] [OmnipathR] Reading JSON from `/home/biocbuild/R/R-4.4.2/site-library/OmnipathR/db/db_def.json` (encoding: UTF-8). [2025-02-11 09:08:49] [TRACE] [OmnipathR] JSON validation successful: TRUE [2025-02-11 09:08:49] [TRACE] [OmnipathR] Reading JSON from `/home/biocbuild/R/R-4.4.2/site-library/OmnipathR/internal/magic_bytes.json` (encoding: UTF-8). [2025-02-11 09:08:49] [TRACE] [OmnipathR] JSON validation successful: TRUE [2025-02-11 09:08:49] [TRACE] [OmnipathR] Reading JSON from `/home/biocbuild/R/R-4.4.2/site-library/OmnipathR/internal/urls.json` (encoding: UTF-8). [2025-02-11 09:08:49] [TRACE] [OmnipathR] JSON validation successful: TRUE [2025-02-11 09:08:49] [TRACE] [OmnipathR] Reading JSON from `/home/biocbuild/R/R-4.4.2/site-library/OmnipathR/internal/id_types.json` (encoding: UTF-8). [2025-02-11 09:08:49] [TRACE] [OmnipathR] JSON validation successful: TRUE [2025-02-11 09:08:49] [TRACE] [OmnipathR] Cache locked: FALSE > > test_check('OmnipathR') [ FAIL 0 | WARN 0 | SKIP 0 | PASS 34 ] > > proc.time() user system elapsed 12.526 1.468 52.978
OmnipathR.Rcheck/OmnipathR-Ex.timings
name | user | system | elapsed | |
OmnipathR | 0 | 0 | 0 | |
all_uniprot_acs | 0.027 | 0.000 | 0.027 | |
all_uniprots | 0.950 | 0.188 | 82.574 | |
ancestors | 0.012 | 0.000 | 0.024 | |
annotated_network | 0.878 | 0.098 | 5.003 | |
annotation_categories | 101.401 | 0.076 | 107.505 | |
annotation_resources | 0.093 | 0.008 | 1.131 | |
annotations | 0.334 | 0.028 | 1.997 | |
biomart_query | 0.939 | 0.035 | 29.543 | |
bioplex1 | 0.013 | 0.000 | 0.013 | |
bioplex2 | 0.009 | 0.004 | 0.013 | |
bioplex3 | 0.049 | 0.016 | 0.065 | |
bioplex_all | 0.013 | 0.000 | 0.013 | |
bioplex_hct116_1 | 0.013 | 0.000 | 0.013 | |
bma_motif_es | 0.406 | 0.052 | 2.088 | |
bma_motif_vs | 0.224 | 0.008 | 1.139 | |
chalmers_gem | 0.011 | 0.000 | 0.012 | |
chalmers_gem_id_mapping_table | 0.012 | 0.000 | 0.012 | |
chalmers_gem_id_type | 0.002 | 0.000 | 0.003 | |
chalmers_gem_metabolites | 0.012 | 0.000 | 0.012 | |
chalmers_gem_network | 0.012 | 0.000 | 0.012 | |
chalmers_gem_raw | 0.012 | 0.000 | 0.011 | |
chalmers_gem_reactions | 0.012 | 0.000 | 0.012 | |
common_name | 0.035 | 0.000 | 0.036 | |
complex_genes | 0.530 | 0.079 | 2.911 | |
complex_resources | 0.086 | 0.000 | 1.074 | |
complexes | 0.215 | 0.032 | 1.372 | |
consensuspathdb_download | 0 | 0 | 0 | |
consensuspathdb_raw_table | 0.013 | 0.000 | 0.030 | |
cosmos_pkn | 0 | 0 | 0 | |
curated_ligand_receptor_interactions | 5.579 | 0.642 | 23.545 | |
curated_ligrec_stats | 34.409 | 2.711 | 153.739 | |
database_summary | 1.693 | 0.052 | 3.948 | |
descendants | 0.013 | 0.000 | 0.014 | |
ensembl_dataset | 0.011 | 0.004 | 0.014 | |
ensembl_id_mapping_table | 1.353 | 0.175 | 54.772 | |
ensembl_id_type | 0.002 | 0.000 | 0.008 | |
ensembl_name | 0.073 | 0.008 | 0.156 | |
ensembl_organisms | 0.207 | 0.000 | 0.416 | |
ensembl_organisms_raw | 0.159 | 0.008 | 0.335 | |
ensembl_orthology | 0.000 | 0.000 | 0.001 | |
enzsub_graph | 2.683 | 0.125 | 8.311 | |
enzsub_resources | 0.115 | 0.008 | 1.059 | |
enzyme_substrate | 1.530 | 0.052 | 4.508 | |
evex_download | 0.013 | 0.000 | 0.026 | |
evidences | 0 | 0 | 0 | |
extra_attr_values | 14.027 | 0.284 | 25.883 | |
extra_attrs | 8.265 | 3.276 | 29.066 | |
extra_attrs_to_cols | 13.499 | 0.145 | 31.671 | |
filter_by_resource | 7.148 | 0.157 | 15.619 | |
filter_extra_attrs | 25.751 | 0.316 | 32.132 | |
filter_intercell | 5.547 | 0.205 | 9.795 | |
filter_intercell_network | 0.023 | 0.000 | 0.023 | |
find_all_paths | 6.305 | 0.120 | 6.446 | |
from_evidences | 0 | 0 | 0 | |
get_db | 0 | 0 | 0 | |
get_ontology_db | 0.011 | 0.000 | 0.012 | |
giant_component | 10.418 | 0.270 | 12.571 | |
go_annot_download | 11.710 | 0.891 | 22.225 | |
go_annot_slim | 0 | 0 | 0 | |
go_ontology_download | 0.012 | 0.000 | 0.012 | |
guide2pharma_download | 0.004 | 0.008 | 0.012 | |
harmonizome_download | 0.012 | 0.000 | 0.011 | |
has_extra_attrs | 7.507 | 0.176 | 7.698 | |
hmdb_id_mapping_table | 0.011 | 0.000 | 0.011 | |
hmdb_id_type | 0.003 | 0.000 | 0.002 | |
hmdb_metabolite_fields | 0 | 0 | 0 | |
hmdb_protein_fields | 0.000 | 0.001 | 0.000 | |
hmdb_table | 0.009 | 0.002 | 0.012 | |
homologene_download | 0.012 | 0.000 | 0.011 | |
homologene_raw | 0.021 | 0.004 | 0.025 | |
homologene_uniprot_orthology | 0.012 | 0.000 | 0.011 | |
hpo_download | 2.153 | 0.428 | 49.510 | |
htridb_download | 0.013 | 0.000 | 0.012 | |
id_translation_resources | 0 | 0 | 0 | |
id_types | 0.046 | 0.004 | 0.051 | |
inbiomap_download | 0 | 0 | 0 | |
inbiomap_raw | 0 | 0 | 0 | |
interaction_datasets | 0.417 | 0.079 | 1.069 | |
interaction_graph | 0.382 | 0.103 | 1.394 | |
interaction_resources | 0.159 | 0.039 | 1.101 | |
interaction_types | 0.045 | 0.016 | 0.061 | |
intercell | 0.485 | 0.055 | 1.346 | |
intercell_categories | 0.430 | 0.024 | 0.933 | |
intercell_consensus_filter | 1.213 | 0.217 | 2.795 | |
intercell_generic_categories | 0.056 | 0.023 | 0.080 | |
intercell_network | 0.009 | 0.008 | 0.017 | |
intercell_resources | 0.096 | 0.024 | 1.024 | |
intercell_summary | 0.050 | 0.016 | 0.066 | |
is_ontology_id | 0 | 0 | 0 | |
is_swissprot | 0.032 | 0.008 | 0.040 | |
is_trembl | 0.026 | 0.012 | 0.039 | |
is_uniprot | 0.016 | 0.000 | 0.016 | |
kegg_info | 0.013 | 0.000 | 0.013 | |
kegg_open | 0.014 | 0.000 | 0.013 | |
kegg_pathway_annotations | 0 | 0 | 0 | |
kegg_pathway_download | 0.006 | 0.008 | 0.013 | |
kegg_pathway_list | 0.013 | 0.000 | 0.013 | |
kegg_pathways_download | 0.001 | 0.000 | 0.000 | |
kegg_picture | 0.118 | 0.032 | 1.070 | |
kegg_process | 0.028 | 0.000 | 0.028 | |
latin_name | 0.084 | 0.027 | 0.113 | |
load_db | 0.109 | 0.019 | 0.129 | |
ncbi_taxid | 0.072 | 0.004 | 0.076 | |
nichenet_build_model | 0 | 0 | 0 | |
nichenet_expression_data | 0.008 | 0.004 | 0.013 | |
nichenet_gr_network | 0.026 | 0.012 | 0.038 | |
nichenet_gr_network_evex | 0.013 | 0.000 | 0.014 | |
nichenet_gr_network_harmonizome | 0.011 | 0.004 | 0.015 | |
nichenet_gr_network_htridb | 0.009 | 0.004 | 0.013 | |
nichenet_gr_network_omnipath | 14.044 | 0.828 | 16.404 | |
nichenet_gr_network_pathwaycommons | 0.010 | 0.000 | 0.011 | |
nichenet_gr_network_regnetwork | 0.011 | 0.000 | 0.010 | |
nichenet_gr_network_remap | 0.01 | 0.00 | 0.01 | |
nichenet_gr_network_trrust | 0.009 | 0.000 | 0.009 | |
nichenet_ligand_activities | 0 | 0 | 0 | |
nichenet_ligand_target_links | 0 | 0 | 0 | |
nichenet_ligand_target_matrix | 0 | 0 | 0 | |
nichenet_lr_network | 0.025 | 0.004 | 0.030 | |
nichenet_lr_network_guide2pharma | 0.011 | 0.000 | 0.011 | |
nichenet_lr_network_omnipath | 0.03 | 0.00 | 0.03 | |
nichenet_lr_network_ramilowski | 0.010 | 0.000 | 0.009 | |
nichenet_main | 0 | 0 | 0 | |
nichenet_networks | 0.048 | 0.000 | 0.047 | |
nichenet_optimization | 0 | 0 | 0 | |
nichenet_remove_orphan_ligands | 0.029 | 0.000 | 0.029 | |
nichenet_results_dir | 0 | 0 | 0 | |
nichenet_signaling_network | 0.031 | 0.000 | 0.030 | |
nichenet_signaling_network_cpdb | 0.01 | 0.00 | 0.01 | |
nichenet_signaling_network_evex | 0.01 | 0.00 | 0.01 | |
nichenet_signaling_network_harmonizome | 0.01 | 0.00 | 0.01 | |
nichenet_signaling_network_inbiomap | 0 | 0 | 0 | |
nichenet_signaling_network_omnipath | 9.816 | 0.139 | 11.509 | |
nichenet_signaling_network_pathwaycommons | 0.012 | 0.000 | 0.012 | |
nichenet_signaling_network_vinayagam | 0.01 | 0.00 | 0.01 | |
nichenet_test | 0 | 0 | 0 | |
nichenet_workarounds | 0.001 | 0.000 | 0.000 | |
obo_parser | 0.104 | 0.004 | 0.870 | |
oma_code | 0.032 | 0.004 | 0.036 | |
oma_organisms | 0.058 | 0.000 | 0.060 | |
oma_pairwise | 0.007 | 0.004 | 0.011 | |
oma_pairwise_genesymbols | 0.011 | 0.000 | 0.011 | |
oma_pairwise_translated | 0.010 | 0.000 | 0.011 | |
omnipath-interactions | 27.889 | 0.973 | 56.026 | |
omnipath_cache_autoclean | 0 | 0 | 0 | |
omnipath_cache_clean | 0.006 | 0.004 | 0.009 | |
omnipath_cache_clean_db | 0.109 | 0.000 | 0.110 | |
omnipath_cache_download_ready | 0.532 | 0.067 | 0.619 | |
omnipath_cache_filter_versions | 0.124 | 0.008 | 0.138 | |
omnipath_cache_get | 0.107 | 0.004 | 0.112 | |
omnipath_cache_key | 0.002 | 0.000 | 0.001 | |
omnipath_cache_latest_or_new | 0.080 | 0.000 | 0.082 | |
omnipath_cache_load | 0.571 | 0.019 | 2.970 | |
omnipath_cache_move_in | 0.178 | 0.005 | 0.196 | |
omnipath_cache_remove | 0.118 | 0.004 | 0.128 | |
omnipath_cache_save | 0.194 | 0.008 | 0.313 | |
omnipath_cache_search | 0 | 0 | 0 | |
omnipath_cache_set_ext | 0.092 | 0.004 | 0.102 | |
omnipath_cache_update_status | 0.108 | 0.004 | 0.113 | |
omnipath_cache_wipe | 0 | 0 | 0 | |
omnipath_config_path | 0.001 | 0.000 | 0.003 | |
omnipath_for_cosmos | 9.268 | 0.147 | 52.977 | |
omnipath_load_config | 0 | 0 | 0 | |
omnipath_log | 0 | 0 | 0 | |
omnipath_logfile | 0.002 | 0.000 | 0.002 | |
omnipath_msg | 0.006 | 0.000 | 0.007 | |
omnipath_query | 4.498 | 0.037 | 4.548 | |
omnipath_reset_config | 0.000 | 0.000 | 0.001 | |
omnipath_save_config | 0 | 0 | 0 | |
omnipath_set_cachedir | 0.033 | 0.000 | 0.033 | |
omnipath_set_console_loglevel | 0.001 | 0.004 | 0.004 | |
omnipath_set_logfile_loglevel | 0.004 | 0.000 | 0.004 | |
omnipath_set_loglevel | 0.002 | 0.000 | 0.002 | |
omnipath_show_db | 0.067 | 0.000 | 0.067 | |
omnipath_unlock_cache_db | 0.001 | 0.000 | 0.001 | |
only_from | 0 | 0 | 0 | |
ontology_ensure_id | 0 | 0 | 0 | |
ontology_ensure_name | 0 | 0 | 0 | |
ontology_name_id | 0.001 | 0.000 | 0.001 | |
organism_for | 0.052 | 0.000 | 0.052 | |
pathwaycommons_download | 0.001 | 0.000 | 0.001 | |
pivot_annotations | 10.035 | 0.371 | 20.231 | |
preppi_download | 0.001 | 0.000 | 0.001 | |
preppi_filter | 0.001 | 0.000 | 0.001 | |
print_bma_motif_es | 0.236 | 0.011 | 1.628 | |
print_bma_motif_vs | 0.145 | 0.001 | 1.044 | |
print_interactions | 6.196 | 0.086 | 10.035 | |
print_path_es | 0.506 | 0.012 | 2.396 | |
print_path_vs | 2.284 | 0.139 | 5.536 | |
pubmed_open | 4.586 | 0.150 | 4.750 | |
query_info | 0.114 | 0.004 | 0.692 | |
ramilowski_download | 0.001 | 0.000 | 0.001 | |
ramp_id_mapping_table | 0.001 | 0.000 | 0.000 | |
ramp_id_type | 0.002 | 0.000 | 0.003 | |
ramp_sqlite | 0.001 | 0.000 | 0.001 | |
ramp_table | 0.001 | 0.000 | 0.000 | |
ramp_tables | 0.001 | 0.000 | 0.000 | |
regnetwork_directions | 0.001 | 0.000 | 0.000 | |
regnetwork_download | 0.001 | 0.000 | 0.000 | |
relations_list_to_table | 0.104 | 0.001 | 0.801 | |
relations_table_to_graph | 0 | 0 | 0 | |
relations_table_to_list | 0.078 | 0.000 | 0.338 | |
remap_dorothea_download | 0.001 | 0.000 | 0.001 | |
remap_filtered | 0.000 | 0.000 | 0.001 | |
remap_tf_target_download | 0 | 0 | 0 | |
resource_info | 0.157 | 0.011 | 1.079 | |
resources | 0.074 | 0.001 | 0.977 | |
resources_colname | 0.564 | 0.027 | 2.045 | |
resources_in | 4.082 | 0.024 | 4.118 | |
show_network | 0.000 | 0.000 | 0.001 | |
signed_ptms | 5.445 | 0.123 | 6.527 | |
simplify_intercell_network | 0.001 | 0.000 | 0.002 | |
static_table | 5.762 | 0.149 | 11.128 | |
static_tables | 0.141 | 0.001 | 0.307 | |
stitch_actions | 0.000 | 0.000 | 0.001 | |
stitch_links | 0.000 | 0.000 | 0.001 | |
stitch_network | 0.000 | 0.001 | 0.001 | |
stitch_remove_prefixes | 0.007 | 0.002 | 0.008 | |
swap_relations | 0.088 | 0.000 | 0.338 | |
swissprots_only | 0.038 | 0.000 | 0.039 | |
tfcensus_download | 0.186 | 0.003 | 0.203 | |
translate_ids | 1.307 | 0.021 | 19.980 | |
translate_ids_multi | 7.037 | 0.017 | 20.767 | |
trembls_only | 0.035 | 0.000 | 0.037 | |
trrust_download | 0.001 | 0.000 | 0.001 | |
uniprot_full_id_mapping_table | 0.928 | 0.016 | 24.316 | |
uniprot_genesymbol_cleanup | 0.000 | 0.000 | 0.001 | |
uniprot_id_mapping_table | 0.001 | 0.000 | 0.001 | |
uniprot_id_type | 0.003 | 0.000 | 0.003 | |
uniprot_idmapping_id_types | 0.175 | 0.012 | 1.114 | |
unique_intercell_network | 0.001 | 0.000 | 0.001 | |
unnest_evidences | 0 | 0 | 0 | |
uploadlists_id_type | 0.002 | 0.000 | 0.002 | |
vinayagam_download | 0.000 | 0.000 | 0.001 | |
walk_ontology_tree | 0.001 | 0.000 | 0.001 | |
with_extra_attrs | 9.940 | 0.078 | 11.560 | |
with_references | 0.470 | 0.011 | 2.189 | |
zenodo_download | 0.001 | 0.000 | 0.001 | |