Back to Multiple platform build/check report for BioC 3.20:   simplified   long
ABCDEFGHIJKLMNOPQR[S]TUVWXYZ

This page was generated on 2025-02-06 12:10 -0500 (Thu, 06 Feb 2025).

HostnameOSArch (*)R versionInstalled pkgs
nebbiolo2Linux (Ubuntu 24.04.1 LTS)x86_644.4.2 (2024-10-31) -- "Pile of Leaves" 4753
palomino8Windows Server 2022 Datacenterx644.4.2 (2024-10-31 ucrt) -- "Pile of Leaves" 4501
merida1macOS 12.7.5 Montereyx86_644.4.2 (2024-10-31) -- "Pile of Leaves" 4524
kjohnson1macOS 13.6.6 Venturaarm644.4.2 (2024-10-31) -- "Pile of Leaves" 4476
taishanLinux (openEuler 24.03 LTS)aarch644.4.2 (2024-10-31) -- "Pile of Leaves" 4407
Click on any hostname to see more info about the system (e.g. compilers)      (*) as reported by 'uname -p', except on Windows and Mac OS X

Package 1934/2289HostnameOS / ArchINSTALLBUILDCHECKBUILD BIN
seqsetvis 1.26.0  (landing page)
Joseph R Boyd
Snapshot Date: 2025-02-03 13:00 -0500 (Mon, 03 Feb 2025)
git_url: https://git.bioconductor.org/packages/seqsetvis
git_branch: RELEASE_3_20
git_last_commit: 31e216f
git_last_commit_date: 2024-10-29 10:27:03 -0500 (Tue, 29 Oct 2024)
nebbiolo2Linux (Ubuntu 24.04.1 LTS) / x86_64  OK    OK    OK  UNNEEDED, same version is already published
palomino8Windows Server 2022 Datacenter / x64  OK    OK    OK    OK  UNNEEDED, same version is already published
merida1macOS 12.7.5 Monterey / x86_64  OK    OK    OK    NA  
kjohnson1macOS 13.6.6 Ventura / arm64  OK    OK    OK    OK  UNNEEDED, same version is already published
taishanLinux (openEuler 24.03 LTS) / aarch64  OK    OK    OK  


CHECK results for seqsetvis on kjohnson1

To the developers/maintainers of the seqsetvis package:
- Allow up to 24 hours (and sometimes 48 hours) for your latest push to git@git.bioconductor.org:packages/seqsetvis.git to reflect on this report. See Troubleshooting Build Report for more information.
- Use the following Renviron settings to reproduce errors and warnings.
- If 'R CMD check' started to fail recently on the Linux builder(s) over a missing dependency, add the missing dependency to 'Suggests:' in your DESCRIPTION file. See Renviron.bioc for more information.

raw results


Summary

Package: seqsetvis
Version: 1.26.0
Command: /Library/Frameworks/R.framework/Resources/bin/R CMD check --install=check:seqsetvis.install-out.txt --library=/Library/Frameworks/R.framework/Resources/library --no-vignettes --timings seqsetvis_1.26.0.tar.gz
StartedAt: 2025-02-05 10:00:24 -0500 (Wed, 05 Feb 2025)
EndedAt: 2025-02-05 10:11:03 -0500 (Wed, 05 Feb 2025)
EllapsedTime: 639.1 seconds
RetCode: 0
Status:   OK  
CheckDir: seqsetvis.Rcheck
Warnings: 0

Command output

##############################################################################
##############################################################################
###
### Running command:
###
###   /Library/Frameworks/R.framework/Resources/bin/R CMD check --install=check:seqsetvis.install-out.txt --library=/Library/Frameworks/R.framework/Resources/library --no-vignettes --timings seqsetvis_1.26.0.tar.gz
###
##############################################################################
##############################################################################


* using log directory ‘/Users/biocbuild/bbs-3.20-bioc/meat/seqsetvis.Rcheck’
* using R version 4.4.2 (2024-10-31)
* using platform: aarch64-apple-darwin20
* R was compiled by
    Apple clang version 14.0.0 (clang-1400.0.29.202)
    GNU Fortran (GCC) 12.2.0
* running under: macOS Ventura 13.7.1
* using session charset: UTF-8
* using option ‘--no-vignettes’
* checking for file ‘seqsetvis/DESCRIPTION’ ... OK
* checking extension type ... Package
* this is package ‘seqsetvis’ version ‘1.26.0’
* package encoding: UTF-8
* checking package namespace information ... OK
* checking package dependencies ... OK
* checking if this is a source package ... OK
* checking if there is a namespace ... OK
* checking for hidden files and directories ... OK
* checking for portable file names ... OK
* checking for sufficient/correct file permissions ... OK
* checking whether package ‘seqsetvis’ can be installed ... OK
* checking installed package size ... OK
* checking package directory ... OK
* checking ‘build’ directory ... OK
* checking DESCRIPTION meta-information ... OK
* checking top-level files ... OK
* checking for left-over files ... OK
* checking index information ... OK
* checking package subdirectories ... OK
* checking code files for non-ASCII characters ... OK
* checking R files for syntax errors ... OK
* checking whether the package can be loaded ... OK
* checking whether the package can be loaded with stated dependencies ... OK
* checking whether the package can be unloaded cleanly ... OK
* checking whether the namespace can be loaded with stated dependencies ... OK
* checking whether the namespace can be unloaded cleanly ... OK
* checking dependencies in R code ... OK
* checking S3 generic/method consistency ... OK
* checking replacement functions ... OK
* checking foreign function calls ... OK
* checking R code for possible problems ... OK
* checking Rd files ... OK
* checking Rd metadata ... OK
* checking Rd cross-references ... OK
* checking for missing documentation entries ... OK
* checking for code/documentation mismatches ... OK
* checking Rd \usage sections ... OK
* checking Rd contents ... OK
* checking for unstated dependencies in examples ... OK
* checking contents of ‘data’ directory ... OK
* checking data for non-ASCII characters ... OK
* checking data for ASCII and uncompressed saves ... OK
* checking files in ‘vignettes’ ... OK
* checking examples ... OK
Examples with CPU (user + system) or elapsed time > 5s
                          user system elapsed
ssvFeatureBinaryHeatmap  7.589  0.688   8.503
ssvFetchBam              6.769  0.304   6.326
ssvSignalBandedQuantiles 5.413  0.203   4.573
ssvSignalHeatmap         5.132  0.246   3.776
* checking for unstated dependencies in ‘tests’ ... OK
* checking tests ...
  Running ‘testthat.R’
 OK
* checking for unstated dependencies in vignettes ... OK
* checking package vignettes ... OK
* checking running R code from vignettes ... SKIPPED
* checking re-building of vignette outputs ... SKIPPED
* checking PDF version of manual ... OK
* DONE

Status: OK


Installation output

seqsetvis.Rcheck/00install.out

##############################################################################
##############################################################################
###
### Running command:
###
###   /Library/Frameworks/R.framework/Resources/bin/R CMD INSTALL seqsetvis
###
##############################################################################
##############################################################################


* installing to library ‘/Library/Frameworks/R.framework/Versions/4.4-arm64/Resources/library’
* installing *source* package ‘seqsetvis’ ...
** using staged installation
** R
** data
** inst
** byte-compile and prepare package for lazy loading
** help
*** installing help indices
** building package indices
** installing vignettes
** testing if installed package can be loaded from temporary location
** testing if installed package can be loaded from final location
** testing if installed package keeps a record of temporary installation path
* DONE (seqsetvis)

Tests output

seqsetvis.Rcheck/tests/testthat.Rout


R version 4.4.2 (2024-10-31) -- "Pile of Leaves"
Copyright (C) 2024 The R Foundation for Statistical Computing
Platform: aarch64-apple-darwin20

R is free software and comes with ABSOLUTELY NO WARRANTY.
You are welcome to redistribute it under certain conditions.
Type 'license()' or 'licence()' for distribution details.

R is a collaborative project with many contributors.
Type 'contributors()' for more information and
'citation()' on how to cite R or R packages in publications.

Type 'demo()' for some demos, 'help()' for on-line help, or
'help.start()' for an HTML browser interface to help.
Type 'q()' to quit R.

> 
> ## load dependencies
> library(testthat)
> library(seqsetvis)
Loading required package: ggplot2
> library(data.table)
> 
> ## test package
> test_check(package = "seqsetvis")
[ FAIL 0 | WARN 0 | SKIP 0 | PASS 1284 ]
> 
> proc.time()
   user  system elapsed 
302.680   9.705 279.527 

Example timings

seqsetvis.Rcheck/seqsetvis-Ex.timings

nameusersystemelapsed
add_cluster_annotation3.4570.1783.366
append_ynorm0.0940.0090.067
applyMovingAverage0.8670.0330.706
applySpline0.6120.0540.368
assemble_heatmap_cluster_bars1.0030.0550.742
calc_norm_factors0.0390.0050.032
centerAtMax0.5220.0400.308
centerFixedSizeGRanges0.2970.0240.180
centerGRangesAtMax0.6500.0430.410
clusteringKmeans0.0690.0080.042
clusteringKmeansNestedHclust0.0780.0100.050
col2hex0.0020.0010.001
collapse_gr0.8710.0260.755
convert_collapsed_coord0.2110.0090.220
copy_clust_info2.6900.1311.692
crossCorrByRle0.3310.0090.342
easyLoad_FUN0.0550.0010.057
easyLoad_IDRmerged0.0440.0020.048
easyLoad_bed0.1220.0010.124
easyLoad_broadPeak0.0380.0010.040
easyLoad_narrowPeak0.0390.0020.041
easyLoad_seacr0.0440.0020.046
expandCigar0.2070.0160.184
findMaxPos0.0790.0130.052
fragLen_calcStranded1.6900.0471.610
fragLen_fromMacs2Xls0.0060.0010.003
getReadLength0.0710.0060.061
get_mapped_reads0.0090.0000.009
ggellipse0.5520.0100.566
harmonize_seqlengths0.1360.0080.144
make_clustering_matrix0.1210.0070.085
merge_clusters3.9270.1143.425
prepare_fetch_GRanges0.0280.0030.031
prepare_fetch_GRanges_names0.0790.0040.083
prepare_fetch_GRanges_width0.0290.0030.031
quantileGRangesWidth0.0030.0020.005
reorder_clusters_hclust2.1540.0731.916
reorder_clusters_manual1.1270.0271.033
reorder_clusters_stepdown2.1020.0521.866
reverse_clusters3.5270.0663.178
safeBrew0.0260.0030.029
split_cluster2.0590.0591.753
ssvAnnotateSubjectGRanges0.9710.0271.004
ssvConsensusIntervalSets0.3520.0100.363
ssvFactorizeMembTable0.0150.0040.019
ssvFeatureBars0.5430.0070.553
ssvFeatureBinaryHeatmap7.5890.6888.503
ssvFeatureEuler0.5410.0240.587
ssvFeaturePie0.4650.0110.513
ssvFeatureUpset2.4680.0382.535
ssvFeatureVenn0.8860.0130.909
ssvFetchBam6.7690.3046.326
ssvFetchBamPE2.0240.1542.190
ssvFetchBamPE.RNA1.9860.1021.558
ssvFetchBigwig1.5770.0391.463
ssvFetchGRanges0.7260.0090.745
ssvFetchSignal1.3880.0471.451
ssvMakeMembTable-methods0.4290.0100.446
ssvOverlapIntervalSets0.1990.0080.217
ssvSignalBandedQuantiles5.4130.2034.573
ssvSignalClustering3.6420.1802.755
ssvSignalHeatmap.ClusterBars4.0970.1583.134
ssvSignalHeatmap5.1320.2463.776
ssvSignalLineplot2.2900.0362.190
ssvSignalLineplotAgg1.1180.0500.777
ssvSignalScatterplot1.3370.0670.864
viewGRangesWinSample_dt1.3530.0541.257
viewGRangesWinSummary_dt1.3740.0671.181
within_clust_sort1.7540.0691.453