Back to Multiple platform build/check report for BioC 3.20: simplified long |
|
This page was generated on 2025-02-06 12:12 -0500 (Thu, 06 Feb 2025).
Hostname | OS | Arch (*) | R version | Installed pkgs |
---|---|---|---|---|
nebbiolo2 | Linux (Ubuntu 24.04.1 LTS) | x86_64 | 4.4.2 (2024-10-31) -- "Pile of Leaves" | 4753 |
palomino8 | Windows Server 2022 Datacenter | x64 | 4.4.2 (2024-10-31 ucrt) -- "Pile of Leaves" | 4501 |
merida1 | macOS 12.7.5 Monterey | x86_64 | 4.4.2 (2024-10-31) -- "Pile of Leaves" | 4524 |
kjohnson1 | macOS 13.6.6 Ventura | arm64 | 4.4.2 (2024-10-31) -- "Pile of Leaves" | 4476 |
taishan | Linux (openEuler 24.03 LTS) | aarch64 | 4.4.2 (2024-10-31) -- "Pile of Leaves" | 4407 |
Click on any hostname to see more info about the system (e.g. compilers) (*) as reported by 'uname -p', except on Windows and Mac OS X |
Package 1934/2289 | Hostname | OS / Arch | INSTALL | BUILD | CHECK | BUILD BIN | ||||||||
seqsetvis 1.26.0 (landing page) Joseph R Boyd
| nebbiolo2 | Linux (Ubuntu 24.04.1 LTS) / x86_64 | OK | OK | OK | |||||||||
palomino8 | Windows Server 2022 Datacenter / x64 | OK | OK | OK | OK | |||||||||
merida1 | macOS 12.7.5 Monterey / x86_64 | OK | OK | OK | NA | |||||||||
kjohnson1 | macOS 13.6.6 Ventura / arm64 | OK | OK | OK | OK | |||||||||
taishan | Linux (openEuler 24.03 LTS) / aarch64 | OK | OK | OK | ||||||||||
To the developers/maintainers of the seqsetvis package: - Allow up to 24 hours (and sometimes 48 hours) for your latest push to git@git.bioconductor.org:packages/seqsetvis.git to reflect on this report. See Troubleshooting Build Report for more information. - Use the following Renviron settings to reproduce errors and warnings. - If 'R CMD check' started to fail recently on the Linux builder(s) over a missing dependency, add the missing dependency to 'Suggests:' in your DESCRIPTION file. See Renviron.bioc for more information. - See Martin Grigorov's blog post for how to debug Linux ARM64 related issues on a x86_64 host. |
Package: seqsetvis |
Version: 1.26.0 |
Command: /home/biocbuild/R/R/bin/R CMD check --install=check:seqsetvis.install-out.txt --library=/home/biocbuild/R/R/site-library --no-vignettes --timings seqsetvis_1.26.0.tar.gz |
StartedAt: 2025-02-04 11:01:11 -0000 (Tue, 04 Feb 2025) |
EndedAt: 2025-02-04 11:13:36 -0000 (Tue, 04 Feb 2025) |
EllapsedTime: 745.0 seconds |
RetCode: 0 |
Status: OK |
CheckDir: seqsetvis.Rcheck |
Warnings: 0 |
############################################################################## ############################################################################## ### ### Running command: ### ### /home/biocbuild/R/R/bin/R CMD check --install=check:seqsetvis.install-out.txt --library=/home/biocbuild/R/R/site-library --no-vignettes --timings seqsetvis_1.26.0.tar.gz ### ############################################################################## ############################################################################## * using log directory ‘/home/biocbuild/bbs-3.20-bioc/meat/seqsetvis.Rcheck’ * using R version 4.4.2 (2024-10-31) * using platform: aarch64-unknown-linux-gnu * R was compiled by aarch64-unknown-linux-gnu-gcc (GCC) 14.2.0 GNU Fortran (GCC) 12.3.1 (openEuler 12.3.1-36.oe2403) * running under: openEuler 24.03 (LTS) * using session charset: UTF-8 * using option ‘--no-vignettes’ * checking for file ‘seqsetvis/DESCRIPTION’ ... OK * checking extension type ... Package * this is package ‘seqsetvis’ version ‘1.26.0’ * package encoding: UTF-8 * checking package namespace information ... OK * checking package dependencies ... OK * checking if this is a source package ... OK * checking if there is a namespace ... OK * checking for hidden files and directories ... OK * checking for portable file names ... OK * checking for sufficient/correct file permissions ... OK * checking whether package ‘seqsetvis’ can be installed ... OK * checking installed package size ... OK * checking package directory ... OK * checking ‘build’ directory ... OK * checking DESCRIPTION meta-information ... OK * checking top-level files ... OK * checking for left-over files ... OK * checking index information ... OK * checking package subdirectories ... OK * checking code files for non-ASCII characters ... OK * checking R files for syntax errors ... OK * checking whether the package can be loaded ... OK * checking whether the package can be loaded with stated dependencies ... OK * checking whether the package can be unloaded cleanly ... OK * checking whether the namespace can be loaded with stated dependencies ... OK * checking whether the namespace can be unloaded cleanly ... OK * checking loading without being on the library search path ... OK * checking dependencies in R code ... OK * checking S3 generic/method consistency ... OK * checking replacement functions ... OK * checking foreign function calls ... OK * checking R code for possible problems ... OK * checking Rd files ... OK * checking Rd metadata ... OK * checking Rd cross-references ... OK * checking for missing documentation entries ... OK * checking for code/documentation mismatches ... OK * checking Rd \usage sections ... OK * checking Rd contents ... OK * checking for unstated dependencies in examples ... OK * checking contents of ‘data’ directory ... OK * checking data for non-ASCII characters ... OK * checking data for ASCII and uncompressed saves ... OK * checking files in ‘vignettes’ ... OK * checking examples ... OK Examples with CPU (user + system) or elapsed time > 5s user system elapsed ssvFetchBam 8.781 0.076 8.875 ssvFeatureBinaryHeatmap 7.091 0.096 7.202 ssvSignalHeatmap 5.517 0.076 5.583 ssvSignalBandedQuantiles 5.127 0.028 5.159 * checking for unstated dependencies in ‘tests’ ... OK * checking tests ... Running ‘testthat.R’ OK * checking for unstated dependencies in vignettes ... OK * checking package vignettes ... OK * checking running R code from vignettes ... SKIPPED * checking re-building of vignette outputs ... SKIPPED * checking PDF version of manual ... OK * DONE Status: OK
seqsetvis.Rcheck/00install.out
############################################################################## ############################################################################## ### ### Running command: ### ### /home/biocbuild/R/R/bin/R CMD INSTALL seqsetvis ### ############################################################################## ############################################################################## * installing to library ‘/home/biocbuild/R/R-4.4.2/site-library’ * installing *source* package ‘seqsetvis’ ... ** using staged installation ** R ** data ** inst ** byte-compile and prepare package for lazy loading ** help *** installing help indices ** building package indices ** installing vignettes ** testing if installed package can be loaded from temporary location ** testing if installed package can be loaded from final location ** testing if installed package keeps a record of temporary installation path * DONE (seqsetvis)
seqsetvis.Rcheck/tests/testthat.Rout
R version 4.4.2 (2024-10-31) -- "Pile of Leaves" Copyright (C) 2024 The R Foundation for Statistical Computing Platform: aarch64-unknown-linux-gnu R is free software and comes with ABSOLUTELY NO WARRANTY. You are welcome to redistribute it under certain conditions. Type 'license()' or 'licence()' for distribution details. R is a collaborative project with many contributors. Type 'contributors()' for more information and 'citation()' on how to cite R or R packages in publications. Type 'demo()' for some demos, 'help()' for on-line help, or 'help.start()' for an HTML browser interface to help. Type 'q()' to quit R. > > ## load dependencies > library(testthat) > library(seqsetvis) Loading required package: ggplot2 > library(data.table) > > ## test package > test_check(package = "seqsetvis") [ FAIL 0 | WARN 0 | SKIP 0 | PASS 1284 ] > > proc.time() user system elapsed 362.320 1.697 364.780
seqsetvis.Rcheck/seqsetvis-Ex.timings
name | user | system | elapsed | |
add_cluster_annotation | 3.619 | 0.175 | 3.800 | |
append_ynorm | 0.077 | 0.000 | 0.075 | |
applyMovingAverage | 0.984 | 0.024 | 1.010 | |
applySpline | 0.462 | 0.008 | 0.468 | |
assemble_heatmap_cluster_bars | 1.014 | 0.016 | 1.028 | |
calc_norm_factors | 0.030 | 0.000 | 0.029 | |
centerAtMax | 0.381 | 0.004 | 0.386 | |
centerFixedSizeGRanges | 0.189 | 0.004 | 0.194 | |
centerGRangesAtMax | 0.550 | 0.008 | 0.556 | |
clusteringKmeans | 0.037 | 0.000 | 0.034 | |
clusteringKmeansNestedHclust | 0.046 | 0.000 | 0.045 | |
col2hex | 0.001 | 0.002 | 0.002 | |
collapse_gr | 0.952 | 0.013 | 0.969 | |
convert_collapsed_coord | 0.243 | 0.008 | 0.252 | |
copy_clust_info | 2.322 | 0.068 | 2.390 | |
crossCorrByRle | 0.449 | 0.008 | 0.461 | |
easyLoad_FUN | 0.071 | 0.000 | 0.072 | |
easyLoad_IDRmerged | 0.059 | 0.000 | 0.060 | |
easyLoad_bed | 0.171 | 0.004 | 0.176 | |
easyLoad_broadPeak | 0.064 | 0.004 | 0.070 | |
easyLoad_narrowPeak | 0.048 | 0.000 | 0.048 | |
easyLoad_seacr | 0.054 | 0.000 | 0.055 | |
expandCigar | 0.213 | 0.000 | 0.214 | |
findMaxPos | 0.043 | 0.000 | 0.043 | |
fragLen_calcStranded | 2.355 | 0.008 | 2.371 | |
fragLen_fromMacs2Xls | 0.002 | 0.000 | 0.003 | |
getReadLength | 0.071 | 0.000 | 0.072 | |
get_mapped_reads | 0.01 | 0.00 | 0.01 | |
ggellipse | 0.737 | 0.000 | 0.739 | |
harmonize_seqlengths | 0.130 | 0.004 | 0.135 | |
make_clustering_matrix | 0.141 | 0.000 | 0.140 | |
merge_clusters | 4.602 | 0.020 | 4.623 | |
prepare_fetch_GRanges | 0.043 | 0.000 | 0.043 | |
prepare_fetch_GRanges_names | 0.108 | 0.004 | 0.112 | |
prepare_fetch_GRanges_width | 0.042 | 0.000 | 0.041 | |
quantileGRangesWidth | 0.004 | 0.000 | 0.003 | |
reorder_clusters_hclust | 2.637 | 0.016 | 2.656 | |
reorder_clusters_manual | 1.405 | 0.008 | 1.410 | |
reorder_clusters_stepdown | 2.732 | 0.060 | 2.796 | |
reverse_clusters | 3.023 | 0.048 | 3.067 | |
safeBrew | 0.029 | 0.000 | 0.028 | |
split_cluster | 3.252 | 0.067 | 3.312 | |
ssvAnnotateSubjectGRanges | 1.279 | 0.012 | 1.294 | |
ssvConsensusIntervalSets | 0.392 | 0.000 | 0.393 | |
ssvFactorizeMembTable | 0.018 | 0.000 | 0.017 | |
ssvFeatureBars | 0.716 | 0.004 | 0.721 | |
ssvFeatureBinaryHeatmap | 7.091 | 0.096 | 7.202 | |
ssvFeatureEuler | 0.686 | 0.012 | 0.700 | |
ssvFeaturePie | 0.585 | 0.008 | 0.594 | |
ssvFeatureUpset | 3.350 | 0.004 | 3.361 | |
ssvFeatureVenn | 1.255 | 0.036 | 1.294 | |
ssvFetchBam | 8.781 | 0.076 | 8.875 | |
ssvFetchBamPE | 2.622 | 0.020 | 2.652 | |
ssvFetchBamPE.RNA | 1.866 | 0.008 | 1.867 | |
ssvFetchBigwig | 1.855 | 0.008 | 1.867 | |
ssvFetchGRanges | 1.022 | 0.000 | 1.025 | |
ssvFetchSignal | 2.150 | 0.008 | 2.163 | |
ssvMakeMembTable-methods | 0.724 | 0.004 | 0.730 | |
ssvOverlapIntervalSets | 0.320 | 0.004 | 0.325 | |
ssvSignalBandedQuantiles | 5.127 | 0.028 | 5.159 | |
ssvSignalClustering | 3.483 | 0.027 | 3.498 | |
ssvSignalHeatmap.ClusterBars | 4.512 | 0.016 | 4.530 | |
ssvSignalHeatmap | 5.517 | 0.076 | 5.583 | |
ssvSignalLineplot | 3.104 | 0.092 | 3.203 | |
ssvSignalLineplotAgg | 1.067 | 0.000 | 1.068 | |
ssvSignalScatterplot | 1.18 | 0.00 | 1.18 | |
viewGRangesWinSample_dt | 1.824 | 0.000 | 1.830 | |
viewGRangesWinSummary_dt | 1.771 | 0.008 | 1.783 | |
within_clust_sort | 2.176 | 0.012 | 2.188 | |