Back to Multiple platform build/check report for BioC 3.20:   simplified   long
ABCDEFGHIJKLMNOPQR[S]TUVWXYZ

This page was generated on 2025-02-06 12:09 -0500 (Thu, 06 Feb 2025).

HostnameOSArch (*)R versionInstalled pkgs
nebbiolo2Linux (Ubuntu 24.04.1 LTS)x86_644.4.2 (2024-10-31) -- "Pile of Leaves" 4753
palomino8Windows Server 2022 Datacenterx644.4.2 (2024-10-31 ucrt) -- "Pile of Leaves" 4501
merida1macOS 12.7.5 Montereyx86_644.4.2 (2024-10-31) -- "Pile of Leaves" 4524
kjohnson1macOS 13.6.6 Venturaarm644.4.2 (2024-10-31) -- "Pile of Leaves" 4476
taishanLinux (openEuler 24.03 LTS)aarch644.4.2 (2024-10-31) -- "Pile of Leaves" 4407
Click on any hostname to see more info about the system (e.g. compilers)      (*) as reported by 'uname -p', except on Windows and Mac OS X

Package 1934/2289HostnameOS / ArchINSTALLBUILDCHECKBUILD BIN
seqsetvis 1.26.0  (landing page)
Joseph R Boyd
Snapshot Date: 2025-02-03 13:00 -0500 (Mon, 03 Feb 2025)
git_url: https://git.bioconductor.org/packages/seqsetvis
git_branch: RELEASE_3_20
git_last_commit: 31e216f
git_last_commit_date: 2024-10-29 10:27:03 -0500 (Tue, 29 Oct 2024)
nebbiolo2Linux (Ubuntu 24.04.1 LTS) / x86_64  OK    OK    OK  UNNEEDED, same version is already published
palomino8Windows Server 2022 Datacenter / x64  OK    OK    OK    OK  UNNEEDED, same version is already published
merida1macOS 12.7.5 Monterey / x86_64  OK    OK    OK    NA  
kjohnson1macOS 13.6.6 Ventura / arm64  OK    OK    OK    OK  UNNEEDED, same version is already published
taishanLinux (openEuler 24.03 LTS) / aarch64  OK    OK    OK  


CHECK results for seqsetvis on merida1

To the developers/maintainers of the seqsetvis package:
- Allow up to 24 hours (and sometimes 48 hours) for your latest push to git@git.bioconductor.org:packages/seqsetvis.git to reflect on this report. See Troubleshooting Build Report for more information.
- Use the following Renviron settings to reproduce errors and warnings.
- If 'R CMD check' started to fail recently on the Linux builder(s) over a missing dependency, add the missing dependency to 'Suggests:' in your DESCRIPTION file. See Renviron.bioc for more information.

raw results


Summary

Package: seqsetvis
Version: 1.26.0
Command: /Library/Frameworks/R.framework/Resources/bin/R CMD check --install=check:seqsetvis.install-out.txt --library=/Library/Frameworks/R.framework/Resources/library --no-vignettes --timings seqsetvis_1.26.0.tar.gz
StartedAt: 2025-02-04 10:03:56 -0500 (Tue, 04 Feb 2025)
EndedAt: 2025-02-04 10:26:44 -0500 (Tue, 04 Feb 2025)
EllapsedTime: 1368.0 seconds
RetCode: 0
Status:   OK  
CheckDir: seqsetvis.Rcheck
Warnings: 0

Command output

##############################################################################
##############################################################################
###
### Running command:
###
###   /Library/Frameworks/R.framework/Resources/bin/R CMD check --install=check:seqsetvis.install-out.txt --library=/Library/Frameworks/R.framework/Resources/library --no-vignettes --timings seqsetvis_1.26.0.tar.gz
###
##############################################################################
##############################################################################


* using log directory ‘/Users/biocbuild/bbs-3.20-bioc/meat/seqsetvis.Rcheck’
* using R version 4.4.2 (2024-10-31)
* using platform: x86_64-apple-darwin20
* R was compiled by
    Apple clang version 14.0.0 (clang-1400.0.29.202)
    GNU Fortran (GCC) 12.2.0
* running under: macOS Monterey 12.7.6
* using session charset: UTF-8
* using option ‘--no-vignettes’
* checking for file ‘seqsetvis/DESCRIPTION’ ... OK
* checking extension type ... Package
* this is package ‘seqsetvis’ version ‘1.26.0’
* package encoding: UTF-8
* checking package namespace information ... OK
* checking package dependencies ... OK
* checking if this is a source package ... OK
* checking if there is a namespace ... OK
* checking for hidden files and directories ... OK
* checking for portable file names ... OK
* checking for sufficient/correct file permissions ... OK
* checking whether package ‘seqsetvis’ can be installed ... OK
* checking installed package size ... OK
* checking package directory ... OK
* checking ‘build’ directory ... OK
* checking DESCRIPTION meta-information ... OK
* checking top-level files ... OK
* checking for left-over files ... OK
* checking index information ... OK
* checking package subdirectories ... OK
* checking code files for non-ASCII characters ... OK
* checking R files for syntax errors ... OK
* checking whether the package can be loaded ... OK
* checking whether the package can be loaded with stated dependencies ... OK
* checking whether the package can be unloaded cleanly ... OK
* checking whether the namespace can be loaded with stated dependencies ... OK
* checking whether the namespace can be unloaded cleanly ... OK
* checking dependencies in R code ... OK
* checking S3 generic/method consistency ... OK
* checking replacement functions ... OK
* checking foreign function calls ... OK
* checking R code for possible problems ... OK
* checking Rd files ... OK
* checking Rd metadata ... OK
* checking Rd cross-references ... OK
* checking for missing documentation entries ... OK
* checking for code/documentation mismatches ... OK
* checking Rd \usage sections ... OK
* checking Rd contents ... OK
* checking for unstated dependencies in examples ... OK
* checking contents of ‘data’ directory ... OK
* checking data for non-ASCII characters ... OK
* checking data for ASCII and uncompressed saves ... OK
* checking files in ‘vignettes’ ... OK
* checking examples ... OK
Examples with CPU (user + system) or elapsed time > 5s
                               user system elapsed
ssvFetchBam                  15.547  0.542  17.132
ssvFeatureBinaryHeatmap       9.331  0.887  11.114
ssvSignalHeatmap              9.676  0.407  10.721
ssvSignalBandedQuantiles      9.595  0.170  10.024
merge_clusters                8.091  0.137   8.438
ssvSignalHeatmap.ClusterBars  7.657  0.157   7.989
ssvSignalClustering           6.400  0.123   6.551
add_cluster_annotation        6.054  0.404   6.926
reverse_clusters              5.906  0.080   6.073
ssvFeatureUpset               5.807  0.100   6.035
ssvSignalLineplot             5.198  0.071   6.606
ssvFetchBamPE                 4.612  0.405   5.181
* checking for unstated dependencies in ‘tests’ ... OK
* checking tests ...
  Running ‘testthat.R’
 OK
* checking for unstated dependencies in vignettes ... OK
* checking package vignettes ... OK
* checking running R code from vignettes ... SKIPPED
* checking re-building of vignette outputs ... SKIPPED
* checking PDF version of manual ... OK
* DONE

Status: OK


Installation output

seqsetvis.Rcheck/00install.out

##############################################################################
##############################################################################
###
### Running command:
###
###   /Library/Frameworks/R.framework/Resources/bin/R CMD INSTALL seqsetvis
###
##############################################################################
##############################################################################


* installing to library ‘/Library/Frameworks/R.framework/Versions/4.4-x86_64/Resources/library’
* installing *source* package ‘seqsetvis’ ...
** using staged installation
** R
** data
** inst
** byte-compile and prepare package for lazy loading
** help
*** installing help indices
** building package indices
** installing vignettes
** testing if installed package can be loaded from temporary location
** testing if installed package can be loaded from final location
** testing if installed package keeps a record of temporary installation path
* DONE (seqsetvis)

Tests output

seqsetvis.Rcheck/tests/testthat.Rout


R version 4.4.2 (2024-10-31) -- "Pile of Leaves"
Copyright (C) 2024 The R Foundation for Statistical Computing
Platform: x86_64-apple-darwin20

R is free software and comes with ABSOLUTELY NO WARRANTY.
You are welcome to redistribute it under certain conditions.
Type 'license()' or 'licence()' for distribution details.

R is a collaborative project with many contributors.
Type 'contributors()' for more information and
'citation()' on how to cite R or R packages in publications.

Type 'demo()' for some demos, 'help()' for on-line help, or
'help.start()' for an HTML browser interface to help.
Type 'q()' to quit R.

> 
> ## load dependencies
> library(testthat)
> library(seqsetvis)
Loading required package: ggplot2
> library(data.table)
> 
> ## test package
> test_check(package = "seqsetvis")
[ FAIL 0 | WARN 0 | SKIP 0 | PASS 1284 ]
> 
> proc.time()
   user  system elapsed 
637.221  13.611 667.083 

Example timings

seqsetvis.Rcheck/seqsetvis-Ex.timings

nameusersystemelapsed
add_cluster_annotation6.0540.4046.926
append_ynorm0.0980.0110.134
applyMovingAverage1.6190.0211.796
applySpline0.7660.0210.880
assemble_heatmap_cluster_bars1.8090.0332.139
calc_norm_factors0.0540.0070.077
centerAtMax0.6530.0220.827
centerFixedSizeGRanges0.3010.0140.363
centerGRangesAtMax0.8810.0271.055
clusteringKmeans0.0570.0090.108
clusteringKmeansNestedHclust0.0660.0110.076
col2hex0.0020.0010.003
collapse_gr1.5930.0251.658
convert_collapsed_coord0.4000.0150.426
copy_clust_info3.8400.0634.006
crossCorrByRle0.7400.0170.782
easyLoad_FUN0.1090.0020.114
easyLoad_IDRmerged0.0890.0040.095
easyLoad_bed0.3070.0020.315
easyLoad_broadPeak0.0850.0020.087
easyLoad_narrowPeak0.0860.0020.093
easyLoad_seacr0.0990.0030.129
expandCigar0.4090.0370.380
findMaxPos0.0930.0200.088
fragLen_calcStranded4.1670.0824.488
fragLen_fromMacs2Xls0.0030.0010.006
getReadLength0.1250.0130.148
get_mapped_reads0.0170.0010.019
ggellipse1.3000.0151.361
harmonize_seqlengths0.1980.0140.219
make_clustering_matrix0.2110.0110.240
merge_clusters8.0910.1378.438
prepare_fetch_GRanges0.0640.0050.070
prepare_fetch_GRanges_names0.1900.0070.205
prepare_fetch_GRanges_width0.0690.0040.074
quantileGRangesWidth0.0050.0020.008
reorder_clusters_hclust4.7120.1194.940
reorder_clusters_manual2.4140.0392.505
reorder_clusters_stepdown4.7590.0534.917
reverse_clusters5.9060.0806.073
safeBrew0.0500.0080.060
split_cluster4.2490.0554.531
ssvAnnotateSubjectGRanges2.2350.0612.355
ssvConsensusIntervalSets0.6920.0170.739
ssvFactorizeMembTable0.0320.0090.042
ssvFeatureBars1.2360.0131.340
ssvFeatureBinaryHeatmap 9.331 0.88711.114
ssvFeatureEuler1.1960.0181.293
ssvFeaturePie1.1150.0261.325
ssvFeatureUpset5.8070.1006.035
ssvFeatureVenn2.0880.0272.192
ssvFetchBam15.547 0.54217.132
ssvFetchBamPE4.6120.4055.181
ssvFetchBamPE.RNA3.3790.0893.577
ssvFetchBigwig3.1880.0543.326
ssvFetchGRanges1.7570.0231.840
ssvFetchSignal3.5760.0943.808
ssvMakeMembTable-methods1.2050.0211.307
ssvOverlapIntervalSets0.5440.0160.592
ssvSignalBandedQuantiles 9.595 0.17010.024
ssvSignalClustering6.4000.1236.551
ssvSignalHeatmap.ClusterBars7.6570.1577.989
ssvSignalHeatmap 9.676 0.40710.721
ssvSignalLineplot5.1980.0716.606
ssvSignalLineplotAgg1.7990.0331.968
ssvSignalScatterplot2.1800.0562.080
viewGRangesWinSample_dt3.0260.1023.293
viewGRangesWinSummary_dt2.8470.1033.291
within_clust_sort3.6450.0753.977