Back to Multiple platform build/check report for BioC 3.20: simplified long |
|
This page was generated on 2025-02-03 12:11 -0500 (Mon, 03 Feb 2025).
Hostname | OS | Arch (*) | R version | Installed pkgs |
---|---|---|---|---|
nebbiolo2 | Linux (Ubuntu 24.04.1 LTS) | x86_64 | 4.4.2 (2024-10-31) -- "Pile of Leaves" | 4746 |
palomino8 | Windows Server 2022 Datacenter | x64 | 4.4.2 (2024-10-31 ucrt) -- "Pile of Leaves" | 4494 |
merida1 | macOS 12.7.5 Monterey | x86_64 | 4.4.2 (2024-10-31) -- "Pile of Leaves" | 4517 |
kjohnson1 | macOS 13.6.6 Ventura | arm64 | 4.4.2 (2024-10-31) -- "Pile of Leaves" | 4469 |
taishan | Linux (openEuler 24.03 LTS) | aarch64 | 4.4.2 (2024-10-31) -- "Pile of Leaves" | 4400 |
Click on any hostname to see more info about the system (e.g. compilers) (*) as reported by 'uname -p', except on Windows and Mac OS X |
Package 1938/2289 | Hostname | OS / Arch | INSTALL | BUILD | CHECK | BUILD BIN | ||||||||
sesame 1.24.0 (landing page) Wanding Zhou
| nebbiolo2 | Linux (Ubuntu 24.04.1 LTS) / x86_64 | OK | OK | OK | |||||||||
palomino8 | Windows Server 2022 Datacenter / x64 | OK | OK | OK | OK | |||||||||
merida1 | macOS 12.7.5 Monterey / x86_64 | OK | OK | OK | OK | |||||||||
kjohnson1 | macOS 13.6.6 Ventura / arm64 | OK | OK | OK | OK | |||||||||
taishan | Linux (openEuler 24.03 LTS) / aarch64 | OK | OK | OK | ||||||||||
To the developers/maintainers of the sesame package: - Allow up to 24 hours (and sometimes 48 hours) for your latest push to git@git.bioconductor.org:packages/sesame.git to reflect on this report. See Troubleshooting Build Report for more information. - Use the following Renviron settings to reproduce errors and warnings. - If 'R CMD check' started to fail recently on the Linux builder(s) over a missing dependency, add the missing dependency to 'Suggests:' in your DESCRIPTION file. See Renviron.bioc for more information. |
Package: sesame |
Version: 1.24.0 |
Command: /Library/Frameworks/R.framework/Resources/bin/R CMD check --install=check:sesame.install-out.txt --library=/Library/Frameworks/R.framework/Resources/library --no-vignettes --timings sesame_1.24.0.tar.gz |
StartedAt: 2025-02-01 09:11:24 -0500 (Sat, 01 Feb 2025) |
EndedAt: 2025-02-01 09:29:29 -0500 (Sat, 01 Feb 2025) |
EllapsedTime: 1084.3 seconds |
RetCode: 0 |
Status: OK |
CheckDir: sesame.Rcheck |
Warnings: 0 |
############################################################################## ############################################################################## ### ### Running command: ### ### /Library/Frameworks/R.framework/Resources/bin/R CMD check --install=check:sesame.install-out.txt --library=/Library/Frameworks/R.framework/Resources/library --no-vignettes --timings sesame_1.24.0.tar.gz ### ############################################################################## ############################################################################## * using log directory ‘/Users/biocbuild/bbs-3.20-bioc/meat/sesame.Rcheck’ * using R version 4.4.2 (2024-10-31) * using platform: aarch64-apple-darwin20 * R was compiled by Apple clang version 14.0.0 (clang-1400.0.29.202) GNU Fortran (GCC) 12.2.0 * running under: macOS Ventura 13.7.1 * using session charset: UTF-8 * using option ‘--no-vignettes’ * checking for file ‘sesame/DESCRIPTION’ ... OK * checking extension type ... Package * this is package ‘sesame’ version ‘1.24.0’ * package encoding: UTF-8 * checking package namespace information ... OK * checking package dependencies ... OK * checking if this is a source package ... OK * checking if there is a namespace ... OK * checking for hidden files and directories ... OK * checking for portable file names ... OK * checking for sufficient/correct file permissions ... OK * checking whether package ‘sesame’ can be installed ... OK * checking installed package size ... OK * checking package directory ... OK * checking ‘build’ directory ... OK * checking DESCRIPTION meta-information ... OK * checking top-level files ... OK * checking for left-over files ... OK * checking index information ... OK * checking package subdirectories ... OK * checking code files for non-ASCII characters ... OK * checking R files for syntax errors ... OK * checking whether the package can be loaded ... OK * checking whether the package can be loaded with stated dependencies ... OK * checking whether the package can be unloaded cleanly ... OK * checking whether the namespace can be loaded with stated dependencies ... OK * checking whether the namespace can be unloaded cleanly ... OK * checking whether startup messages can be suppressed ... OK * checking dependencies in R code ... OK * checking S3 generic/method consistency ... OK * checking replacement functions ... OK * checking foreign function calls ... OK * checking R code for possible problems ... OK * checking Rd files ... OK * checking Rd metadata ... OK * checking Rd cross-references ... OK * checking for missing documentation entries ... OK * checking for code/documentation mismatches ... OK * checking Rd \usage sections ... OK * checking Rd contents ... OK * checking for unstated dependencies in examples ... OK * checking files in ‘vignettes’ ... OK * checking examples ... OK Examples with CPU (user + system) or elapsed time > 5s user system elapsed testEnrichmentGene 66.954 3.254 70.711 imputeBetasByGenomicNeighbors 42.621 1.163 44.168 inferSex 29.748 1.016 30.900 KYCG_plotMeta 26.415 1.061 27.699 sesameQC_calcStats 25.064 1.936 27.289 KYCG_plotEnrichAll 25.265 1.039 26.628 sesameQC_plotHeatSNPs 24.144 1.216 25.503 imputeBetas 21.932 1.475 23.530 sesameQC_plotBar 20.417 0.421 20.936 ELBAR 16.089 2.648 18.867 inferSpecies 17.438 0.769 18.302 diffRefSet 17.080 0.675 18.328 KYCG_annoProbes 16.994 0.643 17.781 KYCG_plotMetaEnrichment 15.970 0.545 16.818 getRefSet 15.971 0.496 16.545 KYCG_buildGeneDBs 15.315 0.454 15.853 matchDesign 14.639 0.747 15.475 testEnrichmentSEA 13.909 0.922 14.912 visualizeGene 13.580 0.439 14.078 compareReference 12.220 0.579 12.900 compareMouseStrainReference 12.229 0.486 12.807 sesameQC_plotBetaByDesign 10.968 0.739 11.752 DML 9.413 0.810 10.320 dyeBiasCorrMostBalanced 9.822 0.253 10.123 sdf_read_table 9.584 0.369 10.098 inferStrain 9.399 0.464 9.939 getMask 8.652 0.468 9.176 dbStats 8.549 0.500 9.112 DMR 8.808 0.222 9.069 estimateLeukocyte 8.550 0.392 9.010 inferTissue 8.128 0.793 8.972 createUCSCtrack 8.050 0.333 8.434 probeSuccessRate 7.520 0.662 8.230 dyeBiasNL 7.575 0.433 8.036 bisConversionControl 7.756 0.211 8.038 testEnrichment 6.716 0.635 7.441 KYCG_plotSetEnrichment 6.540 0.483 7.466 openSesame 6.028 0.523 6.655 deidentify 5.805 0.319 6.173 reIdentify 4.931 0.365 5.332 noMasked 4.684 0.363 5.069 prepSesame 4.725 0.306 5.052 * checking for unstated dependencies in ‘tests’ ... OK * checking tests ... Running ‘testthat.R’ OK * checking for unstated dependencies in vignettes ... OK * checking package vignettes ... OK * checking running R code from vignettes ... SKIPPED * checking re-building of vignette outputs ... SKIPPED * checking PDF version of manual ... OK * DONE Status: OK
sesame.Rcheck/00install.out
############################################################################## ############################################################################## ### ### Running command: ### ### /Library/Frameworks/R.framework/Resources/bin/R CMD INSTALL sesame ### ############################################################################## ############################################################################## * installing to library ‘/Library/Frameworks/R.framework/Versions/4.4-arm64/Resources/library’ * installing *source* package ‘sesame’ ... ** using staged installation ** R ** inst ** byte-compile and prepare package for lazy loading ** help *** installing help indices ** building package indices ** installing vignettes ** testing if installed package can be loaded from temporary location ** testing if installed package can be loaded from final location ** testing if installed package keeps a record of temporary installation path * DONE (sesame)
sesame.Rcheck/tests/testthat.Rout
R version 4.4.2 (2024-10-31) -- "Pile of Leaves" Copyright (C) 2024 The R Foundation for Statistical Computing Platform: aarch64-apple-darwin20 R is free software and comes with ABSOLUTELY NO WARRANTY. You are welcome to redistribute it under certain conditions. Type 'license()' or 'licence()' for distribution details. R is a collaborative project with many contributors. Type 'contributors()' for more information and 'citation()' on how to cite R or R packages in publications. Type 'demo()' for some demos, 'help()' for on-line help, or 'help.start()' for an HTML browser interface to help. Type 'q()' to quit R. > library(testthat) > library(sesame) Loading required package: sesameData Loading required package: ExperimentHub Loading required package: BiocGenerics Attaching package: 'BiocGenerics' The following objects are masked from 'package:stats': IQR, mad, sd, var, xtabs The following objects are masked from 'package:base': Filter, Find, Map, Position, Reduce, anyDuplicated, aperm, append, as.data.frame, basename, cbind, colnames, dirname, do.call, duplicated, eval, evalq, get, grep, grepl, intersect, is.unsorted, lapply, mapply, match, mget, order, paste, pmax, pmax.int, pmin, pmin.int, rank, rbind, rownames, sapply, saveRDS, setdiff, table, tapply, union, unique, unsplit, which.max, which.min Loading required package: AnnotationHub Loading required package: BiocFileCache Loading required package: dbplyr Loading sesameData. ---------------------------------------------------------- | SEnsible Step-wise Analysis of DNA MEthylation (SeSAMe) | -------------------------------------------------------- | Please cache auxiliary data by "sesameDataCache()". | This needs to be done only once per SeSAMe installation. ---------------------------------------------------------- > > test_check("sesame") [ FAIL 0 | WARN 0 | SKIP 0 | PASS 5 ] > > proc.time() user system elapsed 26.028 1.434 27.582
sesame.Rcheck/sesame-Ex.timings
name | user | system | elapsed | |
BetaValueToMValue | 0.000 | 0.000 | 0.001 | |
DML | 9.413 | 0.810 | 10.320 | |
DMLpredict | 1.446 | 0.105 | 1.558 | |
DMR | 8.808 | 0.222 | 9.069 | |
ELBAR | 16.089 | 2.648 | 18.867 | |
KYCG_annoProbes | 16.994 | 0.643 | 17.781 | |
KYCG_buildGeneDBs | 15.315 | 0.454 | 15.853 | |
KYCG_getDBs | 3.461 | 0.232 | 3.714 | |
KYCG_listDBGroups | 0.373 | 0.017 | 0.392 | |
KYCG_loadDBs | 0 | 0 | 0 | |
KYCG_plotBar | 0.213 | 0.005 | 0.218 | |
KYCG_plotDot | 0.318 | 0.003 | 0.323 | |
KYCG_plotEnrichAll | 25.265 | 1.039 | 26.628 | |
KYCG_plotLollipop | 0.163 | 0.002 | 0.165 | |
KYCG_plotManhattan | 1.861 | 0.156 | 2.027 | |
KYCG_plotMeta | 26.415 | 1.061 | 27.699 | |
KYCG_plotMetaEnrichment | 15.970 | 0.545 | 16.818 | |
KYCG_plotPointRange | 2.682 | 0.197 | 2.904 | |
KYCG_plotSetEnrichment | 6.540 | 0.483 | 7.466 | |
KYCG_plotVolcano | 0.139 | 0.002 | 0.146 | |
KYCG_plotWaterfall | 4.032 | 0.240 | 4.397 | |
MValueToBetaValue | 0.000 | 0.000 | 0.001 | |
SigDF | 0.310 | 0.048 | 0.366 | |
addMask | 0.058 | 0.003 | 0.061 | |
aggregateTestEnrichments | 1.673 | 0.123 | 1.805 | |
betasCollapseToPfx | 0.012 | 0.001 | 0.012 | |
bisConversionControl | 7.756 | 0.211 | 8.038 | |
calcEffectSize | 0.843 | 0.069 | 0.939 | |
checkLevels | 3.799 | 0.213 | 4.079 | |
cnSegmentation | 0.284 | 0.050 | 0.339 | |
compareMouseStrainReference | 12.229 | 0.486 | 12.807 | |
compareMouseTissueReference | 0 | 0 | 0 | |
compareReference | 12.220 | 0.579 | 12.900 | |
controls | 2.425 | 0.177 | 2.629 | |
createUCSCtrack | 8.050 | 0.333 | 8.434 | |
dbStats | 8.549 | 0.500 | 9.112 | |
deidentify | 5.805 | 0.319 | 6.173 | |
detectionPnegEcdf | 3.255 | 0.130 | 3.398 | |
diffRefSet | 17.080 | 0.675 | 18.328 | |
dmContrasts | 2.325 | 0.140 | 2.482 | |
dyeBiasCorr | 3.227 | 0.263 | 3.531 | |
dyeBiasCorrMostBalanced | 9.822 | 0.253 | 10.123 | |
dyeBiasL | 3.139 | 0.195 | 3.347 | |
dyeBiasNL | 7.575 | 0.433 | 8.036 | |
estimateLeukocyte | 8.550 | 0.392 | 9.010 | |
formatVCF | 2.552 | 0.205 | 2.776 | |
getAFTypeIbySumAlleles | 2.112 | 0.252 | 2.381 | |
getAFs | 1.329 | 0.117 | 1.451 | |
getBetas | 0.877 | 0.141 | 1.020 | |
getMask | 8.652 | 0.468 | 9.176 | |
getRefSet | 15.971 | 0.496 | 16.545 | |
imputeBetas | 21.932 | 1.475 | 23.530 | |
imputeBetasByGenomicNeighbors | 42.621 | 1.163 | 44.168 | |
imputeBetasMatrixByMean | 0.002 | 0.001 | 0.003 | |
inferEthnicity | 0.001 | 0.000 | 0.001 | |
inferInfiniumIChannel | 0.450 | 0.465 | 0.934 | |
inferSex | 29.748 | 1.016 | 30.900 | |
inferSpecies | 17.438 | 0.769 | 18.302 | |
inferStrain | 9.399 | 0.464 | 9.939 | |
inferTissue | 8.128 | 0.793 | 8.972 | |
initFileSet | 1.338 | 0.260 | 1.665 | |
listAvailableMasks | 1.588 | 0.255 | 1.847 | |
mLiftOver | 0.001 | 0.002 | 0.002 | |
mapFileSet | 0.049 | 0.009 | 0.058 | |
mapToMammal40 | 3.664 | 0.435 | 4.119 | |
matchDesign | 14.639 | 0.747 | 15.475 | |
meanIntensity | 3.078 | 0.250 | 3.345 | |
medianTotalIntensity | 0.904 | 0.105 | 1.012 | |
noMasked | 4.684 | 0.363 | 5.069 | |
noob | 2.483 | 0.214 | 2.712 | |
openSesame | 6.028 | 0.523 | 6.655 | |
openSesameToFile | 1.348 | 0.102 | 1.498 | |
pOOBAH | 1.610 | 0.053 | 1.689 | |
palgen | 0.053 | 0.008 | 0.065 | |
parseGEOsignalMU | 4.181 | 0.350 | 4.551 | |
predictAge | 3.376 | 0.120 | 3.507 | |
predictAgeHorvath353 | 0.000 | 0.001 | 0.000 | |
predictAgeSkinBlood | 0 | 0 | 0 | |
predictMouseAgeInMonth | 0.000 | 0.001 | 0.000 | |
prefixMask | 0.709 | 0.007 | 0.717 | |
prefixMaskButC | 0.198 | 0.004 | 0.202 | |
prefixMaskButCG | 0.069 | 0.002 | 0.071 | |
prepSesame | 4.725 | 0.306 | 5.052 | |
prepSesameList | 0.002 | 0.000 | 0.002 | |
print.DMLSummary | 4.279 | 0.475 | 4.799 | |
print.fileSet | 1.350 | 0.243 | 1.600 | |
probeID_designType | 0.001 | 0.000 | 0.000 | |
probeSuccessRate | 7.520 | 0.662 | 8.230 | |
qualityMask | 4.156 | 0.319 | 4.494 | |
reIdentify | 4.931 | 0.365 | 5.332 | |
readFileSet | 0.082 | 0.003 | 0.087 | |
readIDATpair | 0.130 | 0.007 | 0.137 | |
recommendedMaskNames | 0.001 | 0.000 | 0.001 | |
resetMask | 0.436 | 0.069 | 0.507 | |
scrub | 2.804 | 0.229 | 3.055 | |
scrubSoft | 4.130 | 0.717 | 4.887 | |
sdfPlatform | 0.287 | 0.037 | 0.337 | |
sdf_read_table | 9.584 | 0.369 | 10.098 | |
sdf_write_table | 2.942 | 0.131 | 3.085 | |
searchIDATprefixes | 0.005 | 0.003 | 0.009 | |
sesame-package | 2.595 | 0.171 | 2.779 | |
sesameAnno_attachManifest | 0.000 | 0.001 | 0.000 | |
sesameAnno_buildAddressFile | 0.000 | 0.000 | 0.001 | |
sesameAnno_buildManifestGRanges | 0 | 0 | 0 | |
sesameAnno_download | 0.000 | 0.000 | 0.001 | |
sesameAnno_readManifestTSV | 0 | 0 | 0 | |
sesameQC_calcStats | 25.064 | 1.936 | 27.289 | |
sesameQC_getStats | 2.542 | 0.056 | 2.610 | |
sesameQC_plotBar | 20.417 | 0.421 | 20.936 | |
sesameQC_plotBetaByDesign | 10.968 | 0.739 | 11.752 | |
sesameQC_plotHeatSNPs | 24.144 | 1.216 | 25.503 | |
sesameQC_plotIntensVsBetas | 1.937 | 0.243 | 2.200 | |
sesameQC_plotRedGrnQQ | 0.794 | 0.120 | 0.962 | |
sesameQC_rankStats | 3.841 | 0.359 | 4.331 | |
sesameQCtoDF | 2.537 | 0.044 | 2.594 | |
sesame_checkVersion | 0.004 | 0.001 | 0.005 | |
sesamize | 0.000 | 0.000 | 0.001 | |
setMask | 0.078 | 0.002 | 0.080 | |
signalMU | 0.820 | 0.082 | 0.904 | |
sliceFileSet | 0.048 | 0.003 | 0.052 | |
summaryExtractTest | 3.873 | 0.536 | 4.439 | |
testEnrichment | 6.716 | 0.635 | 7.441 | |
testEnrichmentGene | 66.954 | 3.254 | 70.711 | |
testEnrichmentSEA | 13.909 | 0.922 | 14.912 | |
totalIntensities | 4.056 | 0.227 | 4.338 | |
updateSigDF | 4.545 | 0.271 | 4.867 | |
visualizeGene | 13.580 | 0.439 | 14.078 | |
visualizeProbes | 4.704 | 0.105 | 4.825 | |
visualizeRegion | 0.370 | 0.009 | 0.380 | |
visualizeSegments | 2.064 | 0.265 | 2.340 | |