Back to Multiple platform build/check report for BioC 3.20:   simplified   long
ABCDEFGHIJKLMNOPQR[S]TUVWXYZ

This page was generated on 2025-02-06 12:10 -0500 (Thu, 06 Feb 2025).

HostnameOSArch (*)R versionInstalled pkgs
nebbiolo2Linux (Ubuntu 24.04.1 LTS)x86_644.4.2 (2024-10-31) -- "Pile of Leaves" 4753
palomino8Windows Server 2022 Datacenterx644.4.2 (2024-10-31 ucrt) -- "Pile of Leaves" 4501
merida1macOS 12.7.5 Montereyx86_644.4.2 (2024-10-31) -- "Pile of Leaves" 4524
kjohnson1macOS 13.6.6 Venturaarm644.4.2 (2024-10-31) -- "Pile of Leaves" 4476
taishanLinux (openEuler 24.03 LTS)aarch644.4.2 (2024-10-31) -- "Pile of Leaves" 4407
Click on any hostname to see more info about the system (e.g. compilers)      (*) as reported by 'uname -p', except on Windows and Mac OS X

Package 2016/2289HostnameOS / ArchINSTALLBUILDCHECKBUILD BIN
spatialDE 1.12.0  (landing page)
Gabriele Sales
Snapshot Date: 2025-02-03 13:00 -0500 (Mon, 03 Feb 2025)
git_url: https://git.bioconductor.org/packages/spatialDE
git_branch: RELEASE_3_20
git_last_commit: 8d3fc1f
git_last_commit_date: 2024-10-29 11:03:13 -0500 (Tue, 29 Oct 2024)
nebbiolo2Linux (Ubuntu 24.04.1 LTS) / x86_64  OK    OK    OK  UNNEEDED, same version is already published
palomino8Windows Server 2022 Datacenter / x64  OK    OK    OK    OK  UNNEEDED, same version is already published
merida1macOS 12.7.5 Monterey / x86_64  OK    OK    OK    NA  
kjohnson1macOS 13.6.6 Ventura / arm64  OK    OK    OK    OK  UNNEEDED, same version is already published
taishanLinux (openEuler 24.03 LTS) / aarch64  OK    OK    OK  


CHECK results for spatialDE on kjohnson1

To the developers/maintainers of the spatialDE package:
- Allow up to 24 hours (and sometimes 48 hours) for your latest push to git@git.bioconductor.org:packages/spatialDE.git to reflect on this report. See Troubleshooting Build Report for more information.
- Use the following Renviron settings to reproduce errors and warnings.
- If 'R CMD check' started to fail recently on the Linux builder(s) over a missing dependency, add the missing dependency to 'Suggests:' in your DESCRIPTION file. See Renviron.bioc for more information.

raw results


Summary

Package: spatialDE
Version: 1.12.0
Command: /Library/Frameworks/R.framework/Resources/bin/R CMD check --install=check:spatialDE.install-out.txt --library=/Library/Frameworks/R.framework/Resources/library --no-vignettes --timings spatialDE_1.12.0.tar.gz
StartedAt: 2025-02-05 11:01:43 -0500 (Wed, 05 Feb 2025)
EndedAt: 2025-02-05 11:06:54 -0500 (Wed, 05 Feb 2025)
EllapsedTime: 310.7 seconds
RetCode: 0
Status:   OK  
CheckDir: spatialDE.Rcheck
Warnings: 0

Command output

##############################################################################
##############################################################################
###
### Running command:
###
###   /Library/Frameworks/R.framework/Resources/bin/R CMD check --install=check:spatialDE.install-out.txt --library=/Library/Frameworks/R.framework/Resources/library --no-vignettes --timings spatialDE_1.12.0.tar.gz
###
##############################################################################
##############################################################################


* using log directory ‘/Users/biocbuild/bbs-3.20-bioc/meat/spatialDE.Rcheck’
* using R version 4.4.2 (2024-10-31)
* using platform: aarch64-apple-darwin20
* R was compiled by
    Apple clang version 14.0.0 (clang-1400.0.29.202)
    GNU Fortran (GCC) 12.2.0
* running under: macOS Ventura 13.7.1
* using session charset: UTF-8
* using option ‘--no-vignettes’
* checking for file ‘spatialDE/DESCRIPTION’ ... OK
* this is package ‘spatialDE’ version ‘1.12.0’
* package encoding: UTF-8
* checking package namespace information ... OK
* checking package dependencies ... OK
* checking if this is a source package ... OK
* checking if there is a namespace ... OK
* checking for hidden files and directories ... OK
* checking for portable file names ... OK
* checking for sufficient/correct file permissions ... OK
* checking whether package ‘spatialDE’ can be installed ... NOTE
Found the following notes/warnings:
  Non-staged installation was used
See ‘/Users/biocbuild/bbs-3.20-bioc/meat/spatialDE.Rcheck/00install.out’ for details.
* checking installed package size ... OK
* checking package directory ... OK
* checking ‘build’ directory ... OK
* checking DESCRIPTION meta-information ... OK
* checking top-level files ... OK
* checking for left-over files ... OK
* checking index information ... OK
* checking package subdirectories ... OK
* checking code files for non-ASCII characters ... OK
* checking R files for syntax errors ... OK
* checking whether the package can be loaded ... OK
* checking whether the package can be loaded with stated dependencies ... OK
* checking whether the package can be unloaded cleanly ... OK
* checking whether the namespace can be loaded with stated dependencies ... OK
* checking whether the namespace can be unloaded cleanly ... OK
* checking dependencies in R code ... OK
* checking S3 generic/method consistency ... OK
* checking replacement functions ... OK
* checking foreign function calls ... OK
* checking R code for possible problems ... OK
* checking Rd files ... OK
* checking Rd metadata ... OK
* checking Rd cross-references ... OK
* checking for missing documentation entries ... OK
* checking for code/documentation mismatches ... OK
* checking Rd \usage sections ... OK
* checking Rd contents ... OK
* checking for unstated dependencies in examples ... OK
* checking contents of ‘data’ directory ... OK
* checking data for non-ASCII characters ... OK
* checking data for ASCII and uncompressed saves ... OK
* checking line endings in shell scripts ... OK
* checking files in ‘vignettes’ ... OK
* checking examples ... OK
Examples with CPU (user + system) or elapsed time > 5s
                   user system elapsed
spatial_patterns 19.880  3.516  19.396
FSV_sig           6.487  1.986  11.990
* checking for unstated dependencies in ‘tests’ ... OK
* checking tests ...
  Running ‘testthat.R’
 OK
* checking for unstated dependencies in vignettes ... OK
* checking package vignettes ... OK
* checking running R code from vignettes ... SKIPPED
* checking re-building of vignette outputs ... SKIPPED
* checking PDF version of manual ... OK
* DONE

Status: 1 NOTE
See
  ‘/Users/biocbuild/bbs-3.20-bioc/meat/spatialDE.Rcheck/00check.log’
for details.


Installation output

spatialDE.Rcheck/00install.out

##############################################################################
##############################################################################
###
### Running command:
###
###   /Library/Frameworks/R.framework/Resources/bin/R CMD INSTALL spatialDE
###
##############################################################################
##############################################################################


* installing to library ‘/Library/Frameworks/R.framework/Versions/4.4-arm64/Resources/library’
* installing *source* package ‘spatialDE’ ...
** using non-staged installation via StagedInstall field
** R
** data
** inst
** byte-compile and prepare package for lazy loading
** help
*** installing help indices
** building package indices
** installing vignettes
** testing if installed package can be loaded
* DONE (spatialDE)

Tests output

spatialDE.Rcheck/tests/testthat.Rout


R version 4.4.2 (2024-10-31) -- "Pile of Leaves"
Copyright (C) 2024 The R Foundation for Statistical Computing
Platform: aarch64-apple-darwin20

R is free software and comes with ABSOLUTELY NO WARRANTY.
You are welcome to redistribute it under certain conditions.
Type 'license()' or 'licence()' for distribution details.

R is a collaborative project with many contributors.
Type 'contributors()' for more information and
'citation()' on how to cite R or R packages in publications.

Type 'demo()' for some demos, 'help()' for on-line help, or
'help.start()' for an HTML browser interface to help.
Type 'q()' to quit R.

> library(testthat)
> library(spatialDE)
> 
> test_check("spatialDE")
Loading required package: SingleCellExperiment
Loading required package: SummarizedExperiment
Loading required package: MatrixGenerics
Loading required package: matrixStats

Attaching package: 'MatrixGenerics'

The following objects are masked from 'package:matrixStats':

    colAlls, colAnyNAs, colAnys, colAvgsPerRowSet, colCollapse,
    colCounts, colCummaxs, colCummins, colCumprods, colCumsums,
    colDiffs, colIQRDiffs, colIQRs, colLogSumExps, colMadDiffs,
    colMads, colMaxs, colMeans2, colMedians, colMins, colOrderStats,
    colProds, colQuantiles, colRanges, colRanks, colSdDiffs, colSds,
    colSums2, colTabulates, colVarDiffs, colVars, colWeightedMads,
    colWeightedMeans, colWeightedMedians, colWeightedSds,
    colWeightedVars, rowAlls, rowAnyNAs, rowAnys, rowAvgsPerColSet,
    rowCollapse, rowCounts, rowCummaxs, rowCummins, rowCumprods,
    rowCumsums, rowDiffs, rowIQRDiffs, rowIQRs, rowLogSumExps,
    rowMadDiffs, rowMads, rowMaxs, rowMeans2, rowMedians, rowMins,
    rowOrderStats, rowProds, rowQuantiles, rowRanges, rowRanks,
    rowSdDiffs, rowSds, rowSums2, rowTabulates, rowVarDiffs, rowVars,
    rowWeightedMads, rowWeightedMeans, rowWeightedMedians,
    rowWeightedSds, rowWeightedVars

Loading required package: GenomicRanges
Loading required package: stats4
Loading required package: BiocGenerics

Attaching package: 'BiocGenerics'

The following objects are masked from 'package:stats':

    IQR, mad, sd, var, xtabs

The following objects are masked from 'package:base':

    Filter, Find, Map, Position, Reduce, anyDuplicated, aperm, append,
    as.data.frame, basename, cbind, colnames, dirname, do.call,
    duplicated, eval, evalq, get, grep, grepl, intersect, is.unsorted,
    lapply, mapply, match, mget, order, paste, pmax, pmax.int, pmin,
    pmin.int, rank, rbind, rownames, sapply, saveRDS, setdiff, table,
    tapply, union, unique, unsplit, which.max, which.min

Loading required package: S4Vectors

Attaching package: 'S4Vectors'

The following object is masked from 'package:utils':

    findMatches

The following objects are masked from 'package:base':

    I, expand.grid, unname

Loading required package: IRanges
Loading required package: GenomeInfoDb
Loading required package: Biobase
Welcome to Bioconductor

    Vignettes contain introductory material; view with
    'browseVignettes()'. To cite Bioconductor, see
    'citation("Biobase")', and for packages 'citation("pkgname")'.


Attaching package: 'Biobase'

The following object is masked from 'package:MatrixGenerics':

    rowMedians

The following objects are masked from 'package:matrixStats':

    anyMissing, rowMedians


Models:   0%|          | 0/10 [00:00<?, ?it/s]

  0%|          | 0/100 [00:00<?, ?it/s]

 31%|███       | 31/100 [00:00<00:00, 307.95it/s]

 70%|███████   | 70/100 [00:00<00:00, 354.59it/s]

                                                 
Models:  10%|█         | 1/10 [00:00<00:02,  3.43it/s]

  0%|          | 0/100 [00:00<?, ?it/s]

 29%|██▉       | 29/100 [00:00<00:00, 279.38it/s]

 57%|█████▋    | 57/100 [00:00<00:00, 264.64it/s]

 84%|████████▍ | 84/100 [00:00<00:00, 258.01it/s]

                                                 
Models:  20%|██        | 2/10 [00:00<00:02,  2.89it/s]

  0%|          | 0/100 [00:00<?, ?it/s]

 27%|██▋       | 27/100 [00:00<00:00, 261.57it/s]

 54%|█████▍    | 54/100 [00:00<00:00, 248.82it/s]

 79%|███████▉  | 79/100 [00:00<00:00, 247.37it/s]

                                                 
Models:  30%|███       | 3/10 [00:01<00:02,  2.66it/s]

  0%|          | 0/100 [00:00<?, ?it/s]

 21%|██        | 21/100 [00:00<00:00, 208.51it/s]

 42%|████▏     | 42/100 [00:00<00:00, 207.75it/s]

 64%|██████▍   | 64/100 [00:00<00:00, 210.84it/s]

 87%|████████▋ | 87/100 [00:00<00:00, 216.96it/s]

                                                 
Models:  40%|████      | 4/10 [00:01<00:02,  2.43it/s]

  0%|          | 0/100 [00:00<?, ?it/s]

 25%|██▌       | 25/100 [00:00<00:00, 241.11it/s]

 50%|█████     | 50/100 [00:00<00:00, 235.04it/s]

 74%|███████▍  | 74/100 [00:00<00:00, 231.57it/s]

 98%|█████████▊| 98/100 [00:00<00:00, 232.07it/s]

                                                 
Models:  50%|█████     | 5/10 [00:01<00:02,  2.38it/s]

  0%|          | 0/100 [00:00<?, ?it/s]

 24%|██▍       | 24/100 [00:00<00:00, 237.57it/s]

 48%|████▊     | 48/100 [00:00<00:00, 238.67it/s]

 72%|███████▏  | 72/100 [00:00<00:00, 233.40it/s]

 96%|█████████▌| 96/100 [00:00<00:00, 230.30it/s]

                                                 
Models:  60%|██████    | 6/10 [00:02<00:01,  2.35it/s]

  0%|          | 0/100 [00:00<?, ?it/s]

 26%|██▌       | 26/100 [00:00<00:00, 253.80it/s]

 52%|█████▏    | 52/100 [00:00<00:00, 248.02it/s]

 77%|███████▋  | 77/100 [00:00<00:00, 245.29it/s]

                                                 
Models:  70%|███████   | 7/10 [00:02<00:01,  2.36it/s]

  0%|          | 0/100 [00:00<?, ?it/s]

 26%|██▌       | 26/100 [00:00<00:00, 253.54it/s]

 52%|█████▏    | 52/100 [00:00<00:00, 238.84it/s]

 76%|███████▌  | 76/100 [00:00<00:00, 238.55it/s]

                                                 
Models:  80%|████████  | 8/10 [00:03<00:00,  2.37it/s]

  0%|          | 0/100 [00:00<?, ?it/s]

 27%|██▋       | 27/100 [00:00<00:00, 264.83it/s]

 54%|█████▍    | 54/100 [00:00<00:00, 258.56it/s]

 80%|████████  | 80/100 [00:00<00:00, 207.83it/s]

                                                 
Models:  90%|█████████ | 9/10 [00:03<00:00,  2.32it/s]

  0%|          | 0/100 [00:00<?, ?it/s]

 28%|██▊       | 28/100 [00:00<00:00, 279.58it/s]

 56%|█████▌    | 56/100 [00:00<00:00, 276.57it/s]

 84%|████████▍ | 84/100 [00:00<00:00, 268.80it/s]

                                                 
Models: 100%|██████████| 10/10 [00:04<00:00,  2.43it/s]
Models: 100%|██████████| 10/10 [00:04<00:00,  2.45it/s]

Models:   0%|          | 0/10 [00:00<?, ?it/s]

  0%|          | 0/100 [00:00<?, ?it/s]

 38%|███▊      | 38/100 [00:00<00:00, 369.08it/s]

 75%|███████▌  | 75/100 [00:00<00:00, 351.57it/s]

                                                 
Models:  10%|█         | 1/10 [00:00<00:02,  3.54it/s]

  0%|          | 0/100 [00:00<?, ?it/s]

 30%|███       | 30/100 [00:00<00:00, 293.31it/s]

 60%|██████    | 60/100 [00:00<00:00, 266.85it/s]

 87%|████████▋ | 87/100 [00:00<00:00, 261.36it/s]

                                                 
Models:  20%|██        | 2/10 [00:00<00:02,  2.92it/s]

  0%|          | 0/100 [00:00<?, ?it/s]

 30%|███       | 30/100 [00:00<00:00, 288.99it/s]

 59%|█████▉    | 59/100 [00:00<00:00, 251.18it/s]

 85%|████████▌ | 85/100 [00:00<00:00, 248.67it/s]

                                                 
Models:  30%|███       | 3/10 [00:01<00:02,  2.69it/s]

  0%|          | 0/100 [00:00<?, ?it/s]

 28%|██▊       | 28/100 [00:00<00:00, 278.08it/s]

 56%|█████▌    | 56/100 [00:00<00:00, 247.72it/s]

 81%|████████  | 81/100 [00:00<00:00, 243.40it/s]

                                                 
Models:  40%|████      | 4/10 [00:01<00:02,  2.58it/s]

  0%|          | 0/100 [00:00<?, ?it/s]

 28%|██▊       | 28/100 [00:00<00:00, 271.54it/s]

 56%|█████▌    | 56/100 [00:00<00:00, 239.77it/s]

 81%|████████  | 81/100 [00:00<00:00, 232.01it/s]

                                                 
Models:  50%|█████     | 5/10 [00:01<00:02,  2.47it/s]

  0%|          | 0/100 [00:00<?, ?it/s]

 28%|██▊       | 28/100 [00:00<00:00, 272.97it/s]

 56%|█████▌    | 56/100 [00:00<00:00, 241.49it/s]

 81%|████████  | 81/100 [00:00<00:00, 233.03it/s]

                                                 
Models:  60%|██████    | 6/10 [00:02<00:01,  2.44it/s]

  0%|          | 0/100 [00:00<?, ?it/s]

 28%|██▊       | 28/100 [00:00<00:00, 271.25it/s]

 56%|█████▌    | 56/100 [00:00<00:00, 243.16it/s]

 81%|████████  | 81/100 [00:00<00:00, 236.40it/s]

                                                 
Models:  70%|███████   | 7/10 [00:02<00:01,  2.42it/s]

  0%|          | 0/100 [00:00<?, ?it/s]

 27%|██▋       | 27/100 [00:00<00:00, 263.52it/s]

 54%|█████▍    | 54/100 [00:00<00:00, 242.39it/s]

 79%|███████▉  | 79/100 [00:00<00:00, 234.67it/s]

                                                 
Models:  80%|████████  | 8/10 [00:03<00:00,  2.40it/s]

  0%|          | 0/100 [00:00<?, ?it/s]

 29%|██▉       | 29/100 [00:00<00:00, 279.10it/s]

 57%|█████▋    | 57/100 [00:00<00:00, 256.28it/s]

 83%|████████▎ | 83/100 [00:00<00:00, 254.38it/s]

                                                 
Models:  90%|█████████ | 9/10 [00:03<00:00,  2.45it/s]

  0%|          | 0/100 [00:00<?, ?it/s]

 29%|██▉       | 29/100 [00:00<00:00, 285.13it/s]

 58%|█████▊    | 58/100 [00:00<00:00, 268.16it/s]

 85%|████████▌ | 85/100 [00:00<00:00, 263.41it/s]

                                                 
Models: 100%|██████████| 10/10 [00:03<00:00,  2.50it/s]
Models: 100%|██████████| 10/10 [00:03<00:00,  2.53it/s]
/Users/biocbuild/Library/Caches/org.R-project.R/R/basilisk/1.18.0/spatialDE/1.12.0/env/lib/python3.10/site-packages/pandas/core/internals/blocks.py:351: RuntimeWarning: invalid value encountered in log
  result = func(self.values, **kwargs)

Models:   0%|          | 0/10 [00:00<?, ?it/s]

  0%|          | 0/100 [00:00<?, ?it/s]

 36%|███▌      | 36/100 [00:00<00:00, 351.12it/s]

 74%|███████▍  | 74/100 [00:00<00:00, 365.97it/s]

                                                 
Models:  10%|█         | 1/10 [00:00<00:02,  3.64it/s]

  0%|          | 0/100 [00:00<?, ?it/s]

 31%|███       | 31/100 [00:00<00:00, 302.90it/s]

 62%|██████▏   | 62/100 [00:00<00:00, 276.74it/s]

 90%|█████████ | 90/100 [00:00<00:00, 276.18it/s]

                                                 
Models:  20%|██        | 2/10 [00:00<00:02,  3.06it/s]

  0%|          | 0/100 [00:00<?, ?it/s]

 28%|██▊       | 28/100 [00:00<00:00, 272.92it/s]

 56%|█████▌    | 56/100 [00:00<00:00, 255.75it/s]

 82%|████████▏ | 82/100 [00:00<00:00, 251.75it/s]

                                                 
Models:  30%|███       | 3/10 [00:01<00:02,  2.80it/s]

  0%|          | 0/100 [00:00<?, ?it/s]

 27%|██▋       | 27/100 [00:00<00:00, 267.71it/s]

 54%|█████▍    | 54/100 [00:00<00:00, 249.97it/s]

 80%|████████  | 80/100 [00:00<00:00, 242.92it/s]

                                                 
Models:  40%|████      | 4/10 [00:01<00:02,  2.65it/s]

  0%|          | 0/100 [00:00<?, ?it/s]

 26%|██▌       | 26/100 [00:00<00:00, 251.12it/s]

 52%|█████▏    | 52/100 [00:00<00:00, 240.77it/s]

 77%|███████▋  | 77/100 [00:00<00:00, 237.38it/s]

                                                 
Models:  50%|█████     | 5/10 [00:01<00:01,  2.57it/s]

  0%|          | 0/100 [00:00<?, ?it/s]

 27%|██▋       | 27/100 [00:00<00:00, 259.62it/s]

 53%|█████▎    | 53/100 [00:00<00:00, 241.52it/s]

 78%|███████▊  | 78/100 [00:00<00:00, 235.84it/s]

                                                 
Models:  60%|██████    | 6/10 [00:02<00:01,  2.49it/s]

  0%|          | 0/100 [00:00<?, ?it/s]

 27%|██▋       | 27/100 [00:00<00:00, 261.24it/s]

 54%|█████▍    | 54/100 [00:00<00:00, 251.85it/s]

 80%|████████  | 80/100 [00:00<00:00, 241.52it/s]

                                                 
Models:  70%|███████   | 7/10 [00:02<00:01,  2.47it/s]

  0%|          | 0/100 [00:00<?, ?it/s]

 28%|██▊       | 28/100 [00:00<00:00, 274.59it/s]

 56%|█████▌    | 56/100 [00:00<00:00, 246.71it/s]

 81%|████████  | 81/100 [00:00<00:00, 241.18it/s]

                                                 
Models:  80%|████████  | 8/10 [00:03<00:00,  2.47it/s]

  0%|          | 0/100 [00:00<?, ?it/s]

 29%|██▉       | 29/100 [00:00<00:00, 284.67it/s]

 58%|█████▊    | 58/100 [00:00<00:00, 253.22it/s]

 85%|████████▌ | 85/100 [00:00<00:00, 256.76it/s]

                                                 
Models:  90%|█████████ | 9/10 [00:03<00:00,  2.51it/s]

  0%|          | 0/100 [00:00<?, ?it/s]

 30%|███       | 30/100 [00:00<00:00, 292.76it/s]

 60%|██████    | 60/100 [00:00<00:00, 282.14it/s]

 89%|████████▉ | 89/100 [00:00<00:00, 280.22it/s]

                                                 
Models: 100%|██████████| 10/10 [00:03<00:00,  2.59it/s]
Models: 100%|██████████| 10/10 [00:03<00:00,  2.61it/s]

Models:   0%|          | 0/10 [00:00<?, ?it/s]

  0%|          | 0/100 [00:00<?, ?it/s]

 36%|███▌      | 36/100 [00:00<00:00, 354.69it/s]

 76%|███████▌  | 76/100 [00:00<00:00, 377.57it/s]

                                                 
Models:  10%|█         | 1/10 [00:00<00:02,  3.71it/s]

  0%|          | 0/100 [00:00<?, ?it/s]

 31%|███       | 31/100 [00:00<00:00, 304.61it/s]

 62%|██████▏   | 62/100 [00:00<00:00, 275.97it/s]

 90%|█████████ | 90/100 [00:00<00:00, 273.64it/s]

                                                 
Models:  20%|██        | 2/10 [00:00<00:02,  3.06it/s]

  0%|          | 0/100 [00:00<?, ?it/s]

 28%|██▊       | 28/100 [00:00<00:00, 272.25it/s]

 56%|█████▌    | 56/100 [00:00<00:00, 256.68it/s]

 82%|████████▏ | 82/100 [00:00<00:00, 253.06it/s]

                                                 
Models:  30%|███       | 3/10 [00:01<00:02,  2.80it/s]

  0%|          | 0/100 [00:00<?, ?it/s]

 26%|██▌       | 26/100 [00:00<00:00, 257.99it/s]

 52%|█████▏    | 52/100 [00:00<00:00, 225.68it/s]

 76%|███████▌  | 76/100 [00:00<00:00, 225.37it/s]

                                                 
Models:  40%|████      | 4/10 [00:01<00:02,  2.58it/s]

  0%|          | 0/100 [00:00<?, ?it/s]

 27%|██▋       | 27/100 [00:00<00:00, 267.76it/s]

 54%|█████▍    | 54/100 [00:00<00:00, 253.14it/s]

 80%|████████  | 80/100 [00:00<00:00, 243.91it/s]

                                                 
Models:  50%|█████     | 5/10 [00:01<00:01,  2.53it/s]

  0%|          | 0/100 [00:00<?, ?it/s]

 27%|██▋       | 27/100 [00:00<00:00, 261.79it/s]

 54%|█████▍    | 54/100 [00:00<00:00, 246.21it/s]

 79%|███████▉  | 79/100 [00:00<00:00, 242.11it/s]

                                                 
Models:  60%|██████    | 6/10 [00:02<00:01,  2.50it/s]

  0%|          | 0/100 [00:00<?, ?it/s]

 27%|██▋       | 27/100 [00:00<00:00, 260.43it/s]

 54%|█████▍    | 54/100 [00:00<00:00, 255.13it/s]

 80%|████████  | 80/100 [00:00<00:00, 251.86it/s]

                                                 
Models:  70%|███████   | 7/10 [00:02<00:01,  2.51it/s]

  0%|          | 0/100 [00:00<?, ?it/s]

 28%|██▊       | 28/100 [00:00<00:00, 279.73it/s]

 56%|█████▌    | 56/100 [00:00<00:00, 248.34it/s]

 82%|████████▏ | 82/100 [00:00<00:00, 248.13it/s]

                                                 
Models:  80%|████████  | 8/10 [00:03<00:00,  2.50it/s]

  0%|          | 0/100 [00:00<?, ?it/s]

 30%|███       | 30/100 [00:00<00:00, 287.42it/s]

 59%|█████▉    | 59/100 [00:00<00:00, 267.36it/s]

 86%|████████▌ | 86/100 [00:00<00:00, 266.16it/s]

                                                 
Models:  90%|█████████ | 9/10 [00:03<00:00,  2.55it/s]

  0%|          | 0/100 [00:00<?, ?it/s]

 29%|██▉       | 29/100 [00:00<00:00, 287.76it/s]

 58%|█████▊    | 58/100 [00:00<00:00, 280.80it/s]

 87%|████████▋ | 87/100 [00:00<00:00, 274.06it/s]

                                                 
Models: 100%|██████████| 10/10 [00:03<00:00,  2.61it/s]
Models: 100%|██████████| 10/10 [00:03<00:00,  2.62it/s]

Models:   0%|          | 0/10 [00:00<?, ?it/s]

  0%|          | 0/100 [00:00<?, ?it/s]

 35%|███▌      | 35/100 [00:00<00:00, 339.38it/s]

 76%|███████▌  | 76/100 [00:00<00:00, 376.60it/s]

                                                 
Models:  10%|█         | 1/10 [00:00<00:02,  3.68it/s]

  0%|          | 0/100 [00:00<?, ?it/s]

 31%|███       | 31/100 [00:00<00:00, 307.96it/s]

 62%|██████▏   | 62/100 [00:00<00:00, 282.37it/s]

 91%|█████████ | 91/100 [00:00<00:00, 277.14it/s]

                                                 
Models:  20%|██        | 2/10 [00:00<00:02,  3.08it/s]

  0%|          | 0/100 [00:00<?, ?it/s]

 29%|██▉       | 29/100 [00:00<00:00, 281.75it/s]

 58%|█████▊    | 58/100 [00:00<00:00, 258.22it/s]

 84%|████████▍ | 84/100 [00:00<00:00, 254.57it/s]

                                                 
Models:  30%|███       | 3/10 [00:01<00:02,  2.83it/s]

  0%|          | 0/100 [00:00<?, ?it/s]

 28%|██▊       | 28/100 [00:00<00:00, 269.08it/s]

 55%|█████▌    | 55/100 [00:00<00:00, 251.24it/s]

 81%|████████  | 81/100 [00:00<00:00, 249.67it/s]

                                                 
Models:  40%|████      | 4/10 [00:01<00:02,  2.69it/s]

  0%|          | 0/100 [00:00<?, ?it/s]

 26%|██▌       | 26/100 [00:00<00:00, 259.53it/s]

 52%|█████▏    | 52/100 [00:00<00:00, 250.83it/s]

 78%|███████▊  | 78/100 [00:00<00:00, 248.56it/s]

                                                 
Models:  50%|█████     | 5/10 [00:01<00:01,  2.61it/s]

  0%|          | 0/100 [00:00<?, ?it/s]

 26%|██▌       | 26/100 [00:00<00:00, 259.40it/s]

 52%|█████▏    | 52/100 [00:00<00:00, 245.86it/s]

 77%|███████▋  | 77/100 [00:00<00:00, 240.37it/s]

                                                 
Models:  60%|██████    | 6/10 [00:02<00:01,  2.54it/s]

  0%|          | 0/100 [00:00<?, ?it/s]

 27%|██▋       | 27/100 [00:00<00:00, 268.40it/s]

 54%|█████▍    | 54/100 [00:00<00:00, 257.06it/s]

 80%|████████  | 80/100 [00:00<00:00, 250.94it/s]

                                                 
Models:  70%|███████   | 7/10 [00:02<00:01,  2.53it/s]

  0%|          | 0/100 [00:00<?, ?it/s]

 27%|██▋       | 27/100 [00:00<00:00, 268.80it/s]

 54%|█████▍    | 54/100 [00:00<00:00, 256.80it/s]

 80%|████████  | 80/100 [00:00<00:00, 251.07it/s]

                                                 
Models:  80%|████████  | 8/10 [00:03<00:00,  2.53it/s]

  0%|          | 0/100 [00:00<?, ?it/s]

 29%|██▉       | 29/100 [00:00<00:00, 288.25it/s]

 58%|█████▊    | 58/100 [00:00<00:00, 262.13it/s]

 85%|████████▌ | 85/100 [00:00<00:00, 259.78it/s]

                                                 
Models:  90%|█████████ | 9/10 [00:03<00:00,  2.54it/s]

  0%|          | 0/100 [00:00<?, ?it/s]

 29%|██▉       | 29/100 [00:00<00:00, 287.58it/s]

 58%|█████▊    | 58/100 [00:00<00:00, 283.05it/s]

 87%|████████▋ | 87/100 [00:00<00:00, 278.10it/s]

                                                 
Models: 100%|██████████| 10/10 [00:03<00:00,  2.61it/s]
Models: 100%|██████████| 10/10 [00:03<00:00,  2.64it/s]
[ FAIL 0 | WARN 0 | SKIP 0 | PASS 29 ]
> 
> proc.time()
   user  system elapsed 
 56.952   2.629  60.902 

Example timings

spatialDE.Rcheck/spatialDE-Ex.timings

nameusersystemelapsed
FSV_sig 6.487 1.98611.990
mockSVG0.2300.0580.295
modelSearch1.8350.3191.982
model_search1.7460.3602.017
multiGenePlots1.8190.2241.968
regress_out0.1350.0070.143
run0.9090.1871.003
spatialDE0.9900.1471.106
spatialPatterns0.9560.2771.245
spatial_patterns19.880 3.51619.396
stabilize0.0650.0040.069