Back to Multiple platform build/check report for BioC 3.20:   simplified   long
ABCDEFGHIJKLMNOPQR[S]TUVWXYZ

This page was generated on 2025-02-06 12:12 -0500 (Thu, 06 Feb 2025).

HostnameOSArch (*)R versionInstalled pkgs
nebbiolo2Linux (Ubuntu 24.04.1 LTS)x86_644.4.2 (2024-10-31) -- "Pile of Leaves" 4753
palomino8Windows Server 2022 Datacenterx644.4.2 (2024-10-31 ucrt) -- "Pile of Leaves" 4501
merida1macOS 12.7.5 Montereyx86_644.4.2 (2024-10-31) -- "Pile of Leaves" 4524
kjohnson1macOS 13.6.6 Venturaarm644.4.2 (2024-10-31) -- "Pile of Leaves" 4476
taishanLinux (openEuler 24.03 LTS)aarch644.4.2 (2024-10-31) -- "Pile of Leaves" 4407
Click on any hostname to see more info about the system (e.g. compilers)      (*) as reported by 'uname -p', except on Windows and Mac OS X

Package 2016/2289HostnameOS / ArchINSTALLBUILDCHECKBUILD BIN
spatialDE 1.12.0  (landing page)
Gabriele Sales
Snapshot Date: 2025-02-03 13:00 -0500 (Mon, 03 Feb 2025)
git_url: https://git.bioconductor.org/packages/spatialDE
git_branch: RELEASE_3_20
git_last_commit: 8d3fc1f
git_last_commit_date: 2024-10-29 11:03:13 -0500 (Tue, 29 Oct 2024)
nebbiolo2Linux (Ubuntu 24.04.1 LTS) / x86_64  OK    OK    OK  UNNEEDED, same version is already published
palomino8Windows Server 2022 Datacenter / x64  OK    OK    OK    OK  UNNEEDED, same version is already published
merida1macOS 12.7.5 Monterey / x86_64  OK    OK    OK    NA  
kjohnson1macOS 13.6.6 Ventura / arm64  OK    OK    OK    OK  UNNEEDED, same version is already published
taishanLinux (openEuler 24.03 LTS) / aarch64  OK    OK    OK  


CHECK results for spatialDE on taishan

To the developers/maintainers of the spatialDE package:
- Allow up to 24 hours (and sometimes 48 hours) for your latest push to git@git.bioconductor.org:packages/spatialDE.git to reflect on this report. See Troubleshooting Build Report for more information.
- Use the following Renviron settings to reproduce errors and warnings.
- If 'R CMD check' started to fail recently on the Linux builder(s) over a missing dependency, add the missing dependency to 'Suggests:' in your DESCRIPTION file. See Renviron.bioc for more information.
- See Martin Grigorov's blog post for how to debug Linux ARM64 related issues on a x86_64 host.

raw results


Summary

Package: spatialDE
Version: 1.12.0
Command: /home/biocbuild/R/R/bin/R CMD check --install=check:spatialDE.install-out.txt --library=/home/biocbuild/R/R/site-library --no-vignettes --timings spatialDE_1.12.0.tar.gz
StartedAt: 2025-02-04 11:17:47 -0000 (Tue, 04 Feb 2025)
EndedAt: 2025-02-04 11:23:05 -0000 (Tue, 04 Feb 2025)
EllapsedTime: 318.4 seconds
RetCode: 0
Status:   OK  
CheckDir: spatialDE.Rcheck
Warnings: 0

Command output

##############################################################################
##############################################################################
###
### Running command:
###
###   /home/biocbuild/R/R/bin/R CMD check --install=check:spatialDE.install-out.txt --library=/home/biocbuild/R/R/site-library --no-vignettes --timings spatialDE_1.12.0.tar.gz
###
##############################################################################
##############################################################################


* using log directory ‘/home/biocbuild/bbs-3.20-bioc/meat/spatialDE.Rcheck’
* using R version 4.4.2 (2024-10-31)
* using platform: aarch64-unknown-linux-gnu
* R was compiled by
    aarch64-unknown-linux-gnu-gcc (GCC) 14.2.0
    GNU Fortran (GCC) 12.3.1 (openEuler 12.3.1-36.oe2403)
* running under: openEuler 24.03 (LTS)
* using session charset: UTF-8
* using option ‘--no-vignettes’
* checking for file ‘spatialDE/DESCRIPTION’ ... OK
* this is package ‘spatialDE’ version ‘1.12.0’
* package encoding: UTF-8
* checking package namespace information ... OK
* checking package dependencies ... OK
* checking if this is a source package ... OK
* checking if there is a namespace ... OK
* checking for hidden files and directories ... OK
* checking for portable file names ... OK
* checking for sufficient/correct file permissions ... OK
* checking whether package ‘spatialDE’ can be installed ... NOTE
Found the following notes/warnings:
  Non-staged installation was used
See ‘/home/biocbuild/bbs-3.20-bioc/meat/spatialDE.Rcheck/00install.out’ for details.
* checking installed package size ... OK
* checking package directory ... OK
* checking ‘build’ directory ... OK
* checking DESCRIPTION meta-information ... OK
* checking top-level files ... OK
* checking for left-over files ... OK
* checking index information ... OK
* checking package subdirectories ... OK
* checking code files for non-ASCII characters ... OK
* checking R files for syntax errors ... OK
* checking whether the package can be loaded ... OK
* checking whether the package can be loaded with stated dependencies ... OK
* checking whether the package can be unloaded cleanly ... OK
* checking whether the namespace can be loaded with stated dependencies ... OK
* checking whether the namespace can be unloaded cleanly ... OK
* checking loading without being on the library search path ... OK
* checking dependencies in R code ... OK
* checking S3 generic/method consistency ... OK
* checking replacement functions ... OK
* checking foreign function calls ... OK
* checking R code for possible problems ... OK
* checking Rd files ... OK
* checking Rd metadata ... OK
* checking Rd cross-references ... OK
* checking for missing documentation entries ... OK
* checking for code/documentation mismatches ... OK
* checking Rd \usage sections ... OK
* checking Rd contents ... OK
* checking for unstated dependencies in examples ... OK
* checking contents of ‘data’ directory ... OK
* checking data for non-ASCII characters ... OK
* checking data for ASCII and uncompressed saves ... OK
* checking line endings in shell scripts ... OK
* checking files in ‘vignettes’ ... OK
* checking examples ... OK
Examples with CPU (user + system) or elapsed time > 5s
                   user system elapsed
spatial_patterns 23.725  0.013  23.806
FSV_sig           5.396  0.476   7.010
* checking for unstated dependencies in ‘tests’ ... OK
* checking tests ...
  Running ‘testthat.R’
 OK
* checking for unstated dependencies in vignettes ... OK
* checking package vignettes ... OK
* checking running R code from vignettes ... SKIPPED
* checking re-building of vignette outputs ... SKIPPED
* checking PDF version of manual ... OK
* DONE

Status: 1 NOTE
See
  ‘/home/biocbuild/bbs-3.20-bioc/meat/spatialDE.Rcheck/00check.log’
for details.


Installation output

spatialDE.Rcheck/00install.out

##############################################################################
##############################################################################
###
### Running command:
###
###   /home/biocbuild/R/R/bin/R CMD INSTALL spatialDE
###
##############################################################################
##############################################################################


* installing to library ‘/home/biocbuild/R/R-4.4.2/site-library’
* installing *source* package ‘spatialDE’ ...
** using non-staged installation via StagedInstall field
** R
** data
** inst
** byte-compile and prepare package for lazy loading
** help
*** installing help indices
** building package indices
** installing vignettes
** testing if installed package can be loaded
* DONE (spatialDE)

Tests output

spatialDE.Rcheck/tests/testthat.Rout


R version 4.4.2 (2024-10-31) -- "Pile of Leaves"
Copyright (C) 2024 The R Foundation for Statistical Computing
Platform: aarch64-unknown-linux-gnu

R is free software and comes with ABSOLUTELY NO WARRANTY.
You are welcome to redistribute it under certain conditions.
Type 'license()' or 'licence()' for distribution details.

R is a collaborative project with many contributors.
Type 'contributors()' for more information and
'citation()' on how to cite R or R packages in publications.

Type 'demo()' for some demos, 'help()' for on-line help, or
'help.start()' for an HTML browser interface to help.
Type 'q()' to quit R.

> library(testthat)
> library(spatialDE)
> 
> test_check("spatialDE")
Loading required package: SingleCellExperiment
Loading required package: SummarizedExperiment
Loading required package: MatrixGenerics
Loading required package: matrixStats

Attaching package: 'MatrixGenerics'

The following objects are masked from 'package:matrixStats':

    colAlls, colAnyNAs, colAnys, colAvgsPerRowSet, colCollapse,
    colCounts, colCummaxs, colCummins, colCumprods, colCumsums,
    colDiffs, colIQRDiffs, colIQRs, colLogSumExps, colMadDiffs,
    colMads, colMaxs, colMeans2, colMedians, colMins, colOrderStats,
    colProds, colQuantiles, colRanges, colRanks, colSdDiffs, colSds,
    colSums2, colTabulates, colVarDiffs, colVars, colWeightedMads,
    colWeightedMeans, colWeightedMedians, colWeightedSds,
    colWeightedVars, rowAlls, rowAnyNAs, rowAnys, rowAvgsPerColSet,
    rowCollapse, rowCounts, rowCummaxs, rowCummins, rowCumprods,
    rowCumsums, rowDiffs, rowIQRDiffs, rowIQRs, rowLogSumExps,
    rowMadDiffs, rowMads, rowMaxs, rowMeans2, rowMedians, rowMins,
    rowOrderStats, rowProds, rowQuantiles, rowRanges, rowRanks,
    rowSdDiffs, rowSds, rowSums2, rowTabulates, rowVarDiffs, rowVars,
    rowWeightedMads, rowWeightedMeans, rowWeightedMedians,
    rowWeightedSds, rowWeightedVars

Loading required package: GenomicRanges
Loading required package: stats4
Loading required package: BiocGenerics

Attaching package: 'BiocGenerics'

The following objects are masked from 'package:stats':

    IQR, mad, sd, var, xtabs

The following objects are masked from 'package:base':

    Filter, Find, Map, Position, Reduce, anyDuplicated, aperm, append,
    as.data.frame, basename, cbind, colnames, dirname, do.call,
    duplicated, eval, evalq, get, grep, grepl, intersect, is.unsorted,
    lapply, mapply, match, mget, order, paste, pmax, pmax.int, pmin,
    pmin.int, rank, rbind, rownames, sapply, saveRDS, setdiff, table,
    tapply, union, unique, unsplit, which.max, which.min

Loading required package: S4Vectors

Attaching package: 'S4Vectors'

The following object is masked from 'package:utils':

    findMatches

The following objects are masked from 'package:base':

    I, expand.grid, unname

Loading required package: IRanges
Loading required package: GenomeInfoDb
Loading required package: Biobase
Welcome to Bioconductor

    Vignettes contain introductory material; view with
    'browseVignettes()'. To cite Bioconductor, see
    'citation("Biobase")', and for packages 'citation("pkgname")'.


Attaching package: 'Biobase'

The following object is masked from 'package:MatrixGenerics':

    rowMedians

The following objects are masked from 'package:matrixStats':

    anyMissing, rowMedians


Models:   0%|          | 0/10 [00:00<?, ?it/s]

  0%|          | 0/100 [00:00<?, ?it/s]

 26%|██▌       | 26/100 [00:00<00:00, 258.33it/s]

 52%|█████▏    | 52/100 [00:00<00:00, 247.22it/s]

 77%|███████▋  | 77/100 [00:00<00:00, 241.47it/s]

                                                 
Models:  10%|█         | 1/10 [00:00<00:03,  2.38it/s]

  0%|          | 0/100 [00:00<?, ?it/s]

 20%|██        | 20/100 [00:00<00:00, 193.56it/s]

 40%|████      | 40/100 [00:00<00:00, 179.28it/s]

 58%|█████▊    | 58/100 [00:00<00:00, 173.71it/s]

 77%|███████▋  | 77/100 [00:00<00:00, 178.36it/s]

 95%|█████████▌| 95/100 [00:00<00:00, 174.92it/s]

                                                 
Models:  20%|██        | 2/10 [00:00<00:04,  1.97it/s]

  0%|          | 0/100 [00:00<?, ?it/s]

 19%|█▉        | 19/100 [00:00<00:00, 184.33it/s]

 38%|███▊      | 38/100 [00:00<00:00, 169.60it/s]

 56%|█████▌    | 56/100 [00:00<00:00, 171.12it/s]

 74%|███████▍  | 74/100 [00:00<00:00, 171.83it/s]

 93%|█████████▎| 93/100 [00:00<00:00, 175.06it/s]

                                                 
Models:  30%|███       | 3/10 [00:01<00:03,  1.85it/s]

  0%|          | 0/100 [00:00<?, ?it/s]

 18%|█▊        | 18/100 [00:00<00:00, 173.54it/s]

 36%|███▌      | 36/100 [00:00<00:00, 165.78it/s]

 53%|█████▎    | 53/100 [00:00<00:00, 165.60it/s]

 70%|███████   | 70/100 [00:00<00:00, 163.25it/s]

 88%|████████▊ | 88/100 [00:00<00:00, 168.65it/s]

                                                 
Models:  40%|████      | 4/10 [00:02<00:03,  1.78it/s]

  0%|          | 0/100 [00:00<?, ?it/s]

 17%|█▋        | 17/100 [00:00<00:00, 167.29it/s]

 34%|███▍      | 34/100 [00:00<00:00, 162.84it/s]

 51%|█████     | 51/100 [00:00<00:00, 163.05it/s]

 68%|██████▊   | 68/100 [00:00<00:00, 162.02it/s]

 86%|████████▌ | 86/100 [00:00<00:00, 165.77it/s]

                                                 
Models:  50%|█████     | 5/10 [00:02<00:02,  1.72it/s]

  0%|          | 0/100 [00:00<?, ?it/s]

 17%|█▋        | 17/100 [00:00<00:00, 164.79it/s]

 34%|███▍      | 34/100 [00:00<00:00, 162.46it/s]

 51%|█████     | 51/100 [00:00<00:00, 165.38it/s]

 68%|██████▊   | 68/100 [00:00<00:00, 165.84it/s]

 86%|████████▌ | 86/100 [00:00<00:00, 169.25it/s]

                                                 
Models:  60%|██████    | 6/10 [00:03<00:02,  1.70it/s]

  0%|          | 0/100 [00:00<?, ?it/s]

 18%|█▊        | 18/100 [00:00<00:00, 176.10it/s]

 36%|███▌      | 36/100 [00:00<00:00, 172.46it/s]

 54%|█████▍    | 54/100 [00:00<00:00, 175.09it/s]

 72%|███████▏  | 72/100 [00:00<00:00, 174.63it/s]

 90%|█████████ | 90/100 [00:00<00:00, 176.01it/s]

                                                 
Models:  70%|███████   | 7/10 [00:03<00:01,  1.71it/s]

  0%|          | 0/100 [00:00<?, ?it/s]

 19%|█▉        | 19/100 [00:00<00:00, 180.68it/s]

 38%|███▊      | 38/100 [00:00<00:00, 175.62it/s]

 56%|█████▌    | 56/100 [00:00<00:00, 176.13it/s]

 74%|███████▍  | 74/100 [00:00<00:00, 176.76it/s]

 93%|█████████▎| 93/100 [00:00<00:00, 178.30it/s]

                                                 
Models:  80%|████████  | 8/10 [00:04<00:01,  1.73it/s]

  0%|          | 0/100 [00:00<?, ?it/s]

 19%|█▉        | 19/100 [00:00<00:00, 189.25it/s]

 38%|███▊      | 38/100 [00:00<00:00, 182.32it/s]

 57%|█████▋    | 57/100 [00:00<00:00, 180.27it/s]

 76%|███████▌  | 76/100 [00:00<00:00, 157.66it/s]

 95%|█████████▌| 95/100 [00:00<00:00, 164.88it/s]

                                                 
Models:  90%|█████████ | 9/10 [00:05<00:00,  1.71it/s]

  0%|          | 0/100 [00:00<?, ?it/s]

 20%|██        | 20/100 [00:00<00:00, 193.23it/s]

 40%|████      | 40/100 [00:00<00:00, 193.64it/s]

 60%|██████    | 60/100 [00:00<00:00, 190.33it/s]

 81%|████████  | 81/100 [00:00<00:00, 197.62it/s]

                                                 
Models: 100%|██████████| 10/10 [00:05<00:00,  1.78it/s]
Models: 100%|██████████| 10/10 [00:05<00:00,  1.77it/s]

Models:   0%|          | 0/10 [00:00<?, ?it/s]

  0%|          | 0/100 [00:00<?, ?it/s]

 30%|███       | 30/100 [00:00<00:00, 290.14it/s]

 60%|██████    | 60/100 [00:00<00:00, 269.70it/s]

 88%|████████▊ | 88/100 [00:00<00:00, 266.85it/s]

                                                 
Models:  10%|█         | 1/10 [00:00<00:03,  2.67it/s]

  0%|          | 0/100 [00:00<?, ?it/s]

 24%|██▍       | 24/100 [00:00<00:00, 239.08it/s]

 48%|████▊     | 48/100 [00:00<00:00, 198.59it/s]

 69%|██████▉   | 69/100 [00:00<00:00, 197.51it/s]

 89%|████████▉ | 89/100 [00:00<00:00, 193.28it/s]

                                                 
Models:  20%|██        | 2/10 [00:00<00:03,  2.20it/s]

  0%|          | 0/100 [00:00<?, ?it/s]

 23%|██▎       | 23/100 [00:00<00:00, 226.82it/s]

 46%|████▌     | 46/100 [00:00<00:00, 189.20it/s]

 66%|██████▌   | 66/100 [00:00<00:00, 186.83it/s]

 85%|████████▌ | 85/100 [00:00<00:00, 182.07it/s]

                                                 
Models:  30%|███       | 3/10 [00:01<00:03,  2.02it/s]

  0%|          | 0/100 [00:00<?, ?it/s]

 22%|██▏       | 22/100 [00:00<00:00, 213.34it/s]

 44%|████▍     | 44/100 [00:00<00:00, 184.18it/s]

 63%|██████▎   | 63/100 [00:00<00:00, 179.45it/s]

 82%|████████▏ | 82/100 [00:00<00:00, 178.25it/s]

100%|██████████| 100/100 [00:00<00:00, 174.81it/s]

                                                  
Models:  40%|████      | 4/10 [00:01<00:03,  1.92it/s]

  0%|          | 0/100 [00:00<?, ?it/s]

 22%|██▏       | 22/100 [00:00<00:00, 213.26it/s]

 44%|████▍     | 44/100 [00:00<00:00, 182.67it/s]

 63%|██████▎   | 63/100 [00:00<00:00, 177.03it/s]

 81%|████████  | 81/100 [00:00<00:00, 174.09it/s]

 99%|█████████▉| 99/100 [00:00<00:00, 172.35it/s]

                                                 
Models:  50%|█████     | 5/10 [00:02<00:02,  1.85it/s]

  0%|          | 0/100 [00:00<?, ?it/s]

 22%|██▏       | 22/100 [00:00<00:00, 214.99it/s]

 44%|████▍     | 44/100 [00:00<00:00, 186.79it/s]

 63%|██████▎   | 63/100 [00:00<00:00, 180.06it/s]

 82%|████████▏ | 82/100 [00:00<00:00, 177.19it/s]

100%|██████████| 100/100 [00:00<00:00, 175.91it/s]

                                                  
Models:  60%|██████    | 6/10 [00:03<00:02,  1.83it/s]

  0%|          | 0/100 [00:00<?, ?it/s]

 22%|██▏       | 22/100 [00:00<00:00, 217.22it/s]

 44%|████▍     | 44/100 [00:00<00:00, 189.31it/s]

 64%|██████▍   | 64/100 [00:00<00:00, 182.13it/s]

 83%|████████▎ | 83/100 [00:00<00:00, 180.25it/s]

                                                 
Models:  70%|███████   | 7/10 [00:03<00:01,  1.83it/s]

  0%|          | 0/100 [00:00<?, ?it/s]

 21%|██        | 21/100 [00:00<00:00, 208.58it/s]

 42%|████▏     | 42/100 [00:00<00:00, 185.21it/s]

 61%|██████    | 61/100 [00:00<00:00, 182.44it/s]

 80%|████████  | 80/100 [00:00<00:00, 178.17it/s]

 98%|█████████▊| 98/100 [00:00<00:00, 178.38it/s]

                                                 
Models:  80%|████████  | 8/10 [00:04<00:01,  1.82it/s]

  0%|          | 0/100 [00:00<?, ?it/s]

 22%|██▏       | 22/100 [00:00<00:00, 214.67it/s]

 44%|████▍     | 44/100 [00:00<00:00, 191.37it/s]

 64%|██████▍   | 64/100 [00:00<00:00, 186.13it/s]

 83%|████████▎ | 83/100 [00:00<00:00, 185.59it/s]

                                                 
Models:  90%|█████████ | 9/10 [00:04<00:00,  1.84it/s]

  0%|          | 0/100 [00:00<?, ?it/s]

 22%|██▏       | 22/100 [00:00<00:00, 219.60it/s]

 44%|████▍     | 44/100 [00:00<00:00, 198.78it/s]

 65%|██████▌   | 65/100 [00:00<00:00, 194.01it/s]

 85%|████████▌ | 85/100 [00:00<00:00, 195.06it/s]

                                                 
Models: 100%|██████████| 10/10 [00:05<00:00,  1.87it/s]
Models: 100%|██████████| 10/10 [00:05<00:00,  1.90it/s]
/home/biocbuild/.cache/R/basilisk/1.18.0/spatialDE/1.12.0/env/lib/python3.10/site-packages/pandas/core/internals/blocks.py:351: RuntimeWarning: invalid value encountered in log
  result = func(self.values, **kwargs)

Models:   0%|          | 0/10 [00:00<?, ?it/s]

  0%|          | 0/100 [00:00<?, ?it/s]

 27%|██▋       | 27/100 [00:00<00:00, 256.80it/s]

 53%|█████▎    | 53/100 [00:00<00:00, 253.65it/s]

 80%|████████  | 80/100 [00:00<00:00, 258.02it/s]

                                                 
Models:  10%|█         | 1/10 [00:00<00:03,  2.58it/s]

  0%|          | 0/100 [00:00<?, ?it/s]

 23%|██▎       | 23/100 [00:00<00:00, 225.64it/s]

 46%|████▌     | 46/100 [00:00<00:00, 205.82it/s]

 67%|██████▋   | 67/100 [00:00<00:00, 198.62it/s]

 87%|████████▋ | 87/100 [00:00<00:00, 190.89it/s]

                                                 
Models:  20%|██        | 2/10 [00:00<00:03,  2.16it/s]

  0%|          | 0/100 [00:00<?, ?it/s]

 21%|██        | 21/100 [00:00<00:00, 198.88it/s]

 41%|████      | 41/100 [00:00<00:00, 177.84it/s]

 59%|█████▉    | 59/100 [00:00<00:00, 173.80it/s]

 77%|███████▋  | 77/100 [00:00<00:00, 175.75it/s]

 96%|█████████▌| 96/100 [00:00<00:00, 176.60it/s]

                                                 
Models:  30%|███       | 3/10 [00:01<00:03,  1.97it/s]

  0%|          | 0/100 [00:00<?, ?it/s]

 20%|██        | 20/100 [00:00<00:00, 198.79it/s]

 40%|████      | 40/100 [00:00<00:00, 175.33it/s]

 58%|█████▊    | 58/100 [00:00<00:00, 170.54it/s]

 76%|███████▌  | 76/100 [00:00<00:00, 173.34it/s]

 94%|█████████▍| 94/100 [00:00<00:00, 171.92it/s]

                                                 
Models:  40%|████      | 4/10 [00:02<00:03,  1.86it/s]

  0%|          | 0/100 [00:00<?, ?it/s]

 20%|██        | 20/100 [00:00<00:00, 192.08it/s]

 40%|████      | 40/100 [00:00<00:00, 172.83it/s]

 58%|█████▊    | 58/100 [00:00<00:00, 169.16it/s]

 75%|███████▌  | 75/100 [00:00<00:00, 169.09it/s]

 92%|█████████▏| 92/100 [00:00<00:00, 169.36it/s]

                                                 
Models:  50%|█████     | 5/10 [00:02<00:02,  1.80it/s]

  0%|          | 0/100 [00:00<?, ?it/s]

 19%|█▉        | 19/100 [00:00<00:00, 186.92it/s]

 38%|███▊      | 38/100 [00:00<00:00, 162.77it/s]

 55%|█████▌    | 55/100 [00:00<00:00, 160.49it/s]

 72%|███████▏  | 72/100 [00:00<00:00, 158.13it/s]

 89%|████████▉ | 89/100 [00:00<00:00, 159.40it/s]

                                                 
Models:  60%|██████    | 6/10 [00:03<00:02,  1.73it/s]

  0%|          | 0/100 [00:00<?, ?it/s]

 20%|██        | 20/100 [00:00<00:00, 192.72it/s]

 40%|████      | 40/100 [00:00<00:00, 178.88it/s]

 58%|█████▊    | 58/100 [00:00<00:00, 170.23it/s]

 76%|███████▌  | 76/100 [00:00<00:00, 170.27it/s]

 94%|█████████▍| 94/100 [00:00<00:00, 172.30it/s]

                                                 
Models:  70%|███████   | 7/10 [00:03<00:01,  1.73it/s]

  0%|          | 0/100 [00:00<?, ?it/s]

 20%|██        | 20/100 [00:00<00:00, 195.71it/s]

 40%|████      | 40/100 [00:00<00:00, 175.63it/s]

 58%|█████▊    | 58/100 [00:00<00:00, 169.40it/s]

 76%|███████▌  | 76/100 [00:00<00:00, 168.88it/s]

 93%|█████████▎| 93/100 [00:00<00:00, 169.00it/s]

                                                 
Models:  80%|████████  | 8/10 [00:04<00:01,  1.72it/s]

  0%|          | 0/100 [00:00<?, ?it/s]

 21%|██        | 21/100 [00:00<00:00, 200.65it/s]

 42%|████▏     | 42/100 [00:00<00:00, 178.75it/s]

 61%|██████    | 61/100 [00:00<00:00, 173.57it/s]

 79%|███████▉  | 79/100 [00:00<00:00, 174.44it/s]

 97%|█████████▋| 97/100 [00:00<00:00, 174.31it/s]

                                                 
Models:  90%|█████████ | 9/10 [00:04<00:00,  1.73it/s]

  0%|          | 0/100 [00:00<?, ?it/s]

 20%|██        | 20/100 [00:00<00:00, 194.29it/s]

 40%|████      | 40/100 [00:00<00:00, 193.31it/s]

 60%|██████    | 60/100 [00:00<00:00, 191.08it/s]

 80%|████████  | 80/100 [00:00<00:00, 188.55it/s]

100%|██████████| 100/100 [00:00<00:00, 189.00it/s]

                                                  
Models: 100%|██████████| 10/10 [00:05<00:00,  1.77it/s]
Models: 100%|██████████| 10/10 [00:05<00:00,  1.81it/s]

Models:   0%|          | 0/10 [00:00<?, ?it/s]

  0%|          | 0/100 [00:00<?, ?it/s]

 26%|██▌       | 26/100 [00:00<00:00, 257.87it/s]

 52%|█████▏    | 52/100 [00:00<00:00, 244.74it/s]

 78%|███████▊  | 78/100 [00:00<00:00, 251.35it/s]

                                                 
Models:  10%|█         | 1/10 [00:00<00:03,  2.50it/s]

  0%|          | 0/100 [00:00<?, ?it/s]

 22%|██▏       | 22/100 [00:00<00:00, 209.22it/s]

 43%|████▎     | 43/100 [00:00<00:00, 198.31it/s]

 63%|██████▎   | 63/100 [00:00<00:00, 191.92it/s]

 83%|████████▎ | 83/100 [00:00<00:00, 188.15it/s]

                                                 
Models:  20%|██        | 2/10 [00:00<00:03,  2.11it/s]

  0%|          | 0/100 [00:00<?, ?it/s]

 21%|██        | 21/100 [00:00<00:00, 202.49it/s]

 42%|████▏     | 42/100 [00:00<00:00, 182.14it/s]

 61%|██████    | 61/100 [00:00<00:00, 172.36it/s]

 79%|███████▉  | 79/100 [00:00<00:00, 172.59it/s]

 98%|█████████▊| 98/100 [00:00<00:00, 175.36it/s]

                                                 
Models:  30%|███       | 3/10 [00:01<00:03,  1.93it/s]

  0%|          | 0/100 [00:00<?, ?it/s]

 20%|██        | 20/100 [00:00<00:00, 193.17it/s]

 40%|████      | 40/100 [00:00<00:00, 169.11it/s]

 58%|█████▊    | 58/100 [00:00<00:00, 164.42it/s]

 76%|███████▌  | 76/100 [00:00<00:00, 167.14it/s]

 93%|█████████▎| 93/100 [00:00<00:00, 165.91it/s]

                                                 
Models:  40%|████      | 4/10 [00:02<00:03,  1.82it/s]

  0%|          | 0/100 [00:00<?, ?it/s]

 20%|██        | 20/100 [00:00<00:00, 187.24it/s]

 39%|███▉      | 39/100 [00:00<00:00, 171.83it/s]

 57%|█████▋    | 57/100 [00:00<00:00, 169.77it/s]

 75%|███████▌  | 75/100 [00:00<00:00, 168.81it/s]

 93%|█████████▎| 93/100 [00:00<00:00, 170.11it/s]

                                                 
Models:  50%|█████     | 5/10 [00:02<00:02,  1.78it/s]

  0%|          | 0/100 [00:00<?, ?it/s]

 20%|██        | 20/100 [00:00<00:00, 193.51it/s]

 40%|████      | 40/100 [00:00<00:00, 177.24it/s]

 58%|█████▊    | 58/100 [00:00<00:00, 173.06it/s]

 76%|███████▌  | 76/100 [00:00<00:00, 172.91it/s]

 94%|█████████▍| 94/100 [00:00<00:00, 174.53it/s]

                                                 
Models:  60%|██████    | 6/10 [00:03<00:02,  1.76it/s]

  0%|          | 0/100 [00:00<?, ?it/s]

 20%|██        | 20/100 [00:00<00:00, 196.99it/s]

 40%|████      | 40/100 [00:00<00:00, 182.06it/s]

 59%|█████▉    | 59/100 [00:00<00:00, 175.54it/s]

 77%|███████▋  | 77/100 [00:00<00:00, 174.54it/s]

 95%|█████████▌| 95/100 [00:00<00:00, 176.10it/s]

                                                 
Models:  70%|███████   | 7/10 [00:03<00:01,  1.76it/s]

  0%|          | 0/100 [00:00<?, ?it/s]

 21%|██        | 21/100 [00:00<00:00, 201.10it/s]

 42%|████▏     | 42/100 [00:00<00:00, 182.46it/s]

 61%|██████    | 61/100 [00:00<00:00, 176.28it/s]

 79%|███████▉  | 79/100 [00:00<00:00, 175.35it/s]

 98%|█████████▊| 98/100 [00:00<00:00, 177.93it/s]

                                                 
Models:  80%|████████  | 8/10 [00:04<00:01,  1.77it/s]

  0%|          | 0/100 [00:00<?, ?it/s]

 22%|██▏       | 22/100 [00:00<00:00, 211.06it/s]

 44%|████▍     | 44/100 [00:00<00:00, 190.40it/s]

 64%|██████▍   | 64/100 [00:00<00:00, 185.80it/s]

 83%|████████▎ | 83/100 [00:00<00:00, 183.30it/s]

                                                 
Models:  90%|█████████ | 9/10 [00:04<00:00,  1.79it/s]

  0%|          | 0/100 [00:00<?, ?it/s]

 21%|██        | 21/100 [00:00<00:00, 202.85it/s]

 42%|████▏     | 42/100 [00:00<00:00, 206.35it/s]

 63%|██████▎   | 63/100 [00:00<00:00, 201.29it/s]

 84%|████████▍ | 84/100 [00:00<00:00, 196.01it/s]

                                                 
Models: 100%|██████████| 10/10 [00:05<00:00,  1.84it/s]
Models: 100%|██████████| 10/10 [00:05<00:00,  1.84it/s]

Models:   0%|          | 0/10 [00:00<?, ?it/s]

  0%|          | 0/100 [00:00<?, ?it/s]

 27%|██▋       | 27/100 [00:00<00:00, 263.08it/s]

 54%|█████▍    | 54/100 [00:00<00:00, 256.12it/s]

 81%|████████  | 81/100 [00:00<00:00, 260.37it/s]

                                                 
Models:  10%|█         | 1/10 [00:00<00:03,  2.61it/s]

  0%|          | 0/100 [00:00<?, ?it/s]

 23%|██▎       | 23/100 [00:00<00:00, 227.52it/s]

 46%|████▌     | 46/100 [00:00<00:00, 205.77it/s]

 67%|██████▋   | 67/100 [00:00<00:00, 197.27it/s]

 87%|████████▋ | 87/100 [00:00<00:00, 190.74it/s]

                                                 
Models:  20%|██        | 2/10 [00:00<00:03,  2.18it/s]

  0%|          | 0/100 [00:00<?, ?it/s]

 21%|██        | 21/100 [00:00<00:00, 207.76it/s]

 42%|████▏     | 42/100 [00:00<00:00, 187.38it/s]

 61%|██████    | 61/100 [00:00<00:00, 177.06it/s]

 79%|███████▉  | 79/100 [00:00<00:00, 177.13it/s]

 98%|█████████▊| 98/100 [00:00<00:00, 180.55it/s]

                                                 
Models:  30%|███       | 3/10 [00:01<00:03,  1.99it/s]

  0%|          | 0/100 [00:00<?, ?it/s]

 20%|██        | 20/100 [00:00<00:00, 199.00it/s]

 40%|████      | 40/100 [00:00<00:00, 174.53it/s]

 58%|█████▊    | 58/100 [00:00<00:00, 170.47it/s]

 76%|███████▌  | 76/100 [00:00<00:00, 172.68it/s]

 94%|█████████▍| 94/100 [00:00<00:00, 171.82it/s]

                                                 
Models:  40%|████      | 4/10 [00:02<00:03,  1.87it/s]

  0%|          | 0/100 [00:00<?, ?it/s]

 20%|██        | 20/100 [00:00<00:00, 187.62it/s]

 39%|███▉      | 39/100 [00:00<00:00, 171.84it/s]

 57%|█████▋    | 57/100 [00:00<00:00, 168.28it/s]

 74%|███████▍  | 74/100 [00:00<00:00, 167.71it/s]

 92%|█████████▏| 92/100 [00:00<00:00, 168.49it/s]

                                                 
Models:  50%|█████     | 5/10 [00:02<00:02,  1.80it/s]

  0%|          | 0/100 [00:00<?, ?it/s]

 20%|██        | 20/100 [00:00<00:00, 188.75it/s]

 39%|███▉      | 39/100 [00:00<00:00, 170.62it/s]

 57%|█████▋    | 57/100 [00:00<00:00, 165.16it/s]

 74%|███████▍  | 74/100 [00:00<00:00, 165.43it/s]

 91%|█████████ | 91/100 [00:00<00:00, 166.25it/s]

                                                 
Models:  60%|██████    | 6/10 [00:03<00:02,  1.76it/s]

  0%|          | 0/100 [00:00<?, ?it/s]

 20%|██        | 20/100 [00:00<00:00, 194.73it/s]

 40%|████      | 40/100 [00:00<00:00, 181.07it/s]

 59%|█████▉    | 59/100 [00:00<00:00, 173.48it/s]

 77%|███████▋  | 77/100 [00:00<00:00, 172.66it/s]

 95%|█████████▌| 95/100 [00:00<00:00, 174.17it/s]

                                                 
Models:  70%|███████   | 7/10 [00:03<00:01,  1.75it/s]

  0%|          | 0/100 [00:00<?, ?it/s]

 20%|██        | 20/100 [00:00<00:00, 197.79it/s]

 40%|████      | 40/100 [00:00<00:00, 180.13it/s]

 59%|█████▉    | 59/100 [00:00<00:00, 174.64it/s]

 77%|███████▋  | 77/100 [00:00<00:00, 173.51it/s]

 95%|█████████▌| 95/100 [00:00<00:00, 174.87it/s]

                                                 
Models:  80%|████████  | 8/10 [00:04<00:01,  1.75it/s]

  0%|          | 0/100 [00:00<?, ?it/s]

 21%|██        | 21/100 [00:00<00:00, 209.64it/s]

 42%|████▏     | 42/100 [00:00<00:00, 189.02it/s]

 62%|██████▏   | 62/100 [00:00<00:00, 181.11it/s]

 81%|████████  | 81/100 [00:00<00:00, 179.48it/s]

100%|██████████| 100/100 [00:00<00:00, 179.34it/s]

                                                  
Models:  90%|█████████ | 9/10 [00:04<00:00,  1.77it/s]

  0%|          | 0/100 [00:00<?, ?it/s]

 20%|██        | 20/100 [00:00<00:00, 198.61it/s]

 40%|████      | 40/100 [00:00<00:00, 198.73it/s]

 60%|██████    | 60/100 [00:00<00:00, 196.24it/s]

 80%|████████  | 80/100 [00:00<00:00, 192.37it/s]

100%|██████████| 100/100 [00:00<00:00, 189.45it/s]

                                                  
Models: 100%|██████████| 10/10 [00:05<00:00,  1.81it/s]
Models: 100%|██████████| 10/10 [00:05<00:00,  1.84it/s]
[ FAIL 0 | WARN 0 | SKIP 0 | PASS 29 ]
> 
> proc.time()
   user  system elapsed 
 71.205   1.554  72.749 

Example timings

spatialDE.Rcheck/spatialDE-Ex.timings

nameusersystemelapsed
FSV_sig5.3960.4767.010
mockSVG0.2750.0270.303
modelSearch2.3200.0652.391
model_search1.9880.0442.038
multiGenePlots2.2100.0752.294
regress_out0.2080.0080.217
run1.0640.0241.091
spatialDE1.1760.0161.195
spatialPatterns1.0590.0001.063
spatial_patterns23.725 0.01323.806
stabilize0.1090.0040.114