Back to Multiple platform build/check report for BioC 3.20:   simplified   long
ABCDEFGHIJKLMNOPQR[S]TUVWXYZ

This page was generated on 2025-02-06 12:09 -0500 (Thu, 06 Feb 2025).

HostnameOSArch (*)R versionInstalled pkgs
nebbiolo2Linux (Ubuntu 24.04.1 LTS)x86_644.4.2 (2024-10-31) -- "Pile of Leaves" 4753
palomino8Windows Server 2022 Datacenterx644.4.2 (2024-10-31 ucrt) -- "Pile of Leaves" 4501
merida1macOS 12.7.5 Montereyx86_644.4.2 (2024-10-31) -- "Pile of Leaves" 4524
kjohnson1macOS 13.6.6 Venturaarm644.4.2 (2024-10-31) -- "Pile of Leaves" 4476
taishanLinux (openEuler 24.03 LTS)aarch644.4.2 (2024-10-31) -- "Pile of Leaves" 4407
Click on any hostname to see more info about the system (e.g. compilers)      (*) as reported by 'uname -p', except on Windows and Mac OS X

Package 2016/2289HostnameOS / ArchINSTALLBUILDCHECKBUILD BIN
spatialDE 1.12.0  (landing page)
Gabriele Sales
Snapshot Date: 2025-02-03 13:00 -0500 (Mon, 03 Feb 2025)
git_url: https://git.bioconductor.org/packages/spatialDE
git_branch: RELEASE_3_20
git_last_commit: 8d3fc1f
git_last_commit_date: 2024-10-29 11:03:13 -0500 (Tue, 29 Oct 2024)
nebbiolo2Linux (Ubuntu 24.04.1 LTS) / x86_64  OK    OK    OK  UNNEEDED, same version is already published
palomino8Windows Server 2022 Datacenter / x64  OK    OK    OK    OK  UNNEEDED, same version is already published
merida1macOS 12.7.5 Monterey / x86_64  OK    OK    OK    NA  
kjohnson1macOS 13.6.6 Ventura / arm64  OK    OK    OK    OK  UNNEEDED, same version is already published
taishanLinux (openEuler 24.03 LTS) / aarch64  OK    OK    OK  


CHECK results for spatialDE on merida1

To the developers/maintainers of the spatialDE package:
- Allow up to 24 hours (and sometimes 48 hours) for your latest push to git@git.bioconductor.org:packages/spatialDE.git to reflect on this report. See Troubleshooting Build Report for more information.
- Use the following Renviron settings to reproduce errors and warnings.
- If 'R CMD check' started to fail recently on the Linux builder(s) over a missing dependency, add the missing dependency to 'Suggests:' in your DESCRIPTION file. See Renviron.bioc for more information.

raw results


Summary

Package: spatialDE
Version: 1.12.0
Command: /Library/Frameworks/R.framework/Resources/bin/R CMD check --install=check:spatialDE.install-out.txt --library=/Library/Frameworks/R.framework/Resources/library --no-vignettes --timings spatialDE_1.12.0.tar.gz
StartedAt: 2025-02-04 10:31:26 -0500 (Tue, 04 Feb 2025)
EndedAt: 2025-02-04 10:41:19 -0500 (Tue, 04 Feb 2025)
EllapsedTime: 592.4 seconds
RetCode: 0
Status:   OK  
CheckDir: spatialDE.Rcheck
Warnings: 0

Command output

##############################################################################
##############################################################################
###
### Running command:
###
###   /Library/Frameworks/R.framework/Resources/bin/R CMD check --install=check:spatialDE.install-out.txt --library=/Library/Frameworks/R.framework/Resources/library --no-vignettes --timings spatialDE_1.12.0.tar.gz
###
##############################################################################
##############################################################################


* using log directory ‘/Users/biocbuild/bbs-3.20-bioc/meat/spatialDE.Rcheck’
* using R version 4.4.2 (2024-10-31)
* using platform: x86_64-apple-darwin20
* R was compiled by
    Apple clang version 14.0.0 (clang-1400.0.29.202)
    GNU Fortran (GCC) 12.2.0
* running under: macOS Monterey 12.7.6
* using session charset: UTF-8
* using option ‘--no-vignettes’
* checking for file ‘spatialDE/DESCRIPTION’ ... OK
* this is package ‘spatialDE’ version ‘1.12.0’
* package encoding: UTF-8
* checking package namespace information ... OK
* checking package dependencies ... OK
* checking if this is a source package ... OK
* checking if there is a namespace ... OK
* checking for hidden files and directories ... OK
* checking for portable file names ... OK
* checking for sufficient/correct file permissions ... OK
* checking whether package ‘spatialDE’ can be installed ... NOTE
Found the following notes/warnings:
  Non-staged installation was used
See ‘/Users/biocbuild/bbs-3.20-bioc/meat/spatialDE.Rcheck/00install.out’ for details.
* checking installed package size ... OK
* checking package directory ... OK
* checking ‘build’ directory ... OK
* checking DESCRIPTION meta-information ... OK
* checking top-level files ... OK
* checking for left-over files ... OK
* checking index information ... OK
* checking package subdirectories ... OK
* checking code files for non-ASCII characters ... OK
* checking R files for syntax errors ... OK
* checking whether the package can be loaded ... OK
* checking whether the package can be loaded with stated dependencies ... OK
* checking whether the package can be unloaded cleanly ... OK
* checking whether the namespace can be loaded with stated dependencies ... OK
* checking whether the namespace can be unloaded cleanly ... OK
* checking dependencies in R code ... OK
* checking S3 generic/method consistency ... OK
* checking replacement functions ... OK
* checking foreign function calls ... OK
* checking R code for possible problems ... OK
* checking Rd files ... OK
* checking Rd metadata ... OK
* checking Rd cross-references ... OK
* checking for missing documentation entries ... OK
* checking for code/documentation mismatches ... OK
* checking Rd \usage sections ... OK
* checking Rd contents ... OK
* checking for unstated dependencies in examples ... OK
* checking contents of ‘data’ directory ... OK
* checking data for non-ASCII characters ... OK
* checking data for ASCII and uncompressed saves ... OK
* checking line endings in shell scripts ... OK
* checking files in ‘vignettes’ ... OK
* checking examples ... OK
Examples with CPU (user + system) or elapsed time > 5s
                   user system elapsed
spatial_patterns 29.922  4.365  32.382
FSV_sig           9.958  2.576  16.077
* checking for unstated dependencies in ‘tests’ ... OK
* checking tests ...
  Running ‘testthat.R’
 OK
* checking for unstated dependencies in vignettes ... OK
* checking package vignettes ... OK
* checking running R code from vignettes ... SKIPPED
* checking re-building of vignette outputs ... SKIPPED
* checking PDF version of manual ... OK
* DONE

Status: 1 NOTE
See
  ‘/Users/biocbuild/bbs-3.20-bioc/meat/spatialDE.Rcheck/00check.log’
for details.


Installation output

spatialDE.Rcheck/00install.out

##############################################################################
##############################################################################
###
### Running command:
###
###   /Library/Frameworks/R.framework/Resources/bin/R CMD INSTALL spatialDE
###
##############################################################################
##############################################################################


* installing to library ‘/Library/Frameworks/R.framework/Versions/4.4-x86_64/Resources/library’
* installing *source* package ‘spatialDE’ ...
** using non-staged installation via StagedInstall field
** R
** data
** inst
** byte-compile and prepare package for lazy loading
** help
*** installing help indices
** building package indices
** installing vignettes
** testing if installed package can be loaded
* DONE (spatialDE)

Tests output

spatialDE.Rcheck/tests/testthat.Rout


R version 4.4.2 (2024-10-31) -- "Pile of Leaves"
Copyright (C) 2024 The R Foundation for Statistical Computing
Platform: x86_64-apple-darwin20

R is free software and comes with ABSOLUTELY NO WARRANTY.
You are welcome to redistribute it under certain conditions.
Type 'license()' or 'licence()' for distribution details.

R is a collaborative project with many contributors.
Type 'contributors()' for more information and
'citation()' on how to cite R or R packages in publications.

Type 'demo()' for some demos, 'help()' for on-line help, or
'help.start()' for an HTML browser interface to help.
Type 'q()' to quit R.

> library(testthat)
> library(spatialDE)
> 
> test_check("spatialDE")
Loading required package: SingleCellExperiment
Loading required package: SummarizedExperiment
Loading required package: MatrixGenerics
Loading required package: matrixStats

Attaching package: 'MatrixGenerics'

The following objects are masked from 'package:matrixStats':

    colAlls, colAnyNAs, colAnys, colAvgsPerRowSet, colCollapse,
    colCounts, colCummaxs, colCummins, colCumprods, colCumsums,
    colDiffs, colIQRDiffs, colIQRs, colLogSumExps, colMadDiffs,
    colMads, colMaxs, colMeans2, colMedians, colMins, colOrderStats,
    colProds, colQuantiles, colRanges, colRanks, colSdDiffs, colSds,
    colSums2, colTabulates, colVarDiffs, colVars, colWeightedMads,
    colWeightedMeans, colWeightedMedians, colWeightedSds,
    colWeightedVars, rowAlls, rowAnyNAs, rowAnys, rowAvgsPerColSet,
    rowCollapse, rowCounts, rowCummaxs, rowCummins, rowCumprods,
    rowCumsums, rowDiffs, rowIQRDiffs, rowIQRs, rowLogSumExps,
    rowMadDiffs, rowMads, rowMaxs, rowMeans2, rowMedians, rowMins,
    rowOrderStats, rowProds, rowQuantiles, rowRanges, rowRanks,
    rowSdDiffs, rowSds, rowSums2, rowTabulates, rowVarDiffs, rowVars,
    rowWeightedMads, rowWeightedMeans, rowWeightedMedians,
    rowWeightedSds, rowWeightedVars

Loading required package: GenomicRanges
Loading required package: stats4
Loading required package: BiocGenerics

Attaching package: 'BiocGenerics'

The following objects are masked from 'package:stats':

    IQR, mad, sd, var, xtabs

The following objects are masked from 'package:base':

    Filter, Find, Map, Position, Reduce, anyDuplicated, aperm, append,
    as.data.frame, basename, cbind, colnames, dirname, do.call,
    duplicated, eval, evalq, get, grep, grepl, intersect, is.unsorted,
    lapply, mapply, match, mget, order, paste, pmax, pmax.int, pmin,
    pmin.int, rank, rbind, rownames, sapply, saveRDS, setdiff, table,
    tapply, union, unique, unsplit, which.max, which.min

Loading required package: S4Vectors

Attaching package: 'S4Vectors'

The following object is masked from 'package:utils':

    findMatches

The following objects are masked from 'package:base':

    I, expand.grid, unname

Loading required package: IRanges
Loading required package: GenomeInfoDb
Loading required package: Biobase
Welcome to Bioconductor

    Vignettes contain introductory material; view with
    'browseVignettes()'. To cite Bioconductor, see
    'citation("Biobase")', and for packages 'citation("pkgname")'.


Attaching package: 'Biobase'

The following object is masked from 'package:MatrixGenerics':

    rowMedians

The following objects are masked from 'package:matrixStats':

    anyMissing, rowMedians


Models:   0%|          | 0/10 [00:00<?, ?it/s]

  0%|          | 0/100 [00:00<?, ?it/s]

 11%|█         | 11/100 [00:00<00:00, 102.46it/s]

 22%|██▏       | 22/100 [00:00<00:00, 95.13it/s] 

 33%|███▎      | 33/100 [00:00<00:00, 98.94it/s]

 44%|████▍     | 44/100 [00:00<00:00, 99.35it/s]

 57%|█████▋    | 57/100 [00:00<00:00, 109.64it/s]

 69%|██████▉   | 69/100 [00:00<00:00, 107.29it/s]

 80%|████████  | 80/100 [00:00<00:00, 105.34it/s]

 92%|█████████▏| 92/100 [00:00<00:00, 109.60it/s]

                                                 
Models:  10%|█         | 1/10 [00:00<00:08,  1.06it/s]

  0%|          | 0/100 [00:00<?, ?it/s]

 11%|█         | 11/100 [00:00<00:00, 95.83it/s]

 21%|██        | 21/100 [00:00<00:00, 88.42it/s]

 30%|███       | 30/100 [00:00<00:00, 85.56it/s]

 39%|███▉      | 39/100 [00:00<00:00, 81.67it/s]

 49%|████▉     | 49/100 [00:00<00:00, 86.87it/s]

 58%|█████▊    | 58/100 [00:00<00:00, 86.79it/s]

 67%|██████▋   | 67/100 [00:00<00:00, 83.92it/s]

 76%|███████▌  | 76/100 [00:00<00:00, 84.08it/s]

 85%|████████▌ | 85/100 [00:01<00:00, 82.91it/s]

 94%|█████████▍| 94/100 [00:01<00:00, 82.49it/s]

                                                
Models:  20%|██        | 2/10 [00:02<00:08,  1.09s/it]

  0%|          | 0/100 [00:00<?, ?it/s]

 12%|█▏        | 12/100 [00:00<00:00, 109.77it/s]

 23%|██▎       | 23/100 [00:00<00:00, 88.54it/s] 

 33%|███▎      | 33/100 [00:00<00:00, 85.38it/s]

 42%|████▏     | 42/100 [00:00<00:00, 84.23it/s]

 51%|█████     | 51/100 [00:00<00:00, 85.51it/s]

 60%|██████    | 60/100 [00:00<00:00, 83.58it/s]

 69%|██████▉   | 69/100 [00:00<00:00, 81.26it/s]

 78%|███████▊  | 78/100 [00:00<00:00, 80.36it/s]

 87%|████████▋ | 87/100 [00:01<00:00, 81.83it/s]

 96%|█████████▌| 96/100 [00:01<00:00, 83.27it/s]

                                                
Models:  30%|███       | 3/10 [00:03<00:07,  1.14s/it]

  0%|          | 0/100 [00:00<?, ?it/s]

 11%|█         | 11/100 [00:00<00:00, 107.88it/s]

 22%|██▏       | 22/100 [00:00<00:00, 94.89it/s] 

 32%|███▏      | 32/100 [00:00<00:00, 86.13it/s]

 41%|████      | 41/100 [00:00<00:00, 82.06it/s]

 50%|█████     | 50/100 [00:00<00:00, 84.56it/s]

 59%|█████▉    | 59/100 [00:00<00:00, 81.80it/s]

 68%|██████▊   | 68/100 [00:00<00:00, 79.18it/s]

 76%|███████▌  | 76/100 [00:00<00:00, 76.54it/s]

 84%|████████▍ | 84/100 [00:01<00:00, 76.57it/s]

 92%|█████████▏| 92/100 [00:01<00:00, 76.24it/s]

100%|██████████| 100/100 [00:01<00:00, 77.19it/s]

                                                 
Models:  40%|████      | 4/10 [00:04<00:07,  1.18s/it]

  0%|          | 0/100 [00:00<?, ?it/s]

 11%|█         | 11/100 [00:00<00:00, 98.75it/s]

 21%|██        | 21/100 [00:00<00:00, 84.88it/s]

 30%|███       | 30/100 [00:00<00:00, 81.12it/s]

 39%|███▉      | 39/100 [00:00<00:00, 77.01it/s]

 47%|████▋     | 47/100 [00:00<00:00, 76.42it/s]

 55%|█████▌    | 55/100 [00:00<00:00, 76.38it/s]

 63%|██████▎   | 63/100 [00:00<00:00, 74.64it/s]

 71%|███████   | 71/100 [00:00<00:00, 74.72it/s]

 79%|███████▉  | 79/100 [00:01<00:00, 72.41it/s]

 87%|████████▋ | 87/100 [00:01<00:00, 71.17it/s]

 95%|█████████▌| 95/100 [00:01<00:00, 71.92it/s]

                                                
Models:  50%|█████     | 5/10 [00:05<00:06,  1.24s/it]

  0%|          | 0/100 [00:00<?, ?it/s]

 11%|█         | 11/100 [00:00<00:00, 108.69it/s]

 22%|██▏       | 22/100 [00:00<00:00, 89.19it/s] 

 32%|███▏      | 32/100 [00:00<00:00, 80.59it/s]

 41%|████      | 41/100 [00:00<00:00, 79.44it/s]

 50%|█████     | 50/100 [00:00<00:00, 82.27it/s]

 59%|█████▉    | 59/100 [00:00<00:00, 79.97it/s]

 68%|██████▊   | 68/100 [00:00<00:00, 76.96it/s]

 76%|███████▌  | 76/100 [00:00<00:00, 75.98it/s]

 84%|████████▍ | 84/100 [00:01<00:00, 75.40it/s]

 92%|█████████▏| 92/100 [00:01<00:00, 74.57it/s]

100%|██████████| 100/100 [00:01<00:00, 73.81it/s]

                                                 
Models:  60%|██████    | 6/10 [00:07<00:05,  1.25s/it]

  0%|          | 0/100 [00:00<?, ?it/s]

 11%|█         | 11/100 [00:00<00:00, 108.47it/s]

 22%|██▏       | 22/100 [00:00<00:00, 89.09it/s] 

 32%|███▏      | 32/100 [00:00<00:00, 84.40it/s]

 41%|████      | 41/100 [00:00<00:00, 82.02it/s]

 50%|█████     | 50/100 [00:00<00:00, 83.69it/s]

 59%|█████▉    | 59/100 [00:00<00:00, 79.63it/s]

 68%|██████▊   | 68/100 [00:00<00:00, 76.55it/s]

 76%|███████▌  | 76/100 [00:00<00:00, 76.45it/s]

 84%|████████▍ | 84/100 [00:01<00:00, 75.22it/s]

 92%|█████████▏| 92/100 [00:01<00:00, 74.03it/s]

100%|██████████| 100/100 [00:01<00:00, 74.01it/s]

                                                 
Models:  70%|███████   | 7/10 [00:08<00:03,  1.26s/it]

  0%|          | 0/100 [00:00<?, ?it/s]

 11%|█         | 11/100 [00:00<00:00, 99.04it/s]

 21%|██        | 21/100 [00:00<00:00, 86.77it/s]

 30%|███       | 30/100 [00:00<00:00, 82.84it/s]

 39%|███▉      | 39/100 [00:00<00:00, 79.32it/s]

 49%|████▉     | 49/100 [00:00<00:00, 84.12it/s]

 58%|█████▊    | 58/100 [00:00<00:00, 80.14it/s]

 67%|██████▋   | 67/100 [00:00<00:00, 78.03it/s]

 75%|███████▌  | 75/100 [00:00<00:00, 76.52it/s]

 83%|████████▎ | 83/100 [00:01<00:00, 77.46it/s]

 91%|█████████ | 91/100 [00:01<00:00, 76.08it/s]

 99%|█████████▉| 99/100 [00:01<00:00, 76.76it/s]

                                                
Models:  80%|████████  | 8/10 [00:09<00:02,  1.26s/it]

  0%|          | 0/100 [00:00<?, ?it/s]

 13%|█▎        | 13/100 [00:00<00:00, 116.78it/s]

 25%|██▌       | 25/100 [00:00<00:00, 93.28it/s] 

 35%|███▌      | 35/100 [00:00<00:00, 86.08it/s]

 44%|████▍     | 44/100 [00:00<00:00, 84.47it/s]

 53%|█████▎    | 53/100 [00:00<00:00, 82.25it/s]

 62%|██████▏   | 62/100 [00:00<00:00, 79.70it/s]

 70%|███████   | 70/100 [00:00<00:00, 68.77it/s]

 78%|███████▊  | 78/100 [00:00<00:00, 70.55it/s]

 87%|████████▋ | 87/100 [00:01<00:00, 74.45it/s]

 95%|█████████▌| 95/100 [00:01<00:00, 75.56it/s]

                                                
Models:  90%|█████████ | 9/10 [00:11<00:01,  1.27s/it]

  0%|          | 0/100 [00:00<?, ?it/s]

 11%|█         | 11/100 [00:00<00:00, 108.09it/s]

 22%|██▏       | 22/100 [00:00<00:00, 94.83it/s] 

 32%|███▏      | 32/100 [00:00<00:00, 86.85it/s]

 41%|████      | 41/100 [00:00<00:00, 84.95it/s]

 52%|█████▏    | 52/100 [00:00<00:00, 90.49it/s]

 62%|██████▏   | 62/100 [00:00<00:00, 87.68it/s]

 71%|███████   | 71/100 [00:00<00:00, 88.12it/s]

 80%|████████  | 80/100 [00:00<00:00, 87.19it/s]

 90%|█████████ | 90/100 [00:01<00:00, 87.89it/s]

100%|██████████| 100/100 [00:01<00:00, 88.17it/s]

                                                 
Models: 100%|██████████| 10/10 [00:12<00:00,  1.23s/it]
Models: 100%|██████████| 10/10 [00:12<00:00,  1.22s/it]

Models:   0%|          | 0/10 [00:00<?, ?it/s]

  0%|          | 0/100 [00:00<?, ?it/s]

 13%|█▎        | 13/100 [00:00<00:00, 120.57it/s]

 27%|██▋       | 27/100 [00:00<00:00, 127.88it/s]

 40%|████      | 40/100 [00:00<00:00, 122.88it/s]

 53%|█████▎    | 53/100 [00:00<00:00, 123.38it/s]

 66%|██████▌   | 66/100 [00:00<00:00, 125.12it/s]

 80%|████████  | 80/100 [00:00<00:00, 128.17it/s]

 93%|█████████▎| 93/100 [00:00<00:00, 125.56it/s]

                                                 
Models:  10%|█         | 1/10 [00:00<00:07,  1.23it/s]

  0%|          | 0/100 [00:00<?, ?it/s]

 13%|█▎        | 13/100 [00:00<00:00, 128.05it/s]

 26%|██▌       | 26/100 [00:00<00:00, 103.83it/s]

 37%|███▋      | 37/100 [00:00<00:00, 95.37it/s] 

 47%|████▋     | 47/100 [00:00<00:00, 93.66it/s]

 57%|█████▋    | 57/100 [00:00<00:00, 94.89it/s]

 67%|██████▋   | 67/100 [00:00<00:00, 89.89it/s]

 77%|███████▋  | 77/100 [00:00<00:00, 87.53it/s]

 86%|████████▌ | 86/100 [00:00<00:00, 86.31it/s]

 95%|█████████▌| 95/100 [00:01<00:00, 85.45it/s]

                                                
Models:  20%|██        | 2/10 [00:01<00:07,  1.01it/s]

  0%|          | 0/100 [00:00<?, ?it/s]

 12%|█▏        | 12/100 [00:00<00:00, 113.78it/s]

 24%|██▍       | 24/100 [00:00<00:00, 101.73it/s]

 35%|███▌      | 35/100 [00:00<00:00, 69.35it/s] 

 43%|████▎     | 43/100 [00:00<00:00, 70.21it/s]

 51%|█████     | 51/100 [00:00<00:00, 71.76it/s]

 59%|█████▉    | 59/100 [00:00<00:00, 72.94it/s]

 67%|██████▋   | 67/100 [00:00<00:00, 74.91it/s]

 75%|███████▌  | 75/100 [00:00<00:00, 74.22it/s]

 83%|████████▎ | 83/100 [00:01<00:00, 73.21it/s]

 91%|█████████ | 91/100 [00:01<00:00, 71.49it/s]

 99%|█████████▉| 99/100 [00:01<00:00, 73.37it/s]

                                                
Models:  30%|███       | 3/10 [00:03<00:08,  1.15s/it]

  0%|          | 0/100 [00:00<?, ?it/s]

 12%|█▏        | 12/100 [00:00<00:00, 111.11it/s]

 24%|██▍       | 24/100 [00:00<00:00, 93.05it/s] 

 34%|███▍      | 34/100 [00:00<00:00, 78.68it/s]

 43%|████▎     | 43/100 [00:00<00:00, 77.65it/s]

 51%|█████     | 51/100 [00:00<00:00, 72.75it/s]

 59%|█████▉    | 59/100 [00:00<00:00, 71.61it/s]

 67%|██████▋   | 67/100 [00:00<00:00, 72.57it/s]

 75%|███████▌  | 75/100 [00:00<00:00, 74.44it/s]

 83%|████████▎ | 83/100 [00:01<00:00, 74.59it/s]

 91%|█████████ | 91/100 [00:01<00:00, 72.90it/s]

100%|██████████| 100/100 [00:01<00:00, 75.52it/s]

                                                 
Models:  40%|████      | 4/10 [00:04<00:07,  1.22s/it]

  0%|          | 0/100 [00:00<?, ?it/s]

 12%|█▏        | 12/100 [00:00<00:00, 113.33it/s]

 24%|██▍       | 24/100 [00:00<00:00, 90.09it/s] 

 34%|███▍      | 34/100 [00:00<00:00, 81.06it/s]

 43%|████▎     | 43/100 [00:00<00:00, 79.73it/s]

 52%|█████▏    | 52/100 [00:00<00:00, 78.28it/s]

 60%|██████    | 60/100 [00:00<00:00, 76.77it/s]

 68%|██████▊   | 68/100 [00:00<00:00, 77.61it/s]

 76%|███████▌  | 76/100 [00:00<00:00, 75.95it/s]

 84%|████████▍ | 84/100 [00:01<00:00, 72.18it/s]

 92%|█████████▏| 92/100 [00:01<00:00, 71.85it/s]

                                                
Models:  50%|█████     | 5/10 [00:05<00:06,  1.24s/it]

  0%|          | 0/100 [00:00<?, ?it/s]

 12%|█▏        | 12/100 [00:00<00:00, 117.49it/s]

 24%|██▍       | 24/100 [00:00<00:00, 95.72it/s] 

 34%|███▍      | 34/100 [00:00<00:00, 84.51it/s]

 43%|████▎     | 43/100 [00:00<00:00, 86.13it/s]

 52%|█████▏    | 52/100 [00:00<00:00, 82.78it/s]

 61%|██████    | 61/100 [00:00<00:00, 82.16it/s]

 70%|███████   | 70/100 [00:00<00:00, 81.89it/s]

 79%|███████▉  | 79/100 [00:00<00:00, 83.93it/s]

 88%|████████▊ | 88/100 [00:01<00:00, 79.46it/s]

 97%|█████████▋| 97/100 [00:01<00:00, 82.24it/s]

                                                
Models:  60%|██████    | 6/10 [00:07<00:04,  1.23s/it]

  0%|          | 0/100 [00:00<?, ?it/s]

 11%|█         | 11/100 [00:00<00:00, 109.60it/s]

 22%|██▏       | 22/100 [00:00<00:00, 93.06it/s] 

 32%|███▏      | 32/100 [00:00<00:00, 84.10it/s]

 41%|████      | 41/100 [00:00<00:00, 78.26it/s]

 50%|█████     | 50/100 [00:00<00:00, 80.81it/s]

 59%|█████▉    | 59/100 [00:00<00:00, 77.77it/s]

 68%|██████▊   | 68/100 [00:00<00:00, 79.20it/s]

 77%|███████▋  | 77/100 [00:00<00:00, 80.81it/s]

 86%|████████▌ | 86/100 [00:01<00:00, 81.58it/s]

 95%|█████████▌| 95/100 [00:01<00:00, 83.71it/s]

                                                
Models:  70%|███████   | 7/10 [00:08<00:03,  1.22s/it]

  0%|          | 0/100 [00:00<?, ?it/s]

 11%|█         | 11/100 [00:00<00:00, 99.32it/s]

 21%|██        | 21/100 [00:00<00:00, 91.23it/s]

 31%|███       | 31/100 [00:00<00:00, 85.31it/s]

 40%|████      | 40/100 [00:00<00:00, 79.00it/s]

 49%|████▉     | 49/100 [00:00<00:00, 80.38it/s]

 58%|█████▊    | 58/100 [00:00<00:00, 76.95it/s]

 66%|██████▌   | 66/100 [00:00<00:00, 77.07it/s]

 74%|███████▍  | 74/100 [00:00<00:00, 76.55it/s]

 82%|████████▏ | 82/100 [00:01<00:00, 77.00it/s]

 90%|█████████ | 90/100 [00:01<00:00, 73.51it/s]

 99%|█████████▉| 99/100 [00:01<00:00, 76.12it/s]

                                                
Models:  80%|████████  | 8/10 [00:09<00:02,  1.24s/it]

  0%|          | 0/100 [00:00<?, ?it/s]

 12%|█▏        | 12/100 [00:00<00:00, 109.13it/s]

 23%|██▎       | 23/100 [00:00<00:00, 92.89it/s] 

 33%|███▎      | 33/100 [00:00<00:00, 84.07it/s]

 42%|████▏     | 42/100 [00:00<00:00, 83.20it/s]

 51%|█████     | 51/100 [00:00<00:00, 82.45it/s]

 60%|██████    | 60/100 [00:00<00:00, 82.65it/s]

 69%|██████▉   | 69/100 [00:00<00:00, 83.53it/s]

 78%|███████▊  | 78/100 [00:00<00:00, 83.14it/s]

 87%|████████▋ | 87/100 [00:01<00:00, 84.01it/s]

 96%|█████████▌| 96/100 [00:01<00:00, 85.21it/s]

                                                
Models:  90%|█████████ | 9/10 [00:10<00:01,  1.22s/it]

  0%|          | 0/100 [00:00<?, ?it/s]

 12%|█▏        | 12/100 [00:00<00:00, 108.58it/s]

 23%|██▎       | 23/100 [00:00<00:00, 97.75it/s] 

 33%|███▎      | 33/100 [00:00<00:00, 90.25it/s]

 43%|████▎     | 43/100 [00:00<00:00, 84.79it/s]

 52%|█████▏    | 52/100 [00:00<00:00, 83.71it/s]

 61%|██████    | 61/100 [00:00<00:00, 85.17it/s]

 70%|███████   | 70/100 [00:00<00:00, 86.04it/s]

 79%|███████▉  | 79/100 [00:00<00:00, 86.58it/s]

 88%|████████▊ | 88/100 [00:01<00:00, 85.97it/s]

 98%|█████████▊| 98/100 [00:01<00:00, 88.28it/s]

                                                
Models: 100%|██████████| 10/10 [00:11<00:00,  1.20s/it]
Models: 100%|██████████| 10/10 [00:11<00:00,  1.19s/it]
/Users/biocbuild/Library/Caches/org.R-project.R/R/basilisk/1.18.0/spatialDE/1.12.0/env/lib/python3.10/site-packages/pandas/core/internals/blocks.py:351: RuntimeWarning: invalid value encountered in log
  result = func(self.values, **kwargs)

Models:   0%|          | 0/10 [00:00<?, ?it/s]

  0%|          | 0/100 [00:00<?, ?it/s]

 15%|█▌        | 15/100 [00:00<00:00, 141.26it/s]

 30%|███       | 30/100 [00:00<00:00, 121.52it/s]

 43%|████▎     | 43/100 [00:00<00:00, 113.96it/s]

 59%|█████▉    | 59/100 [00:00<00:00, 127.13it/s]

 72%|███████▏  | 72/100 [00:00<00:00, 119.81it/s]

 85%|████████▌ | 85/100 [00:00<00:00, 120.46it/s]

 98%|█████████▊| 98/100 [00:00<00:00, 121.69it/s]

                                                 
Models:  10%|█         | 1/10 [00:00<00:07,  1.21it/s]

  0%|          | 0/100 [00:00<?, ?it/s]

 12%|█▏        | 12/100 [00:00<00:00, 119.56it/s]

 24%|██▍       | 24/100 [00:00<00:00, 101.67it/s]

 35%|███▌      | 35/100 [00:00<00:00, 97.39it/s] 

 45%|████▌     | 45/100 [00:00<00:00, 95.99it/s]

 55%|█████▌    | 55/100 [00:00<00:00, 95.15it/s]

 65%|██████▌   | 65/100 [00:00<00:00, 94.54it/s]

 75%|███████▌  | 75/100 [00:00<00:00, 94.17it/s]

 85%|████████▌ | 85/100 [00:00<00:00, 90.80it/s]

 95%|█████████▌| 95/100 [00:01<00:00, 89.74it/s]

                                                
Models:  20%|██        | 2/10 [00:01<00:07,  1.03it/s]

  0%|          | 0/100 [00:00<?, ?it/s]

 12%|█▏        | 12/100 [00:00<00:00, 111.39it/s]

 24%|██▍       | 24/100 [00:00<00:00, 89.77it/s] 

 34%|███▍      | 34/100 [00:00<00:00, 86.21it/s]

 43%|████▎     | 43/100 [00:00<00:00, 86.32it/s]

 52%|█████▏    | 52/100 [00:00<00:00, 86.60it/s]

 61%|██████    | 61/100 [00:00<00:00, 86.48it/s]

 71%|███████   | 71/100 [00:00<00:00, 87.75it/s]

 80%|████████  | 80/100 [00:00<00:00, 86.76it/s]

 90%|█████████ | 90/100 [00:01<00:00, 89.13it/s]

100%|██████████| 100/100 [00:01<00:00, 89.13it/s]

                                                 
Models:  30%|███       | 3/10 [00:03<00:07,  1.05s/it]

  0%|          | 0/100 [00:00<?, ?it/s]

 11%|█         | 11/100 [00:00<00:00, 107.79it/s]

 22%|██▏       | 22/100 [00:00<00:00, 90.60it/s] 

 32%|███▏      | 32/100 [00:00<00:00, 83.65it/s]

 41%|████      | 41/100 [00:00<00:00, 78.44it/s]

 50%|█████     | 50/100 [00:00<00:00, 80.24it/s]

 59%|█████▉    | 59/100 [00:00<00:00, 77.89it/s]

 68%|██████▊   | 68/100 [00:00<00:00, 79.55it/s]

 77%|███████▋  | 77/100 [00:00<00:00, 79.79it/s]

 86%|████████▌ | 86/100 [00:01<00:00, 81.71it/s]

 95%|█████████▌| 95/100 [00:01<00:00, 84.07it/s]

                                                
Models:  40%|████      | 4/10 [00:04<00:06,  1.11s/it]

  0%|          | 0/100 [00:00<?, ?it/s]

 13%|█▎        | 13/100 [00:00<00:00, 117.75it/s]

 25%|██▌       | 25/100 [00:00<00:00, 93.29it/s] 

 35%|███▌      | 35/100 [00:00<00:00, 89.75it/s]

 45%|████▌     | 45/100 [00:00<00:00, 87.58it/s]

 54%|█████▍    | 54/100 [00:00<00:00, 85.54it/s]

 63%|██████▎   | 63/100 [00:00<00:00, 81.45it/s]

 72%|███████▏  | 72/100 [00:00<00:00, 80.95it/s]

 81%|████████  | 81/100 [00:00<00:00, 79.39it/s]

 89%|████████▉ | 89/100 [00:01<00:00, 77.44it/s]

 98%|█████████▊| 98/100 [00:01<00:00, 78.34it/s]

                                                
Models:  50%|█████     | 5/10 [00:05<00:05,  1.15s/it]

  0%|          | 0/100 [00:00<?, ?it/s]

 10%|█         | 10/100 [00:00<00:00, 94.85it/s]

 20%|██        | 20/100 [00:00<00:00, 81.51it/s]

 29%|██▉       | 29/100 [00:00<00:00, 80.46it/s]

 38%|███▊      | 38/100 [00:00<00:00, 79.34it/s]

 47%|████▋     | 47/100 [00:00<00:00, 79.46it/s]

 56%|█████▌    | 56/100 [00:00<00:00, 79.37it/s]

 64%|██████▍   | 64/100 [00:00<00:00, 78.63it/s]

 72%|███████▏  | 72/100 [00:00<00:00, 78.61it/s]

 80%|████████  | 80/100 [00:01<00:00, 76.51it/s]

 88%|████████▊ | 88/100 [00:01<00:00, 76.56it/s]

 97%|█████████▋| 97/100 [00:01<00:00, 79.85it/s]

                                                
Models:  60%|██████    | 6/10 [00:06<00:04,  1.19s/it]

  0%|          | 0/100 [00:00<?, ?it/s]

 11%|█         | 11/100 [00:00<00:00, 100.73it/s]

 22%|██▏       | 22/100 [00:00<00:00, 92.30it/s] 

 32%|███▏      | 32/100 [00:00<00:00, 85.55it/s]

 41%|████      | 41/100 [00:00<00:00, 86.44it/s]

 50%|█████     | 50/100 [00:00<00:00, 82.96it/s]

 59%|█████▉    | 59/100 [00:00<00:00, 82.21it/s]

 68%|██████▊   | 68/100 [00:00<00:00, 82.97it/s]

 77%|███████▋  | 77/100 [00:00<00:00, 80.64it/s]

 86%|████████▌ | 86/100 [00:01<00:00, 81.06it/s]

 95%|█████████▌| 95/100 [00:01<00:00, 82.59it/s]

                                                
Models:  70%|███████   | 7/10 [00:07<00:03,  1.20s/it]

  0%|          | 0/100 [00:00<?, ?it/s]

 10%|█         | 10/100 [00:00<00:00, 95.82it/s]

 20%|██        | 20/100 [00:00<00:00, 85.35it/s]

 29%|██▉       | 29/100 [00:00<00:00, 80.82it/s]

 38%|███▊      | 38/100 [00:00<00:00, 77.56it/s]

 46%|████▌     | 46/100 [00:00<00:00, 78.21it/s]

 54%|█████▍    | 54/100 [00:00<00:00, 77.67it/s]

 62%|██████▏   | 62/100 [00:00<00:00, 78.33it/s]

 71%|███████   | 71/100 [00:00<00:00, 79.73it/s]

 80%|████████  | 80/100 [00:00<00:00, 80.54it/s]

 89%|████████▉ | 89/100 [00:01<00:00, 82.77it/s]

 98%|█████████▊| 98/100 [00:01<00:00, 84.83it/s]

                                                
Models:  80%|████████  | 8/10 [00:09<00:02,  1.21s/it]

  0%|          | 0/100 [00:00<?, ?it/s]

 12%|█▏        | 12/100 [00:00<00:00, 109.43it/s]

 23%|██▎       | 23/100 [00:00<00:00, 92.31it/s] 

 33%|███▎      | 33/100 [00:00<00:00, 85.14it/s]

 42%|████▏     | 42/100 [00:00<00:00, 85.46it/s]

 51%|█████     | 51/100 [00:00<00:00, 83.95it/s]

 60%|██████    | 60/100 [00:00<00:00, 81.32it/s]

 69%|██████▉   | 69/100 [00:00<00:00, 83.00it/s]

 78%|███████▊  | 78/100 [00:00<00:00, 83.51it/s]

 87%|████████▋ | 87/100 [00:01<00:00, 83.15it/s]

 96%|█████████▌| 96/100 [00:01<00:00, 83.67it/s]

                                                
Models:  90%|█████████ | 9/10 [00:10<00:01,  1.20s/it]

  0%|          | 0/100 [00:00<?, ?it/s]

 11%|█         | 11/100 [00:00<00:00, 99.18it/s]

 21%|██        | 21/100 [00:00<00:00, 97.13it/s]

 31%|███       | 31/100 [00:00<00:00, 94.02it/s]

 41%|████      | 41/100 [00:00<00:00, 91.76it/s]

 51%|█████     | 51/100 [00:00<00:00, 91.50it/s]

 61%|██████    | 61/100 [00:00<00:00, 89.97it/s]

 71%|███████   | 71/100 [00:00<00:00, 91.97it/s]

 81%|████████  | 81/100 [00:00<00:00, 93.17it/s]

 91%|█████████ | 91/100 [00:00<00:00, 95.03it/s]

                                                
Models: 100%|██████████| 10/10 [00:11<00:00,  1.16s/it]
Models: 100%|██████████| 10/10 [00:11<00:00,  1.14s/it]

Models:   0%|          | 0/10 [00:00<?, ?it/s]

  0%|          | 0/100 [00:00<?, ?it/s]

 15%|█▌        | 15/100 [00:00<00:00, 139.09it/s]

 29%|██▉       | 29/100 [00:00<00:00, 122.65it/s]

 42%|████▏     | 42/100 [00:00<00:00, 117.58it/s]

 56%|█████▌    | 56/100 [00:00<00:00, 122.31it/s]

 70%|███████   | 70/100 [00:00<00:00, 125.35it/s]

 83%|████████▎ | 83/100 [00:00<00:00, 124.82it/s]

 96%|█████████▌| 96/100 [00:00<00:00, 124.65it/s]

                                                 
Models:  10%|█         | 1/10 [00:00<00:07,  1.22it/s]

  0%|          | 0/100 [00:00<?, ?it/s]

 13%|█▎        | 13/100 [00:00<00:00, 128.13it/s]

 26%|██▌       | 26/100 [00:00<00:00, 98.46it/s] 

 37%|███▋      | 37/100 [00:00<00:00, 96.10it/s]

 47%|████▋     | 47/100 [00:00<00:00, 94.36it/s]

 57%|█████▋    | 57/100 [00:00<00:00, 92.34it/s]

 67%|██████▋   | 67/100 [00:00<00:00, 92.88it/s]

 77%|███████▋  | 77/100 [00:00<00:00, 91.69it/s]

 87%|████████▋ | 87/100 [00:00<00:00, 89.33it/s]

 97%|█████████▋| 97/100 [00:01<00:00, 91.42it/s]

                                                
Models:  20%|██        | 2/10 [00:01<00:07,  1.03it/s]

  0%|          | 0/100 [00:00<?, ?it/s]

 13%|█▎        | 13/100 [00:00<00:00, 122.91it/s]

 26%|██▌       | 26/100 [00:00<00:00, 95.68it/s] 

 36%|███▌      | 36/100 [00:00<00:00, 91.11it/s]

 46%|████▌     | 46/100 [00:00<00:00, 89.30it/s]

 56%|█████▌    | 56/100 [00:00<00:00, 87.55it/s]

 66%|██████▌   | 66/100 [00:00<00:00, 89.93it/s]

 76%|███████▌  | 76/100 [00:00<00:00, 72.81it/s]

 84%|████████▍ | 84/100 [00:01<00:00, 73.20it/s]

 94%|█████████▍| 94/100 [00:01<00:00, 80.06it/s]

                                                
Models:  30%|███       | 3/10 [00:03<00:07,  1.07s/it]

  0%|          | 0/100 [00:00<?, ?it/s]

 13%|█▎        | 13/100 [00:00<00:00, 122.61it/s]

 26%|██▌       | 26/100 [00:00<00:00, 88.08it/s] 

 36%|███▌      | 36/100 [00:00<00:00, 85.19it/s]

 45%|████▌     | 45/100 [00:00<00:00, 82.03it/s]

 54%|█████▍    | 54/100 [00:00<00:00, 79.66it/s]

 63%|██████▎   | 63/100 [00:00<00:00, 78.93it/s]

 72%|███████▏  | 72/100 [00:00<00:00, 79.93it/s]

 81%|████████  | 81/100 [00:00<00:00, 78.05it/s]

 89%|████████▉ | 89/100 [00:01<00:00, 77.99it/s]

 98%|█████████▊| 98/100 [00:01<00:00, 80.14it/s]

                                                
Models:  40%|████      | 4/10 [00:04<00:06,  1.13s/it]

  0%|          | 0/100 [00:00<?, ?it/s]

 12%|█▏        | 12/100 [00:00<00:00, 113.50it/s]

 24%|██▍       | 24/100 [00:00<00:00, 88.38it/s] 

 34%|███▍      | 34/100 [00:00<00:00, 83.12it/s]

 43%|████▎     | 43/100 [00:00<00:00, 81.03it/s]

 52%|█████▏    | 52/100 [00:00<00:00, 79.51it/s]

 60%|██████    | 60/100 [00:00<00:00, 79.26it/s]

 69%|██████▉   | 69/100 [00:00<00:00, 79.31it/s]

 77%|███████▋  | 77/100 [00:00<00:00, 78.59it/s]

 86%|████████▌ | 86/100 [00:01<00:00, 79.83it/s]

 95%|█████████▌| 95/100 [00:01<00:00, 79.89it/s]

                                                
Models:  50%|█████     | 5/10 [00:05<00:05,  1.17s/it]

  0%|          | 0/100 [00:00<?, ?it/s]

 11%|█         | 11/100 [00:00<00:00, 97.99it/s]

 21%|██        | 21/100 [00:00<00:00, 86.84it/s]

 30%|███       | 30/100 [00:00<00:00, 86.28it/s]

 39%|███▉      | 39/100 [00:00<00:00, 80.98it/s]

 48%|████▊     | 48/100 [00:00<00:00, 81.05it/s]

 58%|█████▊    | 58/100 [00:00<00:00, 84.63it/s]

 67%|██████▋   | 67/100 [00:00<00:00, 85.69it/s]

 76%|███████▌  | 76/100 [00:00<00:00, 80.70it/s]

 85%|████████▌ | 85/100 [00:01<00:00, 76.49it/s]

 93%|█████████▎| 93/100 [00:01<00:00, 76.87it/s]

                                                
Models:  60%|██████    | 6/10 [00:06<00:04,  1.20s/it]

  0%|          | 0/100 [00:00<?, ?it/s]

 12%|█▏        | 12/100 [00:00<00:00, 117.85it/s]

 24%|██▍       | 24/100 [00:00<00:00, 90.82it/s] 

 34%|███▍      | 34/100 [00:00<00:00, 83.24it/s]

 43%|████▎     | 43/100 [00:00<00:00, 82.92it/s]

 52%|█████▏    | 52/100 [00:00<00:00, 80.86it/s]

 61%|██████    | 61/100 [00:00<00:00, 80.16it/s]

 70%|███████   | 70/100 [00:00<00:00, 80.31it/s]

 79%|███████▉  | 79/100 [00:00<00:00, 80.14it/s]

 89%|████████▉ | 89/100 [00:01<00:00, 83.49it/s]

 99%|█████████▉| 99/100 [00:01<00:00, 85.50it/s]

                                                
Models:  70%|███████   | 7/10 [00:07<00:03,  1.20s/it]

  0%|          | 0/100 [00:00<?, ?it/s]

 11%|█         | 11/100 [00:00<00:00, 102.07it/s]

 22%|██▏       | 22/100 [00:00<00:00, 88.84it/s] 

 31%|███       | 31/100 [00:00<00:00, 83.30it/s]

 40%|████      | 40/100 [00:00<00:00, 81.11it/s]

 49%|████▉     | 49/100 [00:00<00:00, 82.00it/s]

 58%|█████▊    | 58/100 [00:00<00:00, 78.68it/s]

 68%|██████▊   | 68/100 [00:00<00:00, 82.17it/s]

 77%|███████▋  | 77/100 [00:00<00:00, 81.41it/s]

 86%|████████▌ | 86/100 [00:01<00:00, 81.87it/s]

 96%|█████████▌| 96/100 [00:01<00:00, 83.69it/s]

                                                
Models:  80%|████████  | 8/10 [00:09<00:02,  1.20s/it]

  0%|          | 0/100 [00:00<?, ?it/s]

 11%|█         | 11/100 [00:00<00:00, 108.61it/s]

 22%|██▏       | 22/100 [00:00<00:00, 85.83it/s] 

 32%|███▏      | 32/100 [00:00<00:00, 90.26it/s]

 42%|████▏     | 42/100 [00:00<00:00, 87.36it/s]

 51%|█████     | 51/100 [00:00<00:00, 82.87it/s]

 60%|██████    | 60/100 [00:00<00:00, 77.27it/s]

 69%|██████▉   | 69/100 [00:00<00:00, 79.01it/s]

 78%|███████▊  | 78/100 [00:00<00:00, 79.47it/s]

 87%|████████▋ | 87/100 [00:01<00:00, 80.99it/s]

 96%|█████████▌| 96/100 [00:01<00:00, 80.45it/s]

                                                
Models:  90%|█████████ | 9/10 [00:10<00:01,  1.20s/it]

  0%|          | 0/100 [00:00<?, ?it/s]

 10%|█         | 10/100 [00:00<00:00, 98.37it/s]

 21%|██        | 21/100 [00:00<00:00, 104.96it/s]

 32%|███▏      | 32/100 [00:00<00:00, 100.27it/s]

 43%|████▎     | 43/100 [00:00<00:00, 95.46it/s] 

 53%|█████▎    | 53/100 [00:00<00:00, 92.43it/s]

 63%|██████▎   | 63/100 [00:00<00:00, 93.47it/s]

 73%|███████▎  | 73/100 [00:00<00:00, 93.16it/s]

 83%|████████▎ | 83/100 [00:00<00:00, 88.69it/s]

 93%|█████████▎| 93/100 [00:01<00:00, 89.34it/s]

                                                
Models: 100%|██████████| 10/10 [00:11<00:00,  1.17s/it]
Models: 100%|██████████| 10/10 [00:11<00:00,  1.15s/it]

Models:   0%|          | 0/10 [00:00<?, ?it/s]

  0%|          | 0/100 [00:00<?, ?it/s]

 16%|█▌        | 16/100 [00:00<00:00, 158.45it/s]

 32%|███▏      | 32/100 [00:00<00:00, 128.80it/s]

 46%|████▌     | 46/100 [00:00<00:00, 123.21it/s]

 61%|██████    | 61/100 [00:00<00:00, 129.49it/s]

 75%|███████▌  | 75/100 [00:00<00:00, 124.83it/s]

 88%|████████▊ | 88/100 [00:00<00:00, 125.32it/s]

                                                 
Models:  10%|█         | 1/10 [00:00<00:07,  1.26it/s]

  0%|          | 0/100 [00:00<?, ?it/s]

 14%|█▍        | 14/100 [00:00<00:00, 135.19it/s]

 28%|██▊       | 28/100 [00:00<00:00, 101.61it/s]

 39%|███▉      | 39/100 [00:00<00:00, 94.65it/s] 

 49%|████▉     | 49/100 [00:00<00:00, 94.09it/s]

 59%|█████▉    | 59/100 [00:00<00:00, 89.32it/s]

 69%|██████▉   | 69/100 [00:00<00:00, 92.40it/s]

 79%|███████▉  | 79/100 [00:00<00:00, 90.64it/s]

 89%|████████▉ | 89/100 [00:00<00:00, 91.14it/s]

 99%|█████████▉| 99/100 [00:01<00:00, 91.16it/s]

                                                
Models:  20%|██        | 2/10 [00:01<00:07,  1.04it/s]

  0%|          | 0/100 [00:00<?, ?it/s]

 11%|█         | 11/100 [00:00<00:00, 107.46it/s]

 22%|██▏       | 22/100 [00:00<00:00, 93.11it/s] 

 32%|███▏      | 32/100 [00:00<00:00, 87.48it/s]

 41%|████      | 41/100 [00:00<00:00, 85.23it/s]

 50%|█████     | 50/100 [00:00<00:00, 83.43it/s]

 59%|█████▉    | 59/100 [00:00<00:00, 82.78it/s]

 68%|██████▊   | 68/100 [00:00<00:00, 84.37it/s]

 77%|███████▋  | 77/100 [00:00<00:00, 82.21it/s]

 86%|████████▌ | 86/100 [00:01<00:00, 80.90it/s]

 96%|█████████▌| 96/100 [00:01<00:00, 83.68it/s]

                                                
Models:  30%|███       | 3/10 [00:03<00:07,  1.06s/it]

  0%|          | 0/100 [00:00<?, ?it/s]

 12%|█▏        | 12/100 [00:00<00:00, 113.15it/s]

 24%|██▍       | 24/100 [00:00<00:00, 89.42it/s] 

 34%|███▍      | 34/100 [00:00<00:00, 89.18it/s]

 44%|████▍     | 44/100 [00:00<00:00, 88.80it/s]

 53%|█████▎    | 53/100 [00:00<00:00, 86.40it/s]

 63%|██████▎   | 63/100 [00:00<00:00, 87.59it/s]

 72%|███████▏  | 72/100 [00:00<00:00, 86.18it/s]

 81%|████████  | 81/100 [00:00<00:00, 82.43it/s]

 90%|█████████ | 90/100 [00:01<00:00, 81.70it/s]

 99%|█████████▉| 99/100 [00:01<00:00, 82.18it/s]

                                                
Models:  40%|████      | 4/10 [00:04<00:06,  1.11s/it]

  0%|          | 0/100 [00:00<?, ?it/s]

 11%|█         | 11/100 [00:00<00:00, 103.17it/s]

 22%|██▏       | 22/100 [00:00<00:00, 84.97it/s] 

 31%|███       | 31/100 [00:00<00:00, 83.22it/s]

 40%|████      | 40/100 [00:00<00:00, 81.41it/s]

 49%|████▉     | 49/100 [00:00<00:00, 80.38it/s]

 58%|█████▊    | 58/100 [00:00<00:00, 79.24it/s]

 67%|██████▋   | 67/100 [00:00<00:00, 80.01it/s]

 76%|███████▌  | 76/100 [00:00<00:00, 78.98it/s]

 85%|████████▌ | 85/100 [00:01<00:00, 79.55it/s]

 93%|█████████▎| 93/100 [00:01<00:00, 79.45it/s]

                                                
Models:  50%|█████     | 5/10 [00:05<00:05,  1.16s/it]

  0%|          | 0/100 [00:00<?, ?it/s]

 11%|█         | 11/100 [00:00<00:00, 100.57it/s]

 22%|██▏       | 22/100 [00:00<00:00, 85.87it/s] 

 31%|███       | 31/100 [00:00<00:00, 81.44it/s]

 40%|████      | 40/100 [00:00<00:00, 79.97it/s]

 49%|████▉     | 49/100 [00:00<00:00, 80.24it/s]

 58%|█████▊    | 58/100 [00:00<00:00, 78.75it/s]

 66%|██████▌   | 66/100 [00:00<00:00, 78.59it/s]

 74%|███████▍  | 74/100 [00:00<00:00, 77.47it/s]

 82%|████████▏ | 82/100 [00:01<00:00, 76.73it/s]

 90%|█████████ | 90/100 [00:01<00:00, 77.21it/s]

 98%|█████████▊| 98/100 [00:01<00:00, 77.56it/s]

                                                
Models:  60%|██████    | 6/10 [00:06<00:04,  1.19s/it]

  0%|          | 0/100 [00:00<?, ?it/s]

 10%|█         | 10/100 [00:00<00:00, 99.12it/s]

 20%|██        | 20/100 [00:00<00:00, 93.58it/s]

 30%|███       | 30/100 [00:00<00:00, 85.55it/s]

 40%|████      | 40/100 [00:00<00:00, 88.17it/s]

 49%|████▉     | 49/100 [00:00<00:00, 85.06it/s]

 58%|█████▊    | 58/100 [00:00<00:00, 83.13it/s]

 67%|██████▋   | 67/100 [00:00<00:00, 83.55it/s]

 76%|███████▌  | 76/100 [00:00<00:00, 81.03it/s]

 85%|████████▌ | 85/100 [00:01<00:00, 79.54it/s]

 94%|█████████▍| 94/100 [00:01<00:00, 82.35it/s]

                                                
Models:  70%|███████   | 7/10 [00:07<00:03,  1.19s/it]

  0%|          | 0/100 [00:00<?, ?it/s]

 12%|█▏        | 12/100 [00:00<00:00, 113.35it/s]

 24%|██▍       | 24/100 [00:00<00:00, 93.12it/s] 

 34%|███▍      | 34/100 [00:00<00:00, 91.32it/s]

 44%|████▍     | 44/100 [00:00<00:00, 84.70it/s]

 53%|█████▎    | 53/100 [00:00<00:00, 82.70it/s]

 62%|██████▏   | 62/100 [00:00<00:00, 83.22it/s]

 71%|███████   | 71/100 [00:00<00:00, 84.46it/s]

 80%|████████  | 80/100 [00:00<00:00, 83.24it/s]

 89%|████████▉ | 89/100 [00:01<00:00, 82.30it/s]

 98%|█████████▊| 98/100 [00:01<00:00, 83.37it/s]

                                                
Models:  80%|████████  | 8/10 [00:09<00:02,  1.19s/it]

  0%|          | 0/100 [00:00<?, ?it/s]

 13%|█▎        | 13/100 [00:00<00:00, 119.38it/s]

 25%|██▌       | 25/100 [00:00<00:00, 95.72it/s] 

 35%|███▌      | 35/100 [00:00<00:00, 89.66it/s]

 45%|████▌     | 45/100 [00:00<00:00, 89.87it/s]

 55%|█████▌    | 55/100 [00:00<00:00, 85.27it/s]

 64%|██████▍   | 64/100 [00:00<00:00, 86.52it/s]

 73%|███████▎  | 73/100 [00:00<00:00, 86.15it/s]

 82%|████████▏ | 82/100 [00:00<00:00, 86.93it/s]

 91%|█████████ | 91/100 [00:01<00:00, 87.37it/s]

                                                
Models:  90%|█████████ | 9/10 [00:10<00:01,  1.17s/it]

  0%|          | 0/100 [00:00<?, ?it/s]

 10%|█         | 10/100 [00:00<00:00, 92.49it/s]

 20%|██        | 20/100 [00:00<00:00, 96.03it/s]

 31%|███       | 31/100 [00:00<00:00, 99.53it/s]

 41%|████      | 41/100 [00:00<00:00, 96.50it/s]

 51%|█████     | 51/100 [00:00<00:00, 95.23it/s]

 61%|██████    | 61/100 [00:00<00:00, 91.37it/s]

 71%|███████   | 71/100 [00:00<00:00, 90.95it/s]

 81%|████████  | 81/100 [00:00<00:00, 90.51it/s]

 91%|█████████ | 91/100 [00:00<00:00, 91.16it/s]

                                                
Models: 100%|██████████| 10/10 [00:11<00:00,  1.14s/it]
Models: 100%|██████████| 10/10 [00:11<00:00,  1.13s/it]
[ FAIL 0 | WARN 0 | SKIP 0 | PASS 29 ]
> 
> proc.time()
   user  system elapsed 
151.996   4.788 164.684 

Example timings

spatialDE.Rcheck/spatialDE-Ex.timings

nameusersystemelapsed
FSV_sig 9.958 2.57616.077
mockSVG0.4940.0870.593
modelSearch3.5810.4844.128
model_search3.0490.4363.404
multiGenePlots3.6890.3844.030
regress_out0.3170.0080.328
run1.6200.2051.862
spatialDE2.1620.1711.828
spatialPatterns2.5560.3143.502
spatial_patterns29.922 4.36532.382
stabilize0.1690.0130.159