Back to Multiple platform build/check report for BioC 3.21:   simplified   long
ABCDEFGH[I]JKLMNOPQRSTUVWXYZ

This page was generated on 2025-02-06 11:41 -0500 (Thu, 06 Feb 2025).

HostnameOSArch (*)R versionInstalled pkgs
nebbiolo1Linux (Ubuntu 24.04.1 LTS)x86_64R Under development (unstable) (2025-01-20 r87609) -- "Unsuffered Consequences" 4719
palomino7Windows Server 2022 Datacenterx64R Under development (unstable) (2025-01-21 r87610 ucrt) -- "Unsuffered Consequences" 4480
lconwaymacOS 12.7.1 Montereyx86_64R Under development (unstable) (2025-01-22 r87618) -- "Unsuffered Consequences" 4491
kjohnson3macOS 13.7.1 Venturaarm64R Under development (unstable) (2025-01-20 r87609) -- "Unsuffered Consequences" 4444
Click on any hostname to see more info about the system (e.g. compilers)      (*) as reported by 'uname -p', except on Windows and Mac OS X

Package 1052/2295HostnameOS / ArchINSTALLBUILDCHECKBUILD BIN
ISAnalytics 1.17.1  (landing page)
Francesco Gazzo
Snapshot Date: 2025-02-05 13:48 -0500 (Wed, 05 Feb 2025)
git_url: https://git.bioconductor.org/packages/ISAnalytics
git_branch: devel
git_last_commit: 3b0f63a
git_last_commit_date: 2024-12-05 05:16:21 -0500 (Thu, 05 Dec 2024)
nebbiolo1Linux (Ubuntu 24.04.1 LTS) / x86_64  OK    OK    OK  UNNEEDED, same version is already published
palomino7Windows Server 2022 Datacenter / x64  OK    OK    OK    OK  UNNEEDED, same version is already published
lconwaymacOS 12.7.1 Monterey / x86_64  OK    OK    OK    OK  UNNEEDED, same version is already published
kjohnson3macOS 13.7.1 Ventura / arm64  OK    OK    OK    OK  UNNEEDED, same version is already published


CHECK results for ISAnalytics on palomino7

To the developers/maintainers of the ISAnalytics package:
- Allow up to 24 hours (and sometimes 48 hours) for your latest push to git@git.bioconductor.org:packages/ISAnalytics.git to reflect on this report. See Troubleshooting Build Report for more information.
- Use the following Renviron settings to reproduce errors and warnings.
- If 'R CMD check' started to fail recently on the Linux builder(s) over a missing dependency, add the missing dependency to 'Suggests:' in your DESCRIPTION file. See Renviron.bioc for more information.

raw results


Summary

Package: ISAnalytics
Version: 1.17.1
Command: E:\biocbuild\bbs-3.21-bioc\R\bin\R.exe CMD check --no-multiarch --install=check:ISAnalytics.install-out.txt --library=E:\biocbuild\bbs-3.21-bioc\R\library --no-vignettes --timings ISAnalytics_1.17.1.tar.gz
StartedAt: 2025-02-06 02:42:28 -0500 (Thu, 06 Feb 2025)
EndedAt: 2025-02-06 02:52:10 -0500 (Thu, 06 Feb 2025)
EllapsedTime: 582.3 seconds
RetCode: 0
Status:   OK  
CheckDir: ISAnalytics.Rcheck
Warnings: 0

Command output

##############################################################################
##############################################################################
###
### Running command:
###
###   E:\biocbuild\bbs-3.21-bioc\R\bin\R.exe CMD check --no-multiarch --install=check:ISAnalytics.install-out.txt --library=E:\biocbuild\bbs-3.21-bioc\R\library --no-vignettes --timings ISAnalytics_1.17.1.tar.gz
###
##############################################################################
##############################################################################


* using log directory 'E:/biocbuild/bbs-3.21-bioc/meat/ISAnalytics.Rcheck'
* using R Under development (unstable) (2025-01-21 r87610 ucrt)
* using platform: x86_64-w64-mingw32
* R was compiled by
    gcc.exe (GCC) 13.3.0
    GNU Fortran (GCC) 13.3.0
* running under: Windows Server 2022 x64 (build 20348)
* using session charset: UTF-8
* using option '--no-vignettes'
* checking for file 'ISAnalytics/DESCRIPTION' ... OK
* this is package 'ISAnalytics' version '1.17.1'
* package encoding: UTF-8
* checking package namespace information ... OK
* checking package dependencies ... OK
* checking if this is a source package ... OK
* checking if there is a namespace ... OK
* checking for hidden files and directories ... OK
* checking for portable file names ... OK
* checking whether package 'ISAnalytics' can be installed ... OK
* checking installed package size ... OK
* checking package directory ... OK
* checking 'build' directory ... OK
* checking DESCRIPTION meta-information ... OK
* checking top-level files ... OK
* checking for left-over files ... OK
* checking index information ... OK
* checking package subdirectories ... OK
* checking code files for non-ASCII characters ... OK
* checking R files for syntax errors ... OK
* checking whether the package can be loaded ... OK
* checking whether the package can be loaded with stated dependencies ... OK
* checking whether the package can be unloaded cleanly ... OK
* checking whether the namespace can be loaded with stated dependencies ... OK
* checking whether the namespace can be unloaded cleanly ... OK
* checking whether startup messages can be suppressed ... OK
* checking dependencies in R code ... OK
* checking S3 generic/method consistency ... OK
* checking replacement functions ... OK
* checking foreign function calls ... OK
* checking R code for possible problems ... OK
* checking Rd files ... NOTE
checkRd: (-1) refGenes_hg19.Rd:21: Lost braces; missing escapes or markup?
    21 | \item Download from {http://hgdownload.soe.ucsc.edu/goldenPath/hg19/database/}
       |                     ^
* checking Rd metadata ... OK
* checking Rd cross-references ... OK
* checking for missing documentation entries ... OK
* checking for code/documentation mismatches ... OK
* checking Rd \usage sections ... OK
* checking Rd contents ... OK
* checking for unstated dependencies in examples ... OK
* checking contents of 'data' directory ... OK
* checking data for non-ASCII characters ... OK
* checking data for ASCII and uncompressed saves ... OK
* checking files in 'vignettes' ... OK
* checking examples ... OK
Examples with CPU (user + system) or elapsed time > 5s
                               user system elapsed
integration_alluvial_plot      3.33   0.09   10.27
import_parallel_Vispa2Matrices 2.22   0.32   18.44
import_Vispa2_stats            1.91   0.52    7.60
top_cis_overtime_heatmap       1.34   0.11    7.61
CIS_grubbs_overtime            1.36   0.05    8.03
sharing_heatmap                1.18   0.00   10.05
sharing_venn                   0.97   0.08   36.77
iss_source                     0.91   0.06    7.92
HSC_population_plot            0.89   0.02    6.56
remove_collisions              0.78   0.06    6.49
realign_after_collisions       0.74   0.02    6.08
is_sharing                     0.73   0.02    8.15
compute_near_integrations      0.67   0.02   10.49
HSC_population_size_estimate   0.67   0.01    5.93
* checking for unstated dependencies in 'tests' ... OK
* checking tests ...
  Running 'testthat.R'
 OK
* checking for unstated dependencies in vignettes ... OK
* checking package vignettes ... OK
* checking running R code from vignettes ... SKIPPED
* checking re-building of vignette outputs ... SKIPPED
* checking PDF version of manual ... OK
* DONE

Status: 1 NOTE
See
  'E:/biocbuild/bbs-3.21-bioc/meat/ISAnalytics.Rcheck/00check.log'
for details.


Installation output

ISAnalytics.Rcheck/00install.out

##############################################################################
##############################################################################
###
### Running command:
###
###   E:\biocbuild\bbs-3.21-bioc\R\bin\R.exe CMD INSTALL ISAnalytics
###
##############################################################################
##############################################################################


* installing to library 'E:/biocbuild/bbs-3.21-bioc/R/library'
* installing *source* package 'ISAnalytics' ...
** this is package 'ISAnalytics' version '1.17.1'
** using staged installation
** R
** data
** inst
** byte-compile and prepare package for lazy loading
** help
*** installing help indices
*** copying figures
** building package indices
** installing vignettes
** testing if installed package can be loaded from temporary location
** testing if installed package can be loaded from final location
** testing if installed package keeps a record of temporary installation path
* DONE (ISAnalytics)

Tests output

ISAnalytics.Rcheck/tests/testthat.Rout


R Under development (unstable) (2025-01-21 r87610 ucrt) -- "Unsuffered Consequences"
Copyright (C) 2025 The R Foundation for Statistical Computing
Platform: x86_64-w64-mingw32/x64

R is free software and comes with ABSOLUTELY NO WARRANTY.
You are welcome to redistribute it under certain conditions.
Type 'license()' or 'licence()' for distribution details.

R is a collaborative project with many contributors.
Type 'contributors()' for more information and
'citation()' on how to cite R or R packages in publications.

Type 'demo()' for some demos, 'help()' for on-line help, or
'help.start()' for an HTML browser interface to help.
Type 'q()' to quit R.

> library(testthat)
> library(ISAnalytics)
> 
> test_check("ISAnalytics")
Loading required namespace: plotly
Loading required namespace: rmarkdown
Report correctly saved
i Report saved to: E:/biocbuild/bbs-3.21-bioc/tmpdir/RtmpsFw9CS/file22e4455f412bc/2025-02-06_collision_removal_report.html
Report correctly saved
i Report saved to: E:/biocbuild/bbs-3.21-bioc/tmpdir/RtmpsFw9CS/file22e4422da1306/2025-02-06_outlier_test_pool_fragments_report.html
[ FAIL 0 | WARN 1 | SKIP 0 | PASS 834 ]

[ FAIL 0 | WARN 1 | SKIP 0 | PASS 834 ]
> 
> proc.time()
   user  system elapsed 
 106.59    7.35  320.09 

Example timings

ISAnalytics.Rcheck/ISAnalytics-Ex.timings

nameusersystemelapsed
CIS_grubbs1.000.121.14
CIS_grubbs_overtime1.360.058.03
CIS_volcano_plot1.600.061.65
HSC_population_plot0.890.026.56
HSC_population_size_estimate0.670.015.93
NGSdataExplorer000
aggregate_metadata0.160.020.17
aggregate_values_by_key0.090.010.11
annotation_issues0.050.000.04
as_sparse_matrix0.080.020.10
available_outlier_tests000
available_tags0.030.000.03
blood_lineages_default0.030.000.03
circos_genomic_density000
clinical_relevant_suspicious_genes0.030.000.03
comparison_matrix0.040.000.03
compute_abundance0.040.000.05
compute_near_integrations 0.67 0.0210.49
cumulative_count_union000
cumulative_is0.270.000.27
date_formats000
default_af_transform000
default_iss_file_prefixes000
default_meta_agg0.030.000.03
default_rec_agg_lambdas000
default_report_path0.010.020.03
default_stats1.160.111.26
enable_progress_bars0.030.000.04
export_ISA_settings0.080.040.12
fisher_scatterplot1.720.101.81
gene_frequency_fisher1.260.061.33
generate_Vispa2_launch_AF0.240.010.24
generate_blank_association_file0.010.000.01
generate_default_folder_structure0.780.330.95
import_ISA_settings0.080.140.22
import_Vispa2_stats1.910.527.60
import_association_file1.200.441.43
import_parallel_Vispa2Matrices 2.22 0.3218.44
import_single_Vispa2Matrix1.530.271.67
inspect_tags0.020.030.05
integration_alluvial_plot 3.33 0.0910.27
is_sharing0.730.028.15
iss_source0.910.067.92
known_clinical_oncogenes0.010.000.02
mandatory_IS_vars0.130.000.13
matching_options000
outlier_filter0.180.000.18
outliers_by_pool_fragments0.220.000.22
pcr_id_column0.030.000.03
purity_filter0.440.030.47
quantification_types000
realign_after_collisions0.740.026.08
reduced_AF_columns0.060.000.06
refGene_table_cols000
remove_collisions0.780.066.49
reset_mandatory_IS_vars0.020.080.09
sample_statistics0.340.080.42
separate_quant_matrices0.030.000.03
set_mandatory_IS_vars0.110.090.21
set_matrix_file_suffixes0.020.030.04
sharing_heatmap 1.18 0.0010.05
sharing_venn 0.97 0.0836.77
threshold_filter000
top_abund_tableGrob0.720.020.74
top_cis_overtime_heatmap1.340.117.61
top_integrations0.050.000.04
top_targeted_genes0.560.000.56
transform_columns0.030.000.04