Back to Multiple platform build/check report for BioC 3.21: simplified long |
|
This page was generated on 2025-02-06 11:41 -0500 (Thu, 06 Feb 2025).
Hostname | OS | Arch (*) | R version | Installed pkgs |
---|---|---|---|---|
nebbiolo1 | Linux (Ubuntu 24.04.1 LTS) | x86_64 | R Under development (unstable) (2025-01-20 r87609) -- "Unsuffered Consequences" | 4719 |
palomino7 | Windows Server 2022 Datacenter | x64 | R Under development (unstable) (2025-01-21 r87610 ucrt) -- "Unsuffered Consequences" | 4480 |
lconway | macOS 12.7.1 Monterey | x86_64 | R Under development (unstable) (2025-01-22 r87618) -- "Unsuffered Consequences" | 4491 |
kjohnson3 | macOS 13.7.1 Ventura | arm64 | R Under development (unstable) (2025-01-20 r87609) -- "Unsuffered Consequences" | 4444 |
Click on any hostname to see more info about the system (e.g. compilers) (*) as reported by 'uname -p', except on Windows and Mac OS X |
Package 116/2295 | Hostname | OS / Arch | INSTALL | BUILD | CHECK | BUILD BIN | ||||||||
autonomics 1.15.143 (landing page) Aditya Bhagwat
| nebbiolo1 | Linux (Ubuntu 24.04.1 LTS) / x86_64 | OK | OK | OK | ![]() | ||||||||
palomino7 | Windows Server 2022 Datacenter / x64 | OK | OK | OK | OK | ![]() | ||||||||
lconway | macOS 12.7.1 Monterey / x86_64 | OK | OK | OK | OK | ![]() | ||||||||
kjohnson3 | macOS 13.7.1 Ventura / arm64 | OK | OK | OK | OK | ![]() | ||||||||
To the developers/maintainers of the autonomics package: - Allow up to 24 hours (and sometimes 48 hours) for your latest push to git@git.bioconductor.org:packages/autonomics.git to reflect on this report. See Troubleshooting Build Report for more information. - Use the following Renviron settings to reproduce errors and warnings. - If 'R CMD check' started to fail recently on the Linux builder(s) over a missing dependency, add the missing dependency to 'Suggests:' in your DESCRIPTION file. See Renviron.bioc for more information. |
Package: autonomics |
Version: 1.15.143 |
Command: /Library/Frameworks/R.framework/Resources/bin/R CMD check --install=check:autonomics.install-out.txt --library=/Library/Frameworks/R.framework/Resources/library --no-vignettes --timings autonomics_1.15.143.tar.gz |
StartedAt: 2025-02-05 18:57:43 -0500 (Wed, 05 Feb 2025) |
EndedAt: 2025-02-05 19:15:13 -0500 (Wed, 05 Feb 2025) |
EllapsedTime: 1049.5 seconds |
RetCode: 0 |
Status: OK |
CheckDir: autonomics.Rcheck |
Warnings: 0 |
############################################################################## ############################################################################## ### ### Running command: ### ### /Library/Frameworks/R.framework/Resources/bin/R CMD check --install=check:autonomics.install-out.txt --library=/Library/Frameworks/R.framework/Resources/library --no-vignettes --timings autonomics_1.15.143.tar.gz ### ############################################################################## ############################################################################## * using log directory ‘/Users/biocbuild/bbs-3.21-bioc/meat/autonomics.Rcheck’ * using R Under development (unstable) (2025-01-22 r87618) * using platform: x86_64-apple-darwin20 * R was compiled by Apple clang version 14.0.0 (clang-1400.0.29.202) GNU Fortran (GCC) 14.2.0 * running under: macOS Monterey 12.7.6 * using session charset: UTF-8 * using option ‘--no-vignettes’ * checking for file ‘autonomics/DESCRIPTION’ ... OK * checking extension type ... Package * this is package ‘autonomics’ version ‘1.15.143’ * package encoding: UTF-8 * checking package namespace information ... OK * checking package dependencies ... INFO Imports includes 30 non-default packages. Importing from so many packages makes the package vulnerable to any of them becoming unavailable. Move as many as possible to Suggests and use conditionally. * checking if this is a source package ... OK * checking if there is a namespace ... OK * checking for hidden files and directories ... NOTE Found the following hidden files and directories: .BBSoptions These were most likely included in error. See section ‘Package structure’ in the ‘Writing R Extensions’ manual. * checking for portable file names ... OK * checking for sufficient/correct file permissions ... OK * checking whether package ‘autonomics’ can be installed ... OK * checking installed package size ... OK * checking package directory ... OK * checking ‘build’ directory ... OK * checking DESCRIPTION meta-information ... OK * checking top-level files ... OK * checking for left-over files ... OK * checking index information ... OK * checking package subdirectories ... OK * checking code files for non-ASCII characters ... OK * checking R files for syntax errors ... OK * checking whether the package can be loaded ... OK * checking whether the package can be loaded with stated dependencies ... OK * checking whether the package can be unloaded cleanly ... OK * checking whether the namespace can be loaded with stated dependencies ... OK * checking whether the namespace can be unloaded cleanly ... OK * checking dependencies in R code ... OK * checking S3 generic/method consistency ... OK * checking replacement functions ... OK * checking foreign function calls ... OK * checking R code for possible problems ... OK * checking Rd files ... OK * checking Rd metadata ... OK * checking Rd cross-references ... OK * checking for missing documentation entries ... OK * checking for code/documentation mismatches ... OK * checking Rd \usage sections ... OK * checking Rd contents ... OK * checking for unstated dependencies in examples ... OK * checking files in ‘vignettes’ ... OK * checking examples ... OK Examples with CPU (user + system) or elapsed time > 5s user system elapsed read_diann_proteingroups 105.834 2.033 108.868 read_rnaseq_counts 36.416 3.238 40.226 fit_linmod 32.479 0.283 32.913 plot_exprs_per_coef 25.334 0.164 25.617 plot_exprs 24.165 0.211 24.522 rm_diann_contaminants 21.864 0.448 22.544 default_formula 18.789 0.339 19.304 read_somascan 15.950 0.104 16.190 read_metabolon 15.746 0.146 16.008 analyze 15.530 0.162 15.795 plot_summary 15.379 0.124 15.571 plot_volcano 12.976 0.120 13.153 plot_densities 8.541 0.231 8.844 ftype 8.472 0.243 8.785 extract_coef_features 7.322 0.069 7.420 plot_sample_nas 6.623 0.085 6.759 fcluster 6.569 0.062 6.656 read_fragpipe 6.190 0.101 6.360 code 5.482 0.080 5.599 biplot_covariates 5.469 0.085 5.590 reset_fit 5.397 0.080 5.524 fit_survival 5.318 0.054 5.403 plot_subgroup_points 5.041 0.080 5.151 subtract_baseline 4.923 0.196 5.179 * checking for unstated dependencies in ‘tests’ ... OK * checking tests ... Running ‘testthat.R’ OK * checking for unstated dependencies in vignettes ... OK * checking package vignettes ... OK * checking running R code from vignettes ... SKIPPED * checking re-building of vignette outputs ... SKIPPED * checking PDF version of manual ... OK * DONE Status: 1 NOTE See ‘/Users/biocbuild/bbs-3.21-bioc/meat/autonomics.Rcheck/00check.log’ for details.
autonomics.Rcheck/00install.out
############################################################################## ############################################################################## ### ### Running command: ### ### /Library/Frameworks/R.framework/Resources/bin/R CMD INSTALL autonomics ### ############################################################################## ############################################################################## * installing to library ‘/Library/Frameworks/R.framework/Versions/4.5-x86_64/Resources/library’ * installing *source* package ‘autonomics’ ... ** this is package ‘autonomics’ version ‘1.15.143’ ** using staged installation ** R ** inst ** byte-compile and prepare package for lazy loading ** help *** installing help indices ** building package indices ** installing vignettes ** testing if installed package can be loaded from temporary location ** testing if installed package can be loaded from final location ** testing if installed package keeps a record of temporary installation path * DONE (autonomics)
autonomics.Rcheck/tests/testthat.Rout
R Under development (unstable) (2025-01-22 r87618) -- "Unsuffered Consequences" Copyright (C) 2025 The R Foundation for Statistical Computing Platform: x86_64-apple-darwin20 R is free software and comes with ABSOLUTELY NO WARRANTY. You are welcome to redistribute it under certain conditions. Type 'license()' or 'licence()' for distribution details. R is a collaborative project with many contributors. Type 'contributors()' for more information and 'citation()' on how to cite R or R packages in publications. Type 'demo()' for some demos, 'help()' for on-line help, or 'help.start()' for an HTML browser interface to help. Type 'q()' to quit R. > library(testthat) > library(autonomics) Attaching package: 'autonomics' The following objects are masked from 'package:stats': biplot, loadings The following object is masked from 'package:base': beta > > test_check("autonomics") [ FAIL 0 | WARN 2 | SKIP 0 | PASS 158 ] [ FAIL 0 | WARN 2 | SKIP 0 | PASS 158 ] > > proc.time() user system elapsed 151.865 9.437 207.679
autonomics.Rcheck/autonomics-Ex.timings
name | user | system | elapsed | |
AUTONOMICS_DATASETS | 0.000 | 0.000 | 0.001 | |
COMPOUNDDISCOVERER_PATTERNS | 0.000 | 0.000 | 0.001 | |
FITSEP | 0.000 | 0.000 | 0.001 | |
LINMODENGINES | 0.000 | 0.000 | 0.001 | |
MAXQUANT_PATTERNS | 0 | 0 | 0 | |
SURVIVALENGINES | 0 | 0 | 0 | |
TAXON_TO_ORGNAME | 0.001 | 0.000 | 0.000 | |
TESTS | 0 | 0 | 0 | |
X | 1.765 | 0.092 | 1.883 | |
abstract_fit | 1.959 | 0.085 | 2.061 | |
add_adjusted_pvalues | 1.328 | 0.028 | 1.368 | |
add_assay_means | 0.393 | 0.016 | 0.412 | |
add_facetvars | 1.746 | 0.078 | 1.843 | |
add_opentargets_by_uniprot | 0.436 | 0.008 | 0.449 | |
add_psp | 0.585 | 0.017 | 0.606 | |
add_smiles | 0.514 | 0.048 | 0.574 | |
analysis | 0.444 | 0.008 | 0.458 | |
analyze | 15.530 | 0.162 | 15.795 | |
annotate_maxquant | 0.937 | 0.032 | 0.975 | |
annotate_uniprot_rest | 0.081 | 0.013 | 2.774 | |
assert_is_valid_sumexp | 0.601 | 0.044 | 0.649 | |
bin | 0.446 | 0.010 | 0.458 | |
biplot | 4.512 | 0.083 | 4.624 | |
biplot_corrections | 3.184 | 0.060 | 3.265 | |
biplot_covariates | 5.469 | 0.085 | 5.590 | |
block2lme | 0.003 | 0.000 | 0.003 | |
center | 1.495 | 0.021 | 1.527 | |
code | 5.482 | 0.080 | 5.599 | |
coefs | 0.827 | 0.046 | 0.880 | |
collapsed_entrezg_to_symbol | 0.001 | 0.001 | 0.001 | |
contrast_subgroup_cols | 0.632 | 0.048 | 0.686 | |
count_in | 0.000 | 0.001 | 0.002 | |
counts | 0.363 | 0.004 | 0.368 | |
counts2cpm | 0.353 | 0.005 | 0.359 | |
counts2tpm | 0.301 | 0.004 | 0.306 | |
cpm | 0.302 | 0.003 | 0.307 | |
create_design | 0.694 | 0.045 | 0.742 | |
default_formula | 18.789 | 0.339 | 19.304 | |
default_geom | 0.618 | 0.121 | 0.744 | |
default_sfile | 0.002 | 0.001 | 0.003 | |
demultiplex | 0.013 | 0.001 | 0.015 | |
dequantify | 0.002 | 0.001 | 0.002 | |
dequantify_compounddiscoverer | 0.001 | 0.000 | 0.001 | |
dot-coxph | 0.427 | 0.044 | 0.476 | |
dot-merge | 0.025 | 0.001 | 0.026 | |
dot-read_maxquant_proteingroups | 0.113 | 0.006 | 0.118 | |
download_data | 0.000 | 0.001 | 0.001 | |
download_gtf | 0 | 0 | 0 | |
download_mcclain21 | 0.001 | 0.001 | 0.000 | |
dt2mat | 0.003 | 0.000 | 0.004 | |
enrichment | 2.048 | 0.012 | 2.067 | |
entrezg_to_symbol | 0.001 | 0.001 | 0.001 | |
extract_coef_features | 7.322 | 0.069 | 7.420 | |
extract_rectangle | 0.145 | 0.045 | 0.202 | |
fcluster | 6.569 | 0.062 | 6.656 | |
fcor | 1.203 | 0.029 | 1.240 | |
fdata | 0.563 | 0.015 | 0.581 | |
fdr2p | 1.105 | 0.044 | 1.155 | |
filter_exprs_replicated_in_some_subgroup | 1.052 | 0.044 | 1.103 | |
filter_features | 0.549 | 0.040 | 0.591 | |
filter_medoid | 0.786 | 0.019 | 0.806 | |
filter_samples | 0.517 | 0.043 | 0.563 | |
fit_linmod | 32.479 | 0.283 | 32.913 | |
fit_survival | 5.318 | 0.054 | 5.403 | |
fitcoefs | 0.936 | 0.065 | 1.011 | |
fits | 0.895 | 0.046 | 0.950 | |
fix_xlgenes | 0.002 | 0.000 | 0.002 | |
flevels | 0.455 | 0.007 | 0.464 | |
fnames | 0.547 | 0.008 | 0.559 | |
formula2str | 0 | 0 | 0 | |
ftype | 8.472 | 0.243 | 8.785 | |
fvalues | 0.436 | 0.006 | 0.444 | |
fvars | 0.483 | 0.007 | 0.492 | |
genome_to_orgdb | 0.000 | 0.000 | 0.001 | |
group_by_level | 0.001 | 0.001 | 0.002 | |
guess_compounddiscoverer_quantity | 0.001 | 0.001 | 0.002 | |
guess_fitsep | 0.584 | 0.010 | 0.599 | |
guess_maxquant_quantity | 0.005 | 0.002 | 0.006 | |
guess_sep | 0.506 | 0.044 | 0.556 | |
has_multiple_levels | 0.114 | 0.004 | 0.119 | |
hdlproteins | 0.053 | 0.032 | 0.089 | |
impute | 4.327 | 0.044 | 4.395 | |
invert_subgroups | 0.664 | 0.009 | 0.676 | |
is_collapsed_subset | 0.000 | 0.000 | 0.001 | |
is_correlation_matrix | 0.001 | 0.000 | 0.002 | |
is_diann_report | 0.244 | 0.045 | 0.368 | |
is_fastadt | 0.068 | 0.003 | 0.071 | |
is_file | 0 | 0 | 0 | |
is_fraction | 0.002 | 0.000 | 0.003 | |
is_imputed | 0.781 | 0.028 | 0.813 | |
is_positive_number | 0.002 | 0.000 | 0.002 | |
is_scalar_subset | 0.308 | 0.004 | 0.314 | |
is_sig | 1.806 | 0.016 | 1.830 | |
is_valid_formula | 0.054 | 0.002 | 0.055 | |
keep_connected_blocks | 0.512 | 0.043 | 0.558 | |
keep_connected_features | 0.720 | 0.044 | 0.769 | |
keep_replicated_features | 0.834 | 0.044 | 0.887 | |
label2index | 0.001 | 0.000 | 0.001 | |
list2mat | 0.000 | 0.000 | 0.001 | |
log2counts | 0.404 | 0.005 | 0.412 | |
log2cpm | 0.381 | 0.004 | 0.388 | |
log2diffs | 0.347 | 0.008 | 0.360 | |
log2proteins | 0.331 | 0.005 | 0.338 | |
log2sites | 0.325 | 0.006 | 0.331 | |
log2tpm | 0.343 | 0.002 | 0.345 | |
log2transform | 3.860 | 0.050 | 3.936 | |
logical2factor | 0.001 | 0.001 | 0.002 | |
make_alpha_palette | 0.561 | 0.052 | 0.632 | |
make_colors | 0.010 | 0.001 | 0.012 | |
make_volcano_dt | 0.966 | 0.012 | 0.986 | |
map_fvalues | 0.441 | 0.010 | 0.454 | |
matrix2sumexp | 1.028 | 0.048 | 1.086 | |
merge_sample_file | 0.457 | 0.008 | 0.469 | |
merge_sdata | 0.590 | 0.055 | 0.650 | |
message_df | 0.002 | 0.000 | 0.003 | |
model_coefs | 0.777 | 0.050 | 0.839 | |
modelvar | 3.953 | 0.065 | 4.048 | |
order_on_p | 1.276 | 0.045 | 1.331 | |
pca | 3.140 | 0.075 | 3.264 | |
pg_to_canonical | 0.007 | 0.000 | 0.007 | |
plot_coef_densities | 1.257 | 0.058 | 1.332 | |
plot_contrast_venn | 2.620 | 0.088 | 2.741 | |
plot_contrastogram | 3.054 | 0.125 | 3.200 | |
plot_data | 1.465 | 0.088 | 1.564 | |
plot_densities | 8.541 | 0.231 | 8.844 | |
plot_design | 0.682 | 0.012 | 0.699 | |
plot_exprs | 24.165 | 0.211 | 24.522 | |
plot_exprs_per_coef | 25.334 | 0.164 | 25.617 | |
plot_fit_summary | 2.241 | 0.055 | 2.311 | |
plot_heatmap | 2.257 | 0.015 | 2.280 | |
plot_joint_density | 3.006 | 0.072 | 3.105 | |
plot_matrix | 0.459 | 0.035 | 0.497 | |
plot_sample_nas | 6.623 | 0.085 | 6.759 | |
plot_subgroup_points | 5.041 | 0.080 | 5.151 | |
plot_summary | 15.379 | 0.124 | 15.571 | |
plot_survival | 3.863 | 0.027 | 3.908 | |
plot_venn | 0.005 | 0.001 | 0.006 | |
plot_venn_heatmap | 0.023 | 0.002 | 0.026 | |
plot_violins | 4.180 | 0.072 | 4.271 | |
plot_volcano | 12.976 | 0.120 | 13.153 | |
preprocess_rnaseq_counts | 0.342 | 0.003 | 0.346 | |
pull_columns | 0.003 | 0.001 | 0.004 | |
read_affymetrix | 0 | 0 | 0 | |
read_diann_proteingroups | 105.834 | 2.033 | 108.868 | |
read_fragpipe | 6.190 | 0.101 | 6.360 | |
read_maxquant_phosphosites | 1.527 | 0.034 | 1.574 | |
read_maxquant_proteingroups | 1.358 | 0.024 | 1.398 | |
read_metabolon | 15.746 | 0.146 | 16.008 | |
read_msigdt | 0.001 | 0.000 | 0.000 | |
read_olink | 1.529 | 0.094 | 1.642 | |
read_rectangles | 0.231 | 0.025 | 0.260 | |
read_rnaseq_counts | 36.416 | 3.238 | 40.226 | |
read_salmon | 0.000 | 0.000 | 0.001 | |
read_somascan | 15.950 | 0.104 | 16.190 | |
read_uniprotdt | 0.386 | 0.024 | 0.413 | |
reset_fit | 5.397 | 0.080 | 5.524 | |
rm_diann_contaminants | 21.864 | 0.448 | 22.544 | |
rm_missing_in_some_samples | 0.472 | 0.051 | 0.529 | |
rm_unmatched_samples | 0.653 | 0.017 | 0.677 | |
scaledlibsizes | 0.308 | 0.004 | 0.316 | |
scoremat | 1.034 | 0.048 | 1.091 | |
slevels | 0.377 | 0.008 | 0.387 | |
snames | 0.390 | 0.007 | 0.399 | |
split_extract_fixed | 0.593 | 0.045 | 0.651 | |
split_samples | 1.302 | 0.074 | 1.395 | |
stri_any_regex | 0.000 | 0.001 | 0.000 | |
stri_detect_fixed_in_collapsed | 0.326 | 0.007 | 0.337 | |
subgroup_matrix | 0.519 | 0.046 | 0.572 | |
subtract_baseline | 4.923 | 0.196 | 5.179 | |
sumexp_to_longdt | 2.032 | 0.114 | 2.174 | |
sumexp_to_tsv | 0.523 | 0.009 | 0.536 | |
sumexplist_to_longdt | 1.530 | 0.024 | 1.569 | |
summarize_fit | 1.757 | 0.054 | 1.825 | |
svalues | 0.521 | 0.011 | 0.539 | |
svars | 0.417 | 0.007 | 0.427 | |
systematic_nas | 0.584 | 0.009 | 0.607 | |
tag_features | 1.119 | 0.035 | 1.166 | |
tag_hdlproteins | 0.516 | 0.030 | 0.552 | |
taxon2org | 0.001 | 0.000 | 0.002 | |
tpm | 0.327 | 0.004 | 0.331 | |
uncollapse | 0.096 | 0.006 | 0.103 | |
values | 0.408 | 0.016 | 0.427 | |
varlevels_dont_clash | 0.023 | 0.001 | 0.024 | |
venn_detects | 0.562 | 0.009 | 0.575 | |
weights | 0.440 | 0.006 | 0.450 | |
write_xl | 0.790 | 0.050 | 0.849 | |
zero_to_na | 0.002 | 0.001 | 0.003 | |