Back to Multiple platform build/check report for BioC 3.21:   simplified   long
[A]BCDEFGHIJKLMNOPQRSTUVWXYZ

This page was generated on 2025-02-05 11:40 -0500 (Wed, 05 Feb 2025).

HostnameOSArch (*)R versionInstalled pkgs
nebbiolo1Linux (Ubuntu 24.04.1 LTS)x86_64R Under development (unstable) (2025-01-20 r87609) -- "Unsuffered Consequences" 4717
palomino7Windows Server 2022 Datacenterx64R Under development (unstable) (2025-01-21 r87610 ucrt) -- "Unsuffered Consequences" 4478
lconwaymacOS 12.7.1 Montereyx86_64R Under development (unstable) (2025-01-22 r87618) -- "Unsuffered Consequences" 4489
kjohnson3macOS 13.7.1 Venturaarm64R Under development (unstable) (2025-01-20 r87609) -- "Unsuffered Consequences" 4442
Click on any hostname to see more info about the system (e.g. compilers)      (*) as reported by 'uname -p', except on Windows and Mac OS X

Package 116/2295HostnameOS / ArchINSTALLBUILDCHECKBUILD BIN
autonomics 1.15.143  (landing page)
Aditya Bhagwat
Snapshot Date: 2025-02-04 13:40 -0500 (Tue, 04 Feb 2025)
git_url: https://git.bioconductor.org/packages/autonomics
git_branch: devel
git_last_commit: d6a7703
git_last_commit_date: 2025-01-28 04:51:36 -0500 (Tue, 28 Jan 2025)
nebbiolo1Linux (Ubuntu 24.04.1 LTS) / x86_64  OK    OK    OK  UNNEEDED, same version is already published
palomino7Windows Server 2022 Datacenter / x64  OK    OK    OK    OK  UNNEEDED, same version is already published
lconwaymacOS 12.7.1 Monterey / x86_64  OK    OK    OK    OK  UNNEEDED, same version is already published
kjohnson3macOS 13.7.1 Ventura / arm64  OK    OK    OK    OK  UNNEEDED, same version is already published


CHECK results for autonomics on palomino7

To the developers/maintainers of the autonomics package:
- Allow up to 24 hours (and sometimes 48 hours) for your latest push to git@git.bioconductor.org:packages/autonomics.git to reflect on this report. See Troubleshooting Build Report for more information.
- Use the following Renviron settings to reproduce errors and warnings.
- If 'R CMD check' started to fail recently on the Linux builder(s) over a missing dependency, add the missing dependency to 'Suggests:' in your DESCRIPTION file. See Renviron.bioc for more information.

raw results


Summary

Package: autonomics
Version: 1.15.143
Command: E:\biocbuild\bbs-3.21-bioc\R\bin\R.exe CMD check --no-multiarch --install=check:autonomics.install-out.txt --library=E:\biocbuild\bbs-3.21-bioc\R\library --no-vignettes --timings autonomics_1.15.143.tar.gz
StartedAt: 2025-02-04 23:08:45 -0500 (Tue, 04 Feb 2025)
EndedAt: 2025-02-04 23:27:32 -0500 (Tue, 04 Feb 2025)
EllapsedTime: 1127.3 seconds
RetCode: 0
Status:   OK  
CheckDir: autonomics.Rcheck
Warnings: 0

Command output

##############################################################################
##############################################################################
###
### Running command:
###
###   E:\biocbuild\bbs-3.21-bioc\R\bin\R.exe CMD check --no-multiarch --install=check:autonomics.install-out.txt --library=E:\biocbuild\bbs-3.21-bioc\R\library --no-vignettes --timings autonomics_1.15.143.tar.gz
###
##############################################################################
##############################################################################


* using log directory 'E:/biocbuild/bbs-3.21-bioc/meat/autonomics.Rcheck'
* using R Under development (unstable) (2025-01-21 r87610 ucrt)
* using platform: x86_64-w64-mingw32
* R was compiled by
    gcc.exe (GCC) 13.3.0
    GNU Fortran (GCC) 13.3.0
* running under: Windows Server 2022 x64 (build 20348)
* using session charset: UTF-8
* using option '--no-vignettes'
* checking for file 'autonomics/DESCRIPTION' ... OK
* checking extension type ... Package
* this is package 'autonomics' version '1.15.143'
* package encoding: UTF-8
* checking package namespace information ... OK
* checking package dependencies ... OK
* checking if this is a source package ... OK
* checking if there is a namespace ... OK
* checking for hidden files and directories ... NOTE
Found the following hidden files and directories:
  .BBSoptions
These were most likely included in error. See section 'Package
structure' in the 'Writing R Extensions' manual.
* checking for portable file names ... OK
* checking whether package 'autonomics' can be installed ... OK
* checking installed package size ... OK
* checking package directory ... OK
* checking 'build' directory ... OK
* checking DESCRIPTION meta-information ... OK
* checking top-level files ... OK
* checking for left-over files ... OK
* checking index information ... OK
* checking package subdirectories ... OK
* checking code files for non-ASCII characters ... OK
* checking R files for syntax errors ... OK
* checking whether the package can be loaded ... OK
* checking whether the package can be loaded with stated dependencies ... OK
* checking whether the package can be unloaded cleanly ... OK
* checking whether the namespace can be loaded with stated dependencies ... OK
* checking whether the namespace can be unloaded cleanly ... OK
* checking dependencies in R code ... OK
* checking S3 generic/method consistency ... OK
* checking replacement functions ... OK
* checking foreign function calls ... OK
* checking R code for possible problems ... OK
* checking Rd files ... OK
* checking Rd metadata ... OK
* checking Rd cross-references ... OK
* checking for missing documentation entries ... OK
* checking for code/documentation mismatches ... OK
* checking Rd \usage sections ... OK
* checking Rd contents ... OK
* checking for unstated dependencies in examples ... OK
* checking files in 'vignettes' ... OK
* checking examples ... OK
Examples with CPU (user + system) or elapsed time > 5s
                           user system elapsed
read_diann_proteingroups 141.20   4.97  143.20
read_rnaseq_counts        38.14   1.95   40.28
fit_linmod                39.31   0.55   40.90
rm_diann_contaminants     31.55   0.90   31.58
plot_exprs                26.83   0.24   27.07
plot_exprs_per_coef       26.81   0.21   27.04
default_formula           21.62   0.49   22.08
read_somascan             17.80   0.05   17.86
plot_summary              17.47   0.17   17.64
read_metabolon            17.03   0.22   17.23
plot_volcano              15.67   0.22   15.90
analyze                   14.79   0.19   16.95
read_fragpipe             12.66   0.30   12.83
plot_densities            10.43   0.27   10.70
ftype                      9.64   0.39   10.05
extract_coef_features      8.68   0.05    8.72
fcluster                   7.83   0.09    8.90
plot_sample_nas            7.22   0.11    7.33
reset_fit                  6.56   0.17    6.75
code                       6.42   0.14    6.60
biplot_covariates          6.39   0.15    6.57
fit_survival               6.25   0.08    6.66
plot_subgroup_points       5.93   0.12    6.06
subtract_baseline          5.78   0.14    5.93
biplot                     5.10   0.12    5.24
plot_violins               4.95   0.09    5.05
* checking for unstated dependencies in 'tests' ... OK
* checking tests ...
  Running 'testthat.R'
 OK
* checking for unstated dependencies in vignettes ... OK
* checking package vignettes ... OK
* checking running R code from vignettes ... SKIPPED
* checking re-building of vignette outputs ... SKIPPED
* checking PDF version of manual ... OK
* DONE

Status: 1 NOTE
See
  'E:/biocbuild/bbs-3.21-bioc/meat/autonomics.Rcheck/00check.log'
for details.


Installation output

autonomics.Rcheck/00install.out

##############################################################################
##############################################################################
###
### Running command:
###
###   E:\biocbuild\bbs-3.21-bioc\R\bin\R.exe CMD INSTALL autonomics
###
##############################################################################
##############################################################################


* installing to library 'E:/biocbuild/bbs-3.21-bioc/R/library'
* installing *source* package 'autonomics' ...
** this is package 'autonomics' version '1.15.143'
** using staged installation
** R
** inst
** byte-compile and prepare package for lazy loading
** help
*** installing help indices
** building package indices
** installing vignettes
** testing if installed package can be loaded from temporary location
** testing if installed package can be loaded from final location
** testing if installed package keeps a record of temporary installation path
* DONE (autonomics)

Tests output

autonomics.Rcheck/tests/testthat.Rout


R Under development (unstable) (2025-01-21 r87610 ucrt) -- "Unsuffered Consequences"
Copyright (C) 2025 The R Foundation for Statistical Computing
Platform: x86_64-w64-mingw32/x64

R is free software and comes with ABSOLUTELY NO WARRANTY.
You are welcome to redistribute it under certain conditions.
Type 'license()' or 'licence()' for distribution details.

R is a collaborative project with many contributors.
Type 'contributors()' for more information and
'citation()' on how to cite R or R packages in publications.

Type 'demo()' for some demos, 'help()' for on-line help, or
'help.start()' for an HTML browser interface to help.
Type 'q()' to quit R.

> library(testthat)
> library(autonomics)

Attaching package: 'autonomics'

The following objects are masked from 'package:stats':

    biplot, loadings

The following object is masked from 'package:base':

    beta

> 
> test_check("autonomics")
[ FAIL 0 | WARN 2 | SKIP 0 | PASS 158 ]

[ FAIL 0 | WARN 2 | SKIP 0 | PASS 158 ]
> 
> proc.time()
   user  system elapsed 
 178.92   11.98  200.75 

Example timings

autonomics.Rcheck/autonomics-Ex.timings

nameusersystemelapsed
AUTONOMICS_DATASETS000
COMPOUNDDISCOVERER_PATTERNS000
FITSEP000
LINMODENGINES000
MAXQUANT_PATTERNS000
SURVIVALENGINES000
TAXON_TO_ORGNAME000
TESTS000
X1.720.161.95
abstract_fit2.040.062.11
add_adjusted_pvalues1.280.001.28
add_assay_means0.430.000.42
add_facetvars1.390.111.50
add_opentargets_by_uniprot0.330.030.45
add_psp0.440.020.74
add_smiles0.390.030.51
analysis0.330.000.33
analyze14.79 0.1916.95
annotate_maxquant1.080.041.18
annotate_uniprot_rest0.030.061.46
assert_is_valid_sumexp0.520.100.61
bin0.440.030.47
biplot5.100.125.24
biplot_corrections4.110.154.25
biplot_covariates6.390.156.57
block2lme000
center1.520.021.53
code6.420.146.60
coefs0.830.060.89
collapsed_entrezg_to_symbol000
contrast_subgroup_cols0.700.050.76
count_in000
counts0.410.000.46
counts2cpm0.370.000.37
counts2tpm0.410.000.41
cpm0.290.000.29
create_design0.830.090.93
default_formula21.62 0.4922.08
default_geom0.630.030.66
default_sfile000
demultiplex0.010.000.01
dequantify000
dequantify_compounddiscoverer000
dot-coxph0.600.091.28
dot-merge0.010.000.02
dot-read_maxquant_proteingroups0.140.000.16
download_data000
download_gtf000
download_mcclain21000
dt2mat000
enrichment1.900.041.98
entrezg_to_symbol000
extract_coef_features8.680.058.72
extract_rectangle0.170.050.22
fcluster7.830.098.90
fcor1.390.031.53
fdata0.760.030.83
fdr2p1.250.031.30
filter_exprs_replicated_in_some_subgroup1.130.051.17
filter_features0.690.080.76
filter_medoid0.800.001.17
filter_samples0.530.030.57
fit_linmod39.31 0.5540.90
fit_survival6.250.086.66
fitcoefs1.160.031.19
fits0.840.090.93
fix_xlgenes000
flevels0.420.020.44
fnames0.720.000.72
formula2str000
ftype 9.64 0.3910.05
fvalues0.570.010.59
fvars0.540.030.58
genome_to_orgdb000
group_by_level000
guess_compounddiscoverer_quantity0.020.000.02
guess_fitsep0.580.000.57
guess_maxquant_quantity000
guess_sep0.590.050.64
has_multiple_levels0.080.000.08
hdlproteins0.040.040.11
impute4.180.004.17
invert_subgroups0.820.020.86
is_collapsed_subset000
is_correlation_matrix000
is_diann_report0.320.110.55
is_fastadt0.090.000.09
is_file000
is_fraction000
is_imputed2.060.032.09
is_positive_number000
is_scalar_subset0.380.010.41
is_sig2.050.112.16
is_valid_formula0.060.020.07
keep_connected_blocks0.620.060.69
keep_connected_features0.830.050.88
keep_replicated_features0.860.010.89
label2index000
list2mat000
log2counts0.270.000.26
log2cpm0.360.000.36
log2diffs0.370.020.39
log2proteins0.420.020.44
log2sites0.300.010.31
log2tpm0.330.020.35
log2transform4.230.064.29
logical2factor0.020.000.02
make_alpha_palette0.500.080.58
make_colors0.010.000.01
make_volcano_dt1.130.001.13
map_fvalues0.570.000.57
matrix2sumexp1.070.091.17
merge_sample_file0.410.020.43
merge_sdata0.640.090.74
message_df000
model_coefs0.640.050.69
modelvar3.990.084.06
order_on_p1.250.031.28
pca3.570.083.72
pg_to_canonical000
plot_coef_densities1.630.091.72
plot_contrast_venn2.700.112.83
plot_contrastogram3.140.193.47
plot_data1.570.061.64
plot_densities10.43 0.2710.70
plot_design0.830.030.86
plot_exprs26.83 0.2427.07
plot_exprs_per_coef26.81 0.2127.04
plot_fit_summary2.380.112.49
plot_heatmap2.750.022.76
plot_joint_density3.590.143.89
plot_matrix0.690.050.74
plot_sample_nas7.220.117.33
plot_subgroup_points5.930.126.06
plot_summary17.47 0.1717.64
plot_survival4.240.054.28
plot_venn000
plot_venn_heatmap0.030.000.03
plot_violins4.950.095.05
plot_volcano15.67 0.2215.90
preprocess_rnaseq_counts0.320.000.32
pull_columns000
read_affymetrix000
read_diann_proteingroups141.20 4.97143.20
read_fragpipe12.66 0.3012.83
read_maxquant_phosphosites1.870.041.94
read_maxquant_proteingroups1.410.051.45
read_metabolon17.03 0.2217.23
read_msigdt000
read_olink1.330.131.82
read_rectangles0.200.010.21
read_rnaseq_counts38.14 1.9540.28
read_salmon000
read_somascan17.80 0.0517.86
read_uniprotdt0.390.020.41
reset_fit6.560.176.75
rm_diann_contaminants31.55 0.9031.58
rm_missing_in_some_samples0.650.000.65
rm_unmatched_samples0.660.000.66
scaledlibsizes0.390.000.39
scoremat1.360.081.47
slevels0.530.000.53
snames0.500.030.53
split_extract_fixed0.690.100.78
split_samples1.290.081.38
stri_any_regex000
stri_detect_fixed_in_collapsed0.460.010.48
subgroup_matrix0.700.030.73
subtract_baseline5.780.145.93
sumexp_to_longdt2.470.112.57
sumexp_to_tsv0.640.000.66
sumexplist_to_longdt2.170.002.20
summarize_fit1.920.021.95
svalues0.470.030.50
svars0.520.020.53
systematic_nas0.480.010.50
tag_features1.390.001.39
tag_hdlproteins0.500.030.53
taxon2org000
tpm0.250.020.27
uncollapse0.040.000.04
values0.710.010.72
varlevels_dont_clash0.020.000.01
venn_detects0.630.000.62
weights0.310.000.32
write_xl1.110.021.12
zero_to_na0.020.000.02