Back to Multiple platform build/check report for BioC 3.21: simplified long |
|
This page was generated on 2025-02-05 11:39 -0500 (Wed, 05 Feb 2025).
Hostname | OS | Arch (*) | R version | Installed pkgs |
---|---|---|---|---|
nebbiolo1 | Linux (Ubuntu 24.04.1 LTS) | x86_64 | R Under development (unstable) (2025-01-20 r87609) -- "Unsuffered Consequences" | 4717 |
palomino7 | Windows Server 2022 Datacenter | x64 | R Under development (unstable) (2025-01-21 r87610 ucrt) -- "Unsuffered Consequences" | 4478 |
lconway | macOS 12.7.1 Monterey | x86_64 | R Under development (unstable) (2025-01-22 r87618) -- "Unsuffered Consequences" | 4489 |
kjohnson3 | macOS 13.7.1 Ventura | arm64 | R Under development (unstable) (2025-01-20 r87609) -- "Unsuffered Consequences" | 4442 |
Click on any hostname to see more info about the system (e.g. compilers) (*) as reported by 'uname -p', except on Windows and Mac OS X |
Package 116/2295 | Hostname | OS / Arch | INSTALL | BUILD | CHECK | BUILD BIN | ||||||||
autonomics 1.15.143 (landing page) Aditya Bhagwat
| nebbiolo1 | Linux (Ubuntu 24.04.1 LTS) / x86_64 | OK | OK | OK | ![]() | ||||||||
palomino7 | Windows Server 2022 Datacenter / x64 | OK | OK | OK | OK | ![]() | ||||||||
lconway | macOS 12.7.1 Monterey / x86_64 | OK | OK | OK | OK | ![]() | ||||||||
kjohnson3 | macOS 13.7.1 Ventura / arm64 | OK | OK | OK | OK | ![]() | ||||||||
To the developers/maintainers of the autonomics package: - Allow up to 24 hours (and sometimes 48 hours) for your latest push to git@git.bioconductor.org:packages/autonomics.git to reflect on this report. See Troubleshooting Build Report for more information. - Use the following Renviron settings to reproduce errors and warnings. - If 'R CMD check' started to fail recently on the Linux builder(s) over a missing dependency, add the missing dependency to 'Suggests:' in your DESCRIPTION file. See Renviron.bioc for more information. |
Package: autonomics |
Version: 1.15.143 |
Command: /home/biocbuild/bbs-3.21-bioc/R/bin/R CMD check --install=check:autonomics.install-out.txt --library=/home/biocbuild/bbs-3.21-bioc/R/site-library --timings autonomics_1.15.143.tar.gz |
StartedAt: 2025-02-04 20:03:37 -0500 (Tue, 04 Feb 2025) |
EndedAt: 2025-02-04 20:19:38 -0500 (Tue, 04 Feb 2025) |
EllapsedTime: 961.0 seconds |
RetCode: 0 |
Status: OK |
CheckDir: autonomics.Rcheck |
Warnings: 0 |
############################################################################## ############################################################################## ### ### Running command: ### ### /home/biocbuild/bbs-3.21-bioc/R/bin/R CMD check --install=check:autonomics.install-out.txt --library=/home/biocbuild/bbs-3.21-bioc/R/site-library --timings autonomics_1.15.143.tar.gz ### ############################################################################## ############################################################################## * using log directory ‘/home/biocbuild/bbs-3.21-bioc/meat/autonomics.Rcheck’ * using R Under development (unstable) (2025-01-20 r87609) * using platform: x86_64-pc-linux-gnu * R was compiled by gcc (Ubuntu 13.3.0-6ubuntu2~24.04) 13.3.0 GNU Fortran (Ubuntu 13.3.0-6ubuntu2~24.04) 13.3.0 * running under: Ubuntu 24.04.1 LTS * using session charset: UTF-8 * checking for file ‘autonomics/DESCRIPTION’ ... OK * checking extension type ... Package * this is package ‘autonomics’ version ‘1.15.143’ * package encoding: UTF-8 * checking package namespace information ... OK * checking package dependencies ... INFO Imports includes 30 non-default packages. Importing from so many packages makes the package vulnerable to any of them becoming unavailable. Move as many as possible to Suggests and use conditionally. * checking if this is a source package ... OK * checking if there is a namespace ... OK * checking for hidden files and directories ... NOTE Found the following hidden files and directories: .BBSoptions These were most likely included in error. See section ‘Package structure’ in the ‘Writing R Extensions’ manual. * checking for portable file names ... OK * checking for sufficient/correct file permissions ... OK * checking whether package ‘autonomics’ can be installed ... OK * checking installed package size ... OK * checking package directory ... OK * checking ‘build’ directory ... OK * checking DESCRIPTION meta-information ... OK * checking top-level files ... OK * checking for left-over files ... OK * checking index information ... OK * checking package subdirectories ... OK * checking code files for non-ASCII characters ... OK * checking R files for syntax errors ... OK * checking whether the package can be loaded ... OK * checking whether the package can be loaded with stated dependencies ... OK * checking whether the package can be unloaded cleanly ... OK * checking whether the namespace can be loaded with stated dependencies ... OK * checking whether the namespace can be unloaded cleanly ... OK * checking loading without being on the library search path ... OK * checking dependencies in R code ... OK * checking S3 generic/method consistency ... OK * checking replacement functions ... OK * checking foreign function calls ... OK * checking R code for possible problems ... OK * checking Rd files ... OK * checking Rd metadata ... OK * checking Rd cross-references ... OK * checking for missing documentation entries ... OK * checking for code/documentation mismatches ... OK * checking Rd \usage sections ... OK * checking Rd contents ... OK * checking for unstated dependencies in examples ... OK * checking files in ‘vignettes’ ... OK * checking examples ... OK Examples with CPU (user + system) or elapsed time > 5s user system elapsed read_diann_proteingroups 93.512 1.111 89.911 read_rnaseq_counts 33.322 1.119 34.123 fit_linmod 30.429 0.435 30.304 plot_exprs_per_coef 22.874 0.113 22.879 plot_exprs 21.349 0.132 21.356 rm_diann_contaminants 20.962 0.336 19.858 default_formula 17.463 0.818 17.892 read_somascan 15.586 0.132 15.661 analyze 14.208 0.152 14.264 plot_summary 14.165 0.100 14.172 read_metabolon 13.767 0.082 13.748 plot_volcano 11.974 0.044 11.910 ftype 8.017 0.092 7.821 plot_densities 7.845 0.051 7.807 extract_coef_features 6.605 0.199 6.770 plot_sample_nas 6.254 0.064 6.249 fcluster 5.915 0.090 5.932 reset_fit 5.545 0.062 5.486 read_fragpipe 5.518 0.017 5.213 code 5.204 0.063 5.246 biplot_covariates 4.966 0.037 4.973 * checking for unstated dependencies in ‘tests’ ... OK * checking tests ... Running ‘testthat.R’ OK * checking for unstated dependencies in vignettes ... OK * checking package vignettes ... OK * checking re-building of vignette outputs ... OK * checking PDF version of manual ... OK * DONE Status: 1 NOTE See ‘/home/biocbuild/bbs-3.21-bioc/meat/autonomics.Rcheck/00check.log’ for details.
autonomics.Rcheck/00install.out
############################################################################## ############################################################################## ### ### Running command: ### ### /home/biocbuild/bbs-3.21-bioc/R/bin/R CMD INSTALL autonomics ### ############################################################################## ############################################################################## * installing to library ‘/home/biocbuild/bbs-3.21-bioc/R/site-library’ * installing *source* package ‘autonomics’ ... ** this is package ‘autonomics’ version ‘1.15.143’ ** using staged installation ** R ** inst ** byte-compile and prepare package for lazy loading ** help *** installing help indices ** building package indices ** installing vignettes ** testing if installed package can be loaded from temporary location ** testing if installed package can be loaded from final location ** testing if installed package keeps a record of temporary installation path * DONE (autonomics)
autonomics.Rcheck/tests/testthat.Rout
R Under development (unstable) (2025-01-20 r87609) -- "Unsuffered Consequences" Copyright (C) 2025 The R Foundation for Statistical Computing Platform: x86_64-pc-linux-gnu R is free software and comes with ABSOLUTELY NO WARRANTY. You are welcome to redistribute it under certain conditions. Type 'license()' or 'licence()' for distribution details. R is a collaborative project with many contributors. Type 'contributors()' for more information and 'citation()' on how to cite R or R packages in publications. Type 'demo()' for some demos, 'help()' for on-line help, or 'help.start()' for an HTML browser interface to help. Type 'q()' to quit R. > library(testthat) > library(autonomics) Attaching package: 'autonomics' The following objects are masked from 'package:stats': biplot, loadings The following object is masked from 'package:base': beta > > test_check("autonomics") [ FAIL 0 | WARN 2 | SKIP 0 | PASS 158 ] [ FAIL 0 | WARN 2 | SKIP 0 | PASS 158 ] > > proc.time() user system elapsed 149.993 5.214 152.267
autonomics.Rcheck/autonomics-Ex.timings
name | user | system | elapsed | |
AUTONOMICS_DATASETS | 0.001 | 0.000 | 0.000 | |
COMPOUNDDISCOVERER_PATTERNS | 0 | 0 | 0 | |
FITSEP | 0.000 | 0.000 | 0.001 | |
LINMODENGINES | 0 | 0 | 0 | |
MAXQUANT_PATTERNS | 0 | 0 | 0 | |
SURVIVALENGINES | 0.000 | 0.000 | 0.001 | |
TAXON_TO_ORGNAME | 0.001 | 0.000 | 0.000 | |
TESTS | 0 | 0 | 0 | |
X | 1.457 | 0.077 | 1.510 | |
abstract_fit | 1.738 | 0.060 | 1.777 | |
add_adjusted_pvalues | 1.264 | 0.094 | 1.361 | |
add_assay_means | 0.329 | 0.033 | 0.362 | |
add_facetvars | 1.460 | 0.068 | 1.506 | |
add_opentargets_by_uniprot | 0.372 | 0.005 | 0.379 | |
add_psp | 0.480 | 0.021 | 0.502 | |
add_smiles | 0.413 | 0.014 | 0.405 | |
analysis | 0.352 | 0.002 | 0.353 | |
analyze | 14.208 | 0.152 | 14.264 | |
annotate_maxquant | 0.940 | 0.023 | 0.963 | |
annotate_uniprot_rest | 0.338 | 0.010 | 2.057 | |
assert_is_valid_sumexp | 0.521 | 0.020 | 0.520 | |
bin | 1.138 | 0.083 | 1.221 | |
biplot | 3.518 | 0.029 | 3.538 | |
biplot_corrections | 3.040 | 0.082 | 3.100 | |
biplot_covariates | 4.966 | 0.037 | 4.973 | |
block2lme | 0.002 | 0.001 | 0.003 | |
center | 1.464 | 0.012 | 1.477 | |
code | 5.204 | 0.063 | 5.246 | |
coefs | 0.798 | 0.024 | 0.800 | |
collapsed_entrezg_to_symbol | 0.000 | 0.000 | 0.001 | |
contrast_subgroup_cols | 0.535 | 0.017 | 0.530 | |
count_in | 0.001 | 0.000 | 0.002 | |
counts | 0.331 | 0.000 | 0.331 | |
counts2cpm | 0.271 | 0.000 | 0.271 | |
counts2tpm | 0.287 | 0.003 | 0.290 | |
cpm | 0.278 | 0.000 | 0.278 | |
create_design | 0.664 | 0.054 | 0.695 | |
default_formula | 17.463 | 0.818 | 17.892 | |
default_geom | 0.480 | 0.044 | 0.500 | |
default_sfile | 0.002 | 0.000 | 0.002 | |
demultiplex | 0.016 | 0.001 | 0.016 | |
dequantify | 0.003 | 0.000 | 0.002 | |
dequantify_compounddiscoverer | 0.001 | 0.000 | 0.001 | |
dot-coxph | 0.484 | 0.057 | 0.541 | |
dot-merge | 0.02 | 0.00 | 0.02 | |
dot-read_maxquant_proteingroups | 0.112 | 0.013 | 0.125 | |
download_data | 0.000 | 0.000 | 0.001 | |
download_gtf | 0.001 | 0.000 | 0.000 | |
download_mcclain21 | 0.000 | 0.000 | 0.001 | |
dt2mat | 0.002 | 0.001 | 0.004 | |
enrichment | 1.749 | 0.016 | 1.765 | |
entrezg_to_symbol | 0.000 | 0.000 | 0.001 | |
extract_coef_features | 6.605 | 0.199 | 6.770 | |
extract_rectangle | 0.099 | 0.019 | 0.118 | |
fcluster | 5.915 | 0.090 | 5.932 | |
fcor | 1.081 | 0.062 | 1.143 | |
fdata | 0.520 | 0.012 | 0.532 | |
fdr2p | 0.954 | 0.040 | 0.964 | |
filter_exprs_replicated_in_some_subgroup | 1.019 | 0.011 | 0.958 | |
filter_features | 0.510 | 0.015 | 0.505 | |
filter_medoid | 0.664 | 0.009 | 0.673 | |
filter_samples | 0.538 | 0.019 | 0.520 | |
fit_linmod | 30.429 | 0.435 | 30.304 | |
fit_survival | 4.733 | 0.040 | 4.763 | |
fitcoefs | 0.860 | 0.012 | 0.848 | |
fits | 0.801 | 0.007 | 0.787 | |
fix_xlgenes | 0.002 | 0.000 | 0.002 | |
flevels | 0.392 | 0.001 | 0.393 | |
fnames | 0.481 | 0.004 | 0.485 | |
formula2str | 0.001 | 0.000 | 0.000 | |
ftype | 8.017 | 0.092 | 7.821 | |
fvalues | 0.434 | 0.001 | 0.435 | |
fvars | 0.409 | 0.001 | 0.411 | |
genome_to_orgdb | 0.000 | 0.000 | 0.001 | |
group_by_level | 0.000 | 0.002 | 0.002 | |
guess_compounddiscoverer_quantity | 0.000 | 0.001 | 0.002 | |
guess_fitsep | 0.459 | 0.002 | 0.462 | |
guess_maxquant_quantity | 0.006 | 0.001 | 0.007 | |
guess_sep | 0.561 | 0.030 | 0.568 | |
has_multiple_levels | 0.054 | 0.007 | 0.062 | |
hdlproteins | 0.046 | 0.017 | 0.065 | |
impute | 3.259 | 0.049 | 3.310 | |
invert_subgroups | 0.701 | 0.019 | 0.721 | |
is_collapsed_subset | 0.001 | 0.000 | 0.000 | |
is_correlation_matrix | 0.002 | 0.000 | 0.001 | |
is_diann_report | 0.468 | 0.059 | 0.521 | |
is_fastadt | 0.058 | 0.004 | 0.062 | |
is_file | 0 | 0 | 0 | |
is_fraction | 0.002 | 0.000 | 0.002 | |
is_imputed | 1.697 | 0.088 | 1.785 | |
is_positive_number | 0.001 | 0.000 | 0.002 | |
is_scalar_subset | 0.300 | 0.003 | 0.303 | |
is_sig | 1.598 | 0.049 | 1.648 | |
is_valid_formula | 0.040 | 0.001 | 0.041 | |
keep_connected_blocks | 0.463 | 0.016 | 0.451 | |
keep_connected_features | 0.673 | 0.020 | 0.649 | |
keep_replicated_features | 0.786 | 0.014 | 0.739 | |
label2index | 0.000 | 0.000 | 0.001 | |
list2mat | 0.001 | 0.000 | 0.001 | |
log2counts | 0.309 | 0.000 | 0.308 | |
log2cpm | 0.289 | 0.001 | 0.290 | |
log2diffs | 0.280 | 0.003 | 0.282 | |
log2proteins | 0.286 | 0.003 | 0.289 | |
log2sites | 0.290 | 0.003 | 0.294 | |
log2tpm | 0.294 | 0.001 | 0.295 | |
log2transform | 3.492 | 0.019 | 3.512 | |
logical2factor | 0.001 | 0.001 | 0.001 | |
make_alpha_palette | 0.496 | 0.013 | 0.478 | |
make_colors | 0.008 | 0.001 | 0.010 | |
make_volcano_dt | 0.807 | 0.004 | 0.812 | |
map_fvalues | 0.349 | 0.004 | 0.354 | |
matrix2sumexp | 0.863 | 0.025 | 0.865 | |
merge_sample_file | 0.407 | 0.011 | 0.418 | |
merge_sdata | 0.515 | 0.018 | 0.503 | |
message_df | 0.001 | 0.001 | 0.003 | |
model_coefs | 0.701 | 0.013 | 0.676 | |
modelvar | 3.598 | 0.026 | 3.530 | |
order_on_p | 1.186 | 0.027 | 1.191 | |
pca | 2.776 | 0.018 | 2.758 | |
pg_to_canonical | 0.006 | 0.000 | 0.005 | |
plot_coef_densities | 1.128 | 0.036 | 1.144 | |
plot_contrast_venn | 2.492 | 0.054 | 2.400 | |
plot_contrastogram | 2.728 | 0.084 | 2.742 | |
plot_data | 1.210 | 0.032 | 1.205 | |
plot_densities | 7.845 | 0.051 | 7.807 | |
plot_design | 0.584 | 0.005 | 0.589 | |
plot_exprs | 21.349 | 0.132 | 21.356 | |
plot_exprs_per_coef | 22.874 | 0.113 | 22.879 | |
plot_fit_summary | 1.979 | 0.028 | 1.917 | |
plot_heatmap | 2.122 | 0.015 | 2.137 | |
plot_joint_density | 2.782 | 0.020 | 2.779 | |
plot_matrix | 0.469 | 0.016 | 0.461 | |
plot_sample_nas | 6.254 | 0.064 | 6.249 | |
plot_subgroup_points | 4.611 | 0.015 | 4.566 | |
plot_summary | 14.165 | 0.100 | 14.172 | |
plot_survival | 3.375 | 0.010 | 3.366 | |
plot_venn | 0.004 | 0.000 | 0.005 | |
plot_venn_heatmap | 0.021 | 0.000 | 0.021 | |
plot_violins | 3.774 | 0.022 | 3.773 | |
plot_volcano | 11.974 | 0.044 | 11.910 | |
preprocess_rnaseq_counts | 0.335 | 0.002 | 0.337 | |
pull_columns | 0.002 | 0.000 | 0.002 | |
read_affymetrix | 0 | 0 | 0 | |
read_diann_proteingroups | 93.512 | 1.111 | 89.911 | |
read_fragpipe | 5.518 | 0.017 | 5.213 | |
read_maxquant_phosphosites | 1.363 | 0.030 | 1.393 | |
read_maxquant_proteingroups | 1.090 | 0.031 | 1.121 | |
read_metabolon | 13.767 | 0.082 | 13.748 | |
read_msigdt | 0.001 | 0.000 | 0.001 | |
read_olink | 1.242 | 0.021 | 1.167 | |
read_rectangles | 0.163 | 0.007 | 0.171 | |
read_rnaseq_counts | 33.322 | 1.119 | 34.123 | |
read_salmon | 0.000 | 0.000 | 0.001 | |
read_somascan | 15.586 | 0.132 | 15.661 | |
read_uniprotdt | 0.314 | 0.012 | 0.326 | |
reset_fit | 5.545 | 0.062 | 5.486 | |
rm_diann_contaminants | 20.962 | 0.336 | 19.858 | |
rm_missing_in_some_samples | 0.458 | 0.016 | 0.452 | |
rm_unmatched_samples | 0.63 | 0.00 | 0.63 | |
scaledlibsizes | 0.276 | 0.001 | 0.277 | |
scoremat | 1.030 | 0.013 | 1.006 | |
slevels | 0.410 | 0.002 | 0.412 | |
snames | 0.448 | 0.002 | 0.451 | |
split_extract_fixed | 0.554 | 0.008 | 0.540 | |
split_samples | 1.161 | 0.015 | 1.155 | |
stri_any_regex | 0.001 | 0.000 | 0.001 | |
stri_detect_fixed_in_collapsed | 0.338 | 0.003 | 0.340 | |
subgroup_matrix | 0.511 | 0.011 | 0.499 | |
subtract_baseline | 4.693 | 0.041 | 4.676 | |
sumexp_to_longdt | 1.781 | 0.050 | 1.773 | |
sumexp_to_tsv | 0.512 | 0.000 | 0.512 | |
sumexplist_to_longdt | 1.457 | 0.005 | 1.461 | |
summarize_fit | 1.734 | 0.014 | 1.680 | |
svalues | 0.445 | 0.004 | 0.449 | |
svars | 0.401 | 0.002 | 0.404 | |
systematic_nas | 0.513 | 0.002 | 0.515 | |
tag_features | 0.963 | 0.027 | 0.991 | |
tag_hdlproteins | 0.493 | 0.025 | 0.518 | |
taxon2org | 0.001 | 0.000 | 0.002 | |
tpm | 0.324 | 0.001 | 0.326 | |
uncollapse | 0.026 | 0.003 | 0.029 | |
values | 0.497 | 0.006 | 0.503 | |
varlevels_dont_clash | 0.021 | 0.000 | 0.021 | |
venn_detects | 0.487 | 0.003 | 0.491 | |
weights | 0.289 | 0.000 | 0.289 | |
write_xl | 0.702 | 0.012 | 0.675 | |
zero_to_na | 0.001 | 0.000 | 0.002 | |