Back to Multiple platform build/check report for BioC 3.21: simplified long |
|
This page was generated on 2025-02-06 11:43 -0500 (Thu, 06 Feb 2025).
Hostname | OS | Arch (*) | R version | Installed pkgs |
---|---|---|---|---|
nebbiolo1 | Linux (Ubuntu 24.04.1 LTS) | x86_64 | R Under development (unstable) (2025-01-20 r87609) -- "Unsuffered Consequences" | 4719 |
palomino7 | Windows Server 2022 Datacenter | x64 | R Under development (unstable) (2025-01-21 r87610 ucrt) -- "Unsuffered Consequences" | 4480 |
lconway | macOS 12.7.1 Monterey | x86_64 | R Under development (unstable) (2025-01-22 r87618) -- "Unsuffered Consequences" | 4491 |
kjohnson3 | macOS 13.7.1 Ventura | arm64 | R Under development (unstable) (2025-01-20 r87609) -- "Unsuffered Consequences" | 4444 |
Click on any hostname to see more info about the system (e.g. compilers) (*) as reported by 'uname -p', except on Windows and Mac OS X |
Package 2150/2295 | Hostname | OS / Arch | INSTALL | BUILD | CHECK | BUILD BIN | ||||||||
tidytof 1.1.0 (landing page) Timothy Keyes
| nebbiolo1 | Linux (Ubuntu 24.04.1 LTS) / x86_64 | OK | OK | OK | ![]() | ||||||||
palomino7 | Windows Server 2022 Datacenter / x64 | OK | OK | OK | OK | ![]() | ||||||||
lconway | macOS 12.7.1 Monterey / x86_64 | OK | OK | OK | OK | ![]() | ||||||||
kjohnson3 | macOS 13.7.1 Ventura / arm64 | OK | OK | OK | OK | ![]() | ||||||||
To the developers/maintainers of the tidytof package: - Allow up to 24 hours (and sometimes 48 hours) for your latest push to git@git.bioconductor.org:packages/tidytof.git to reflect on this report. See Troubleshooting Build Report for more information. - Use the following Renviron settings to reproduce errors and warnings. - If 'R CMD check' started to fail recently on the Linux builder(s) over a missing dependency, add the missing dependency to 'Suggests:' in your DESCRIPTION file. See Renviron.bioc for more information. |
Package: tidytof |
Version: 1.1.0 |
Command: /Library/Frameworks/R.framework/Resources/bin/R CMD check --install=check:tidytof.install-out.txt --library=/Library/Frameworks/R.framework/Resources/library --no-vignettes --timings tidytof_1.1.0.tar.gz |
StartedAt: 2025-02-05 23:45:28 -0500 (Wed, 05 Feb 2025) |
EndedAt: 2025-02-05 23:52:30 -0500 (Wed, 05 Feb 2025) |
EllapsedTime: 422.6 seconds |
RetCode: 0 |
Status: OK |
CheckDir: tidytof.Rcheck |
Warnings: 0 |
############################################################################## ############################################################################## ### ### Running command: ### ### /Library/Frameworks/R.framework/Resources/bin/R CMD check --install=check:tidytof.install-out.txt --library=/Library/Frameworks/R.framework/Resources/library --no-vignettes --timings tidytof_1.1.0.tar.gz ### ############################################################################## ############################################################################## * using log directory ‘/Users/biocbuild/bbs-3.21-bioc/meat/tidytof.Rcheck’ * using R Under development (unstable) (2025-01-22 r87618) * using platform: x86_64-apple-darwin20 * R was compiled by Apple clang version 14.0.0 (clang-1400.0.29.202) GNU Fortran (GCC) 14.2.0 * running under: macOS Monterey 12.7.6 * using session charset: UTF-8 * using option ‘--no-vignettes’ * checking for file ‘tidytof/DESCRIPTION’ ... OK * checking extension type ... Package * this is package ‘tidytof’ version ‘1.1.0’ * package encoding: UTF-8 * checking package namespace information ... OK * checking package dependencies ... OK * checking if this is a source package ... OK * checking if there is a namespace ... OK * checking for hidden files and directories ... OK * checking for portable file names ... OK * checking for sufficient/correct file permissions ... OK * checking whether package ‘tidytof’ can be installed ... OK * used C++ compiler: ‘Apple clang version 14.0.0 (clang-1400.0.29.202)’ * used SDK: ‘MacOSX11.3.sdk’ * checking installed package size ... OK * checking package directory ... OK * checking ‘build’ directory ... OK * checking DESCRIPTION meta-information ... OK * checking top-level files ... OK * checking for left-over files ... OK * checking index information ... OK * checking package subdirectories ... OK * checking code files for non-ASCII characters ... OK * checking R files for syntax errors ... OK * checking whether the package can be loaded ... OK * checking whether the package can be loaded with stated dependencies ... OK * checking whether the package can be unloaded cleanly ... OK * checking whether the namespace can be loaded with stated dependencies ... OK * checking whether the namespace can be unloaded cleanly ... OK * checking dependencies in R code ... OK * checking S3 generic/method consistency ... OK * checking replacement functions ... OK * checking foreign function calls ... OK * checking R code for possible problems ... OK * checking Rd files ... OK * checking Rd metadata ... OK * checking Rd cross-references ... OK * checking for missing documentation entries ... OK * checking for code/documentation mismatches ... OK * checking Rd \usage sections ... OK * checking Rd contents ... OK * checking for unstated dependencies in examples ... OK * checking contents of ‘data’ directory ... OK * checking data for non-ASCII characters ... OK * checking data for ASCII and uncompressed saves ... OK * checking R/sysdata.rda ... OK * checking line endings in C/C++/Fortran sources/headers ... OK * checking compiled code ... NOTE Note: information on .o files is not available * checking files in ‘vignettes’ ... OK * checking examples ... OK Examples with CPU (user + system) or elapsed time > 5s user system elapsed tof_assess_clusters_knn 9.311 0.073 9.440 tof_cluster_flowsom 5.274 0.806 6.133 * checking for unstated dependencies in ‘tests’ ... OK * checking tests ... Running ‘spelling.R’ Running ‘testthat.R’ OK * checking for unstated dependencies in vignettes ... OK * checking package vignettes ... OK * checking running R code from vignettes ... SKIPPED * checking re-building of vignette outputs ... SKIPPED * checking PDF version of manual ... OK * DONE Status: 1 NOTE See ‘/Users/biocbuild/bbs-3.21-bioc/meat/tidytof.Rcheck/00check.log’ for details.
tidytof.Rcheck/00install.out
############################################################################## ############################################################################## ### ### Running command: ### ### /Library/Frameworks/R.framework/Resources/bin/R CMD INSTALL tidytof ### ############################################################################## ############################################################################## * installing to library ‘/Library/Frameworks/R.framework/Versions/4.5-x86_64/Resources/library’ * installing *source* package ‘tidytof’ ... ** this is package ‘tidytof’ version ‘1.1.0’ ** using staged installation ** libs using C++ compiler: ‘Apple clang version 14.0.0 (clang-1400.0.29.202)’ using SDK: ‘MacOSX11.3.sdk’ clang++ -arch x86_64 -std=gnu++17 -I"/Library/Frameworks/R.framework/Resources/include" -DNDEBUG -I'/Library/Frameworks/R.framework/Versions/4.5-x86_64/Resources/library/Rcpp/include' -I/opt/R/x86_64/include -fPIC -falign-functions=64 -Wall -g -O2 -DR_NO_REMAP -c RcppExports.cpp -o RcppExports.o clang++ -arch x86_64 -std=gnu++17 -I"/Library/Frameworks/R.framework/Resources/include" -DNDEBUG -I'/Library/Frameworks/R.framework/Versions/4.5-x86_64/Resources/library/Rcpp/include' -I/opt/R/x86_64/include -fPIC -falign-functions=64 -Wall -g -O2 -DR_NO_REMAP -c code.cpp -o code.o clang++ -arch x86_64 -std=gnu++17 -dynamiclib -Wl,-headerpad_max_install_names -undefined dynamic_lookup -L/Library/Frameworks/R.framework/Resources/lib -L/opt/R/x86_64/lib -o tidytof.so RcppExports.o code.o -F/Library/Frameworks/R.framework/.. -framework R -Wl,-framework -Wl,CoreFoundation installing to /Library/Frameworks/R.framework/Versions/4.5-x86_64/Resources/library/00LOCK-tidytof/00new/tidytof/libs ** R ** data ** inst ** byte-compile and prepare package for lazy loading ** help *** installing help indices *** copying figures ** building package indices ** installing vignettes ** testing if installed package can be loaded from temporary location ** checking absolute paths in shared objects and dynamic libraries ** testing if installed package can be loaded from final location ** testing if installed package keeps a record of temporary installation path * DONE (tidytof)
tidytof.Rcheck/tests/spelling.Rout
R Under development (unstable) (2025-01-22 r87618) -- "Unsuffered Consequences" Copyright (C) 2025 The R Foundation for Statistical Computing Platform: x86_64-apple-darwin20 R is free software and comes with ABSOLUTELY NO WARRANTY. You are welcome to redistribute it under certain conditions. Type 'license()' or 'licence()' for distribution details. R is a collaborative project with many contributors. Type 'contributors()' for more information and 'citation()' on how to cite R or R packages in publications. Type 'demo()' for some demos, 'help()' for on-line help, or 'help.start()' for an HTML browser interface to help. Type 'q()' to quit R. > if (requireNamespace("spelling", quietly = TRUE)) { + spelling::spell_check_test( + vignettes = TRUE, error = FALSE, + skip_on_cran = TRUE + ) + } NULL > > proc.time() user system elapsed 0.182 0.075 0.248
tidytof.Rcheck/tests/testthat.Rout
R Under development (unstable) (2025-01-22 r87618) -- "Unsuffered Consequences" Copyright (C) 2025 The R Foundation for Statistical Computing Platform: x86_64-apple-darwin20 R is free software and comes with ABSOLUTELY NO WARRANTY. You are welcome to redistribute it under certain conditions. Type 'license()' or 'licence()' for distribution details. R is a collaborative project with many contributors. Type 'contributors()' for more information and 'citation()' on how to cite R or R packages in publications. Type 'demo()' for some demos, 'help()' for on-line help, or 'help.start()' for an HTML browser interface to help. Type 'q()' to quit R. > Sys.setenv(R_TESTS="") > library(testthat) > library(tidytof) Attaching package: 'tidytof' The following object is masked from 'package:testthat': matches > test_check("tidytof") Attaching package: 'dplyr' The following object is masked from 'package:testthat': matches The following objects are masked from 'package:stats': filter, lag The following objects are masked from 'package:base': intersect, setdiff, setequal, union Attaching package: 'purrr' The following object is masked from 'package:testthat': is_null Attaching package: 'tidyr' The following object is masked from 'package:testthat': matches Loading required namespace: diffcyt Attaching package: 'readr' The following objects are masked from 'package:testthat': edition_get, local_edition [ FAIL 0 | WARN 0 | SKIP 0 | PASS 709 ] > > proc.time() user system elapsed 204.505 7.331 210.723
tidytof.Rcheck/tidytof-Ex.timings
name | user | system | elapsed | |
as_SingleCellExperiment | 0 | 0 | 0 | |
as_flowFrame | 0.000 | 0.000 | 0.001 | |
as_flowSet | 0 | 0 | 0 | |
as_seurat | 0 | 0 | 0 | |
as_tof_tbl | 0.057 | 0.005 | 0.065 | |
make_flowcore_annotated_data_frame | 0 | 0 | 0 | |
reexports | 0.000 | 0.001 | 0.000 | |
rev_asinh | 0 | 0 | 0 | |
tidytof_example_data | 0.001 | 0.002 | 0.003 | |
tof_analyze_abundance | 0 | 0 | 0 | |
tof_analyze_abundance_diffcyt | 0 | 0 | 0 | |
tof_analyze_abundance_glmm | 0 | 0 | 0 | |
tof_analyze_abundance_ttest | 0 | 0 | 0 | |
tof_analyze_expression | 0.000 | 0.000 | 0.001 | |
tof_analyze_expression_diffcyt | 0 | 0 | 0 | |
tof_analyze_expression_lmm | 0.000 | 0.001 | 0.000 | |
tof_analyze_expression_ttest | 0 | 0 | 0 | |
tof_annotate_clusters | 0.108 | 0.012 | 0.122 | |
tof_apply_classifier | 0 | 0 | 0 | |
tof_assess_channels | 0.095 | 0.008 | 0.104 | |
tof_assess_clusters_distance | 0.509 | 0.037 | 0.551 | |
tof_assess_clusters_entropy | 0.753 | 0.008 | 0.767 | |
tof_assess_clusters_knn | 9.311 | 0.073 | 9.440 | |
tof_assess_flow_rate | 0.756 | 0.012 | 0.773 | |
tof_assess_flow_rate_tibble | 0.191 | 0.003 | 0.195 | |
tof_assess_model | 0.372 | 0.006 | 0.378 | |
tof_batch_correct | 0 | 0 | 0 | |
tof_batch_correct_quantile | 0.000 | 0.000 | 0.001 | |
tof_batch_correct_quantile_tibble | 0 | 0 | 0 | |
tof_batch_correct_rescale | 0 | 0 | 0 | |
tof_calculate_flow_rate | 0.016 | 0.001 | 0.017 | |
tof_cluster | 0.538 | 0.014 | 0.555 | |
tof_cluster_ddpr | 0.201 | 0.003 | 0.206 | |
tof_cluster_flowsom | 5.274 | 0.806 | 6.133 | |
tof_cluster_kmeans | 0.038 | 0.000 | 0.039 | |
tof_cluster_phenograph | 1.797 | 0.044 | 1.852 | |
tof_cosine_dist | 0.000 | 0.001 | 0.000 | |
tof_create_grid | 0.057 | 0.001 | 0.058 | |
tof_downsample | 0.197 | 0.002 | 0.200 | |
tof_downsample_constant | 0.076 | 0.001 | 0.077 | |
tof_downsample_density | 0.570 | 0.008 | 0.580 | |
tof_downsample_prop | 0.094 | 0.009 | 0.105 | |
tof_estimate_density | 0.375 | 0.003 | 0.380 | |
tof_extract_central_tendency | 0.173 | 0.001 | 0.175 | |
tof_extract_emd | 0.878 | 0.061 | 0.945 | |
tof_extract_features | 0.623 | 0.012 | 0.637 | |
tof_extract_jsd | 1.089 | 0.129 | 1.248 | |
tof_extract_proportion | 0.129 | 0.001 | 0.132 | |
tof_extract_threshold | 0.171 | 0.001 | 0.174 | |
tof_find_knn | 0.208 | 0.188 | 0.399 | |
tof_generate_palette | 0 | 0 | 0 | |
tof_get_model_mixture | 0.266 | 0.004 | 0.272 | |
tof_get_model_outcomes | 0.254 | 0.002 | 0.260 | |
tof_get_model_penalty | 0.228 | 0.001 | 0.231 | |
tof_get_model_training_data | 0.258 | 0.001 | 0.261 | |
tof_get_model_type | 0.242 | 0.001 | 0.244 | |
tof_get_model_x | 0.266 | 0.004 | 0.271 | |
tof_get_model_y | 0.247 | 0.002 | 0.250 | |
tof_get_panel | 0.046 | 0.002 | 0.048 | |
tof_log_rank_test | 0 | 0 | 0 | |
tof_make_knn_graph | 0 | 0 | 0 | |
tof_make_roc_curve | 0.356 | 0.003 | 0.360 | |
tof_metacluster | 0.693 | 0.046 | 0.747 | |
tof_metacluster_consensus | 0.283 | 0.016 | 0.303 | |
tof_metacluster_flowsom | 0.748 | 0.039 | 0.797 | |
tof_metacluster_hierarchical | 0.06 | 0.00 | 0.06 | |
tof_metacluster_kmeans | 0.060 | 0.001 | 0.062 | |
tof_metacluster_phenograph | 0.087 | 0.001 | 0.088 | |
tof_plot_cells_density | 0.040 | 0.001 | 0.042 | |
tof_plot_cells_embedding | 2.893 | 0.112 | 3.027 | |
tof_plot_cells_layout | 3.091 | 0.014 | 3.120 | |
tof_plot_cells_scatter | 0.005 | 0.000 | 0.004 | |
tof_plot_clusters_heatmap | 0.066 | 0.001 | 0.067 | |
tof_plot_clusters_mst | 0.250 | 0.002 | 0.254 | |
tof_plot_clusters_volcano | 0.046 | 0.001 | 0.046 | |
tof_plot_model | 0.727 | 0.012 | 0.747 | |
tof_plot_sample_features | 0.110 | 0.002 | 0.112 | |
tof_plot_sample_heatmap | 0.047 | 0.001 | 0.048 | |
tof_postprocess | 0.111 | 0.002 | 0.113 | |
tof_predict | 0.314 | 0.002 | 0.319 | |
tof_preprocess | 0.166 | 0.003 | 0.169 | |
tof_read_data | 0.079 | 0.002 | 0.081 | |
tof_reduce_dimensions | 2.369 | 0.052 | 2.438 | |
tof_reduce_pca | 0.164 | 0.002 | 0.165 | |
tof_reduce_tsne | 0.863 | 0.030 | 0.905 | |
tof_reduce_umap | 3.394 | 0.055 | 3.430 | |
tof_set_panel | 0.091 | 0.002 | 0.092 | |
tof_spade_density | 0.548 | 0.005 | 0.557 | |
tof_split_data | 0.059 | 0.002 | 0.062 | |
tof_split_tidytof_reduced_dimensions | 0 | 0 | 0 | |
tof_train_model | 1.663 | 0.020 | 1.698 | |
tof_transform | 0.151 | 0.002 | 0.154 | |
tof_upsample | 0.274 | 0.004 | 0.280 | |
tof_upsample_distance | 0.358 | 0.004 | 0.366 | |
tof_upsample_neighbor | 0.069 | 0.002 | 0.071 | |
tof_write_data | 0 | 0 | 0 | |
tof_write_fcs | 0.001 | 0.000 | 0.000 | |
where | 0 | 0 | 0 | |