Back to Multiple platform build/check report for BioC 3.8 |
|
This page was generated on 2019-04-16 12:06:07 -0400 (Tue, 16 Apr 2019).
Package 221/1649 | Hostname | OS / Arch | INSTALL | BUILD | CHECK | BUILD BIN | ||||||
CellScore 1.2.0 Nancy Mah
| malbec1 | Linux (Ubuntu 16.04.6 LTS) / x86_64 | OK | OK | OK | ![]() | ||||||
merida1 | OS X 10.11.6 El Capitan / x86_64 | OK | OK | OK | [ OK ] | ![]() |
Package: CellScore |
Version: 1.2.0 |
Command: rm -rf CellScore.buildbin-libdir && mkdir CellScore.buildbin-libdir && /Users/biocbuild/BBS/utils/build-universal.sh CellScore_1.2.0.tar.gz /Library/Frameworks/R.framework/Versions/Current/Resources/bin/R CellScore.buildbin-libdir |
StartedAt: 2019-04-16 03:48:40 -0400 (Tue, 16 Apr 2019) |
EndedAt: 2019-04-16 03:49:25 -0400 (Tue, 16 Apr 2019) |
EllapsedTime: 44.1 seconds |
RetCode: 0 |
Status: OK |
PackageFile: CellScore_1.2.0.tgz |
PackageFileSize: 4.191 MiB |
############################################################################## ############################################################################## ### ### Running command: ### ### rm -rf CellScore.buildbin-libdir && mkdir CellScore.buildbin-libdir && /Users/biocbuild/BBS/utils/build-universal.sh CellScore_1.2.0.tar.gz /Library/Frameworks/R.framework/Versions/Current/Resources/bin/R CellScore.buildbin-libdir ### ############################################################################## ############################################################################## >>>>>>> >>>>>>> INSTALLATION WITH 'R CMD INSTALL --preclean --no-multiarch --library=CellScore.buildbin-libdir CellScore_1.2.0.tar.gz' >>>>>>> * installing *source* package ‘CellScore’ ... ** R ** inst ** byte-compile and prepare package for lazy loading ** help *** installing help indices ** building package indices ** installing vignettes ** testing if installed package can be loaded * DONE (CellScore)