Back to Multiple platform build/check report for BioC 3.20: simplified long |
|
This page was generated on 2025-02-03 12:10 -0500 (Mon, 03 Feb 2025).
Hostname | OS | Arch (*) | R version | Installed pkgs |
---|---|---|---|---|
nebbiolo2 | Linux (Ubuntu 24.04.1 LTS) | x86_64 | 4.4.2 (2024-10-31) -- "Pile of Leaves" | 4746 |
palomino8 | Windows Server 2022 Datacenter | x64 | 4.4.2 (2024-10-31 ucrt) -- "Pile of Leaves" | 4494 |
merida1 | macOS 12.7.5 Monterey | x86_64 | 4.4.2 (2024-10-31) -- "Pile of Leaves" | 4517 |
kjohnson1 | macOS 13.6.6 Ventura | arm64 | 4.4.2 (2024-10-31) -- "Pile of Leaves" | 4469 |
taishan | Linux (openEuler 24.03 LTS) | aarch64 | 4.4.2 (2024-10-31) -- "Pile of Leaves" | 4400 |
Click on any hostname to see more info about the system (e.g. compilers) (*) as reported by 'uname -p', except on Windows and Mac OS X |
Package 953/2289 | Hostname | OS / Arch | INSTALL | BUILD | CHECK | BUILD BIN | ||||||||
HiCBricks 1.24.0 (landing page) Koustav Pal
| nebbiolo2 | Linux (Ubuntu 24.04.1 LTS) / x86_64 | OK | OK | OK | |||||||||
palomino8 | Windows Server 2022 Datacenter / x64 | OK | OK | OK | OK | |||||||||
merida1 | macOS 12.7.5 Monterey / x86_64 | OK | OK | OK | OK | |||||||||
kjohnson1 | macOS 13.6.6 Ventura / arm64 | OK | OK | OK | OK | |||||||||
taishan | Linux (openEuler 24.03 LTS) / aarch64 | OK | OK | OK | ||||||||||
To the developers/maintainers of the HiCBricks package: - Allow up to 24 hours (and sometimes 48 hours) for your latest push to git@git.bioconductor.org:packages/HiCBricks.git to reflect on this report. See Troubleshooting Build Report for more information. - Use the following Renviron settings to reproduce errors and warnings. - If 'R CMD check' started to fail recently on the Linux builder(s) over a missing dependency, add the missing dependency to 'Suggests:' in your DESCRIPTION file. See Renviron.bioc for more information. |
Package: HiCBricks |
Version: 1.24.0 |
Command: /Library/Frameworks/R.framework/Resources/bin/R CMD check --install=check:HiCBricks.install-out.txt --library=/Library/Frameworks/R.framework/Resources/library --no-vignettes --timings HiCBricks_1.24.0.tar.gz |
StartedAt: 2025-01-31 21:50:03 -0500 (Fri, 31 Jan 2025) |
EndedAt: 2025-01-31 21:52:42 -0500 (Fri, 31 Jan 2025) |
EllapsedTime: 158.9 seconds |
RetCode: 0 |
Status: OK |
CheckDir: HiCBricks.Rcheck |
Warnings: 0 |
############################################################################## ############################################################################## ### ### Running command: ### ### /Library/Frameworks/R.framework/Resources/bin/R CMD check --install=check:HiCBricks.install-out.txt --library=/Library/Frameworks/R.framework/Resources/library --no-vignettes --timings HiCBricks_1.24.0.tar.gz ### ############################################################################## ############################################################################## * using log directory ‘/Users/biocbuild/bbs-3.20-bioc/meat/HiCBricks.Rcheck’ * using R version 4.4.2 (2024-10-31) * using platform: aarch64-apple-darwin20 * R was compiled by Apple clang version 14.0.0 (clang-1400.0.29.202) GNU Fortran (GCC) 12.2.0 * running under: macOS Ventura 13.7.1 * using session charset: UTF-8 * using option ‘--no-vignettes’ * checking for file ‘HiCBricks/DESCRIPTION’ ... OK * checking extension type ... Package * this is package ‘HiCBricks’ version ‘1.24.0’ * package encoding: UTF-8 * checking package namespace information ... OK * checking package dependencies ... OK * checking if this is a source package ... OK * checking if there is a namespace ... OK * checking for hidden files and directories ... OK * checking for portable file names ... OK * checking for sufficient/correct file permissions ... OK * checking whether package ‘HiCBricks’ can be installed ... OK * checking installed package size ... OK * checking package directory ... OK * checking ‘build’ directory ... OK * checking DESCRIPTION meta-information ... OK * checking top-level files ... OK * checking for left-over files ... OK * checking index information ... OK * checking package subdirectories ... OK * checking code files for non-ASCII characters ... OK * checking R files for syntax errors ... OK * checking whether the package can be loaded ... OK * checking whether the package can be loaded with stated dependencies ... OK * checking whether the package can be unloaded cleanly ... OK * checking whether the namespace can be loaded with stated dependencies ... OK * checking whether the namespace can be unloaded cleanly ... OK * checking dependencies in R code ... OK * checking S3 generic/method consistency ... OK * checking replacement functions ... OK * checking foreign function calls ... OK * checking R code for possible problems ... OK * checking Rd files ... OK * checking Rd metadata ... OK * checking Rd cross-references ... OK * checking for missing documentation entries ... OK * checking for code/documentation mismatches ... OK * checking Rd \usage sections ... OK * checking Rd contents ... OK * checking for unstated dependencies in examples ... OK * checking files in ‘vignettes’ ... OK * checking examples ... OK * checking for unstated dependencies in vignettes ... OK * checking package vignettes ... OK * checking running R code from vignettes ... SKIPPED * checking re-building of vignette outputs ... SKIPPED * checking PDF version of manual ... OK * DONE Status: OK
HiCBricks.Rcheck/00install.out
############################################################################## ############################################################################## ### ### Running command: ### ### /Library/Frameworks/R.framework/Resources/bin/R CMD INSTALL HiCBricks ### ############################################################################## ############################################################################## * installing to library ‘/Library/Frameworks/R.framework/Versions/4.4-arm64/Resources/library’ * installing *source* package ‘HiCBricks’ ... ** using staged installation ** R ** inst ** byte-compile and prepare package for lazy loading ** help *** installing help indices ** building package indices ** installing vignettes ** testing if installed package can be loaded from temporary location ** testing if installed package can be loaded from final location ** testing if installed package keeps a record of temporary installation path * DONE (HiCBricks)
HiCBricks.Rcheck/HiCBricks-Ex.timings
name | user | system | elapsed | |
BrickContainer_change_experiment_name | 1.077 | 0.123 | 1.204 | |
BrickContainer_change_output_directory | 0.806 | 0.087 | 0.895 | |
BrickContainer_get_path_to_file | 0.662 | 0.080 | 0.742 | |
BrickContainer_list_chromosomes | 0.660 | 0.086 | 0.746 | |
BrickContainer_list_experiment_name | 0.682 | 0.094 | 0.778 | |
BrickContainer_list_files | 0.688 | 0.092 | 0.782 | |
BrickContainer_list_output_directory | 0.685 | 0.086 | 0.781 | |
BrickContainer_list_resolutions | 0.663 | 0.080 | 0.763 | |
BrickContainer_unlink_resolution | 1.404 | 0.194 | 1.598 | |
Brick_add_ranges | 1.632 | 0.126 | 1.760 | |
Brick_call_compartments | 1.230 | 0.386 | 1.619 | |
Brick_export_to_sparse | 2.238 | 0.222 | 2.462 | |
Brick_fetch_range_index | 0.843 | 0.101 | 0.946 | |
Brick_fetch_row_vector | 1.314 | 0.138 | 1.467 | |
Brick_get_bintable | 0.706 | 0.101 | 0.808 | |
Brick_get_chrominfo | 0.641 | 0.092 | 0.735 | |
Brick_get_entire_matrix | 1.502 | 0.164 | 1.684 | |
Brick_get_matrix | 1.017 | 0.155 | 1.178 | |
Brick_get_matrix_mcols | 1.026 | 0.172 | 1.200 | |
Brick_get_matrix_within_coords | 1.427 | 0.165 | 1.615 | |
Brick_get_ranges | 0.701 | 0.119 | 0.821 | |
Brick_get_values_by_distance | 1.109 | 0.174 | 1.306 | |
Brick_get_vector_values | 1.065 | 0.180 | 1.246 | |
Brick_list_matrices | 0.671 | 0.097 | 0.769 | |
Brick_list_matrix_mcols | 0.657 | 0.086 | 0.743 | |
Brick_list_mcool_normalisations | 0 | 0 | 0 | |
Brick_list_mcool_resolutions | 0 | 0 | 0 | |
Brick_list_rangekeys | 0.680 | 0.097 | 0.778 | |
Brick_list_ranges_mcols | 0.665 | 0.091 | 0.758 | |
Brick_load_cis_matrix_till_distance | 0.904 | 0.121 | 1.027 | |
Brick_load_data_from_mcool | 0 | 0 | 0 | |
Brick_load_data_from_sparse | 0.000 | 0.001 | 0.000 | |
Brick_load_matrix | 1.012 | 0.141 | 1.155 | |
Brick_local_score_differentiator | 1.601 | 0.193 | 1.795 | |
Brick_make_ranges | 0.008 | 0.001 | 0.008 | |
Brick_matrix_dimensions | 1.001 | 0.166 | 1.180 | |
Brick_matrix_exists | 0.998 | 1.063 | 2.102 | |
Brick_matrix_filename | 1.012 | 0.153 | 1.168 | |
Brick_matrix_isdone | 1.023 | 0.152 | 1.179 | |
Brick_matrix_issparse | 1.012 | 0.136 | 1.150 | |
Brick_matrix_maxdist | 1.012 | 0.180 | 1.199 | |
Brick_matrix_minmax | 1.034 | 0.141 | 1.177 | |
Brick_mcool_normalisation_exists | 0.000 | 0.001 | 0.000 | |
Brick_rangekey_exists | 0.655 | 0.088 | 0.771 | |
Brick_return_region_position | 0.754 | 0.084 | 0.840 | |
Brick_vizart_plot_heatmap | 1.977 | 0.206 | 2.198 | |
Create_many_Bricks | 0.654 | 0.070 | 0.725 | |
Create_many_Bricks_from_mcool | 0.000 | 0.000 | 0.001 | |
load_BrickContainer | 0.718 | 0.078 | 0.795 | |