Back to Multiple platform build/check report for BioC 3.20: simplified long |
|
This page was generated on 2025-02-03 12:08 -0500 (Mon, 03 Feb 2025).
Hostname | OS | Arch (*) | R version | Installed pkgs |
---|---|---|---|---|
nebbiolo2 | Linux (Ubuntu 24.04.1 LTS) | x86_64 | 4.4.2 (2024-10-31) -- "Pile of Leaves" | 4746 |
palomino8 | Windows Server 2022 Datacenter | x64 | 4.4.2 (2024-10-31 ucrt) -- "Pile of Leaves" | 4494 |
merida1 | macOS 12.7.5 Monterey | x86_64 | 4.4.2 (2024-10-31) -- "Pile of Leaves" | 4517 |
kjohnson1 | macOS 13.6.6 Ventura | arm64 | 4.4.2 (2024-10-31) -- "Pile of Leaves" | 4469 |
taishan | Linux (openEuler 24.03 LTS) | aarch64 | 4.4.2 (2024-10-31) -- "Pile of Leaves" | 4400 |
Click on any hostname to see more info about the system (e.g. compilers) (*) as reported by 'uname -p', except on Windows and Mac OS X |
Package 953/2289 | Hostname | OS / Arch | INSTALL | BUILD | CHECK | BUILD BIN | ||||||||
HiCBricks 1.24.0 (landing page) Koustav Pal
| nebbiolo2 | Linux (Ubuntu 24.04.1 LTS) / x86_64 | OK | OK | OK | |||||||||
palomino8 | Windows Server 2022 Datacenter / x64 | OK | OK | OK | OK | |||||||||
merida1 | macOS 12.7.5 Monterey / x86_64 | OK | OK | OK | OK | |||||||||
kjohnson1 | macOS 13.6.6 Ventura / arm64 | OK | OK | OK | OK | |||||||||
taishan | Linux (openEuler 24.03 LTS) / aarch64 | OK | OK | OK | ||||||||||
To the developers/maintainers of the HiCBricks package: - Allow up to 24 hours (and sometimes 48 hours) for your latest push to git@git.bioconductor.org:packages/HiCBricks.git to reflect on this report. See Troubleshooting Build Report for more information. - Use the following Renviron settings to reproduce errors and warnings. - If 'R CMD check' started to fail recently on the Linux builder(s) over a missing dependency, add the missing dependency to 'Suggests:' in your DESCRIPTION file. See Renviron.bioc for more information. |
Package: HiCBricks |
Version: 1.24.0 |
Command: /Library/Frameworks/R.framework/Resources/bin/R CMD check --install=check:HiCBricks.install-out.txt --library=/Library/Frameworks/R.framework/Resources/library --no-vignettes --timings HiCBricks_1.24.0.tar.gz |
StartedAt: 2025-01-31 05:00:48 -0500 (Fri, 31 Jan 2025) |
EndedAt: 2025-01-31 05:06:29 -0500 (Fri, 31 Jan 2025) |
EllapsedTime: 340.6 seconds |
RetCode: 0 |
Status: OK |
CheckDir: HiCBricks.Rcheck |
Warnings: 0 |
############################################################################## ############################################################################## ### ### Running command: ### ### /Library/Frameworks/R.framework/Resources/bin/R CMD check --install=check:HiCBricks.install-out.txt --library=/Library/Frameworks/R.framework/Resources/library --no-vignettes --timings HiCBricks_1.24.0.tar.gz ### ############################################################################## ############################################################################## * using log directory ‘/Users/biocbuild/bbs-3.20-bioc/meat/HiCBricks.Rcheck’ * using R version 4.4.2 (2024-10-31) * using platform: x86_64-apple-darwin20 * R was compiled by Apple clang version 14.0.0 (clang-1400.0.29.202) GNU Fortran (GCC) 12.2.0 * running under: macOS Monterey 12.7.6 * using session charset: UTF-8 * using option ‘--no-vignettes’ * checking for file ‘HiCBricks/DESCRIPTION’ ... OK * checking extension type ... Package * this is package ‘HiCBricks’ version ‘1.24.0’ * package encoding: UTF-8 * checking package namespace information ... OK * checking package dependencies ... OK * checking if this is a source package ... OK * checking if there is a namespace ... OK * checking for hidden files and directories ... OK * checking for portable file names ... OK * checking for sufficient/correct file permissions ... OK * checking whether package ‘HiCBricks’ can be installed ... OK * checking installed package size ... OK * checking package directory ... OK * checking ‘build’ directory ... OK * checking DESCRIPTION meta-information ... OK * checking top-level files ... OK * checking for left-over files ... OK * checking index information ... OK * checking package subdirectories ... OK * checking code files for non-ASCII characters ... OK * checking R files for syntax errors ... OK * checking whether the package can be loaded ... OK * checking whether the package can be loaded with stated dependencies ... OK * checking whether the package can be unloaded cleanly ... OK * checking whether the namespace can be loaded with stated dependencies ... OK * checking whether the namespace can be unloaded cleanly ... OK * checking dependencies in R code ... OK * checking S3 generic/method consistency ... OK * checking replacement functions ... OK * checking foreign function calls ... OK * checking R code for possible problems ... OK * checking Rd files ... OK * checking Rd metadata ... OK * checking Rd cross-references ... OK * checking for missing documentation entries ... OK * checking for code/documentation mismatches ... OK * checking Rd \usage sections ... OK * checking Rd contents ... OK * checking for unstated dependencies in examples ... OK * checking files in ‘vignettes’ ... OK * checking examples ... OK Examples with CPU (user + system) or elapsed time > 5s user system elapsed Brick_export_to_sparse 5.592 0.568 6.203 Brick_vizart_plot_heatmap 4.775 0.621 6.445 Brick_local_score_differentiator 4.109 0.637 5.565 * checking for unstated dependencies in vignettes ... OK * checking package vignettes ... OK * checking running R code from vignettes ... SKIPPED * checking re-building of vignette outputs ... SKIPPED * checking PDF version of manual ... OK * DONE Status: OK
HiCBricks.Rcheck/00install.out
############################################################################## ############################################################################## ### ### Running command: ### ### /Library/Frameworks/R.framework/Resources/bin/R CMD INSTALL HiCBricks ### ############################################################################## ############################################################################## * installing to library ‘/Library/Frameworks/R.framework/Versions/4.4-x86_64/Resources/library’ * installing *source* package ‘HiCBricks’ ... ** using staged installation ** R ** inst ** byte-compile and prepare package for lazy loading ** help *** installing help indices ** building package indices ** installing vignettes ** testing if installed package can be loaded from temporary location ** testing if installed package can be loaded from final location ** testing if installed package keeps a record of temporary installation path * DONE (HiCBricks)
HiCBricks.Rcheck/HiCBricks-Ex.timings
name | user | system | elapsed | |
BrickContainer_change_experiment_name | 2.677 | 0.170 | 2.862 | |
BrickContainer_change_output_directory | 2.136 | 0.122 | 2.276 | |
BrickContainer_get_path_to_file | 1.904 | 0.110 | 2.026 | |
BrickContainer_list_chromosomes | 1.958 | 0.117 | 2.317 | |
BrickContainer_list_experiment_name | 1.939 | 0.113 | 2.360 | |
BrickContainer_list_files | 2.069 | 0.119 | 2.368 | |
BrickContainer_list_output_directory | 1.992 | 0.117 | 2.299 | |
BrickContainer_list_resolutions | 1.996 | 0.115 | 2.309 | |
BrickContainer_unlink_resolution | 4.221 | 0.239 | 4.863 | |
Brick_add_ranges | 3.907 | 0.171 | 4.101 | |
Brick_call_compartments | 2.929 | 0.363 | 3.308 | |
Brick_export_to_sparse | 5.592 | 0.568 | 6.203 | |
Brick_fetch_range_index | 2.149 | 0.106 | 2.280 | |
Brick_fetch_row_vector | 3.334 | 0.484 | 3.876 | |
Brick_get_bintable | 1.949 | 0.108 | 2.100 | |
Brick_get_chrominfo | 1.856 | 0.109 | 1.975 | |
Brick_get_entire_matrix | 2.994 | 0.359 | 3.400 | |
Brick_get_matrix | 2.580 | 0.443 | 3.047 | |
Brick_get_matrix_mcols | 2.524 | 0.356 | 2.894 | |
Brick_get_matrix_within_coords | 3.608 | 0.362 | 4.011 | |
Brick_get_ranges | 1.960 | 0.116 | 2.087 | |
Brick_get_values_by_distance | 2.870 | 0.442 | 3.337 | |
Brick_get_vector_values | 2.759 | 0.692 | 3.494 | |
Brick_list_matrices | 1.885 | 0.117 | 2.050 | |
Brick_list_matrix_mcols | 1.915 | 0.112 | 2.042 | |
Brick_list_mcool_normalisations | 0.000 | 0.000 | 0.001 | |
Brick_list_mcool_resolutions | 0.001 | 0.001 | 0.001 | |
Brick_list_rangekeys | 1.890 | 0.112 | 2.026 | |
Brick_list_ranges_mcols | 1.899 | 0.107 | 2.029 | |
Brick_load_cis_matrix_till_distance | 2.454 | 0.412 | 3.418 | |
Brick_load_data_from_mcool | 0.001 | 0.001 | 0.001 | |
Brick_load_data_from_sparse | 0.000 | 0.001 | 0.002 | |
Brick_load_matrix | 2.616 | 0.390 | 3.188 | |
Brick_local_score_differentiator | 4.109 | 0.637 | 5.565 | |
Brick_make_ranges | 0.021 | 0.001 | 0.024 | |
Brick_matrix_dimensions | 2.611 | 0.460 | 3.241 | |
Brick_matrix_exists | 2.583 | 0.383 | 3.806 | |
Brick_matrix_filename | 2.625 | 0.410 | 3.732 | |
Brick_matrix_isdone | 2.691 | 0.425 | 3.359 | |
Brick_matrix_issparse | 2.621 | 0.550 | 3.854 | |
Brick_matrix_maxdist | 2.625 | 0.512 | 3.338 | |
Brick_matrix_minmax | 2.560 | 0.533 | 3.761 | |
Brick_mcool_normalisation_exists | 0.000 | 0.001 | 0.001 | |
Brick_rangekey_exists | 1.912 | 0.116 | 2.137 | |
Brick_return_region_position | 2.120 | 0.117 | 2.350 | |
Brick_vizart_plot_heatmap | 4.775 | 0.621 | 6.445 | |
Create_many_Bricks | 1.896 | 0.109 | 2.354 | |
Create_many_Bricks_from_mcool | 0.000 | 0.001 | 0.001 | |
load_BrickContainer | 2.027 | 0.118 | 2.489 | |