Back to Multiple platform build/check report for BioC 3.20: simplified long |
|
This page was generated on 2025-02-06 12:11 -0500 (Thu, 06 Feb 2025).
Hostname | OS | Arch (*) | R version | Installed pkgs |
---|---|---|---|---|
nebbiolo2 | Linux (Ubuntu 24.04.1 LTS) | x86_64 | 4.4.2 (2024-10-31) -- "Pile of Leaves" | 4753 |
palomino8 | Windows Server 2022 Datacenter | x64 | 4.4.2 (2024-10-31 ucrt) -- "Pile of Leaves" | 4501 |
merida1 | macOS 12.7.5 Monterey | x86_64 | 4.4.2 (2024-10-31) -- "Pile of Leaves" | 4524 |
kjohnson1 | macOS 13.6.6 Ventura | arm64 | 4.4.2 (2024-10-31) -- "Pile of Leaves" | 4476 |
taishan | Linux (openEuler 24.03 LTS) | aarch64 | 4.4.2 (2024-10-31) -- "Pile of Leaves" | 4407 |
Click on any hostname to see more info about the system (e.g. compilers) (*) as reported by 'uname -p', except on Windows and Mac OS X |
Package 953/2289 | Hostname | OS / Arch | INSTALL | BUILD | CHECK | BUILD BIN | ||||||||
HiCBricks 1.24.0 (landing page) Koustav Pal
| nebbiolo2 | Linux (Ubuntu 24.04.1 LTS) / x86_64 | OK | OK | OK | ![]() | ||||||||
palomino8 | Windows Server 2022 Datacenter / x64 | OK | OK | OK | OK | ![]() | ||||||||
merida1 | macOS 12.7.5 Monterey / x86_64 | OK | OK | OK | OK | ![]() | ||||||||
kjohnson1 | macOS 13.6.6 Ventura / arm64 | OK | OK | OK | OK | ![]() | ||||||||
taishan | Linux (openEuler 24.03 LTS) / aarch64 | OK | OK | OK | ||||||||||
To the developers/maintainers of the HiCBricks package: - Allow up to 24 hours (and sometimes 48 hours) for your latest push to git@git.bioconductor.org:packages/HiCBricks.git to reflect on this report. See Troubleshooting Build Report for more information. - Use the following Renviron settings to reproduce errors and warnings. - If 'R CMD check' started to fail recently on the Linux builder(s) over a missing dependency, add the missing dependency to 'Suggests:' in your DESCRIPTION file. See Renviron.bioc for more information. - See Martin Grigorov's blog post for how to debug Linux ARM64 related issues on a x86_64 host. |
Package: HiCBricks |
Version: 1.24.0 |
Command: /home/biocbuild/R/R/bin/R CMD check --install=check:HiCBricks.install-out.txt --library=/home/biocbuild/R/R/site-library --no-vignettes --timings HiCBricks_1.24.0.tar.gz |
StartedAt: 2025-02-04 07:48:33 -0000 (Tue, 04 Feb 2025) |
EndedAt: 2025-02-04 08:01:49 -0000 (Tue, 04 Feb 2025) |
EllapsedTime: 795.7 seconds |
RetCode: 0 |
Status: OK |
CheckDir: HiCBricks.Rcheck |
Warnings: 0 |
############################################################################## ############################################################################## ### ### Running command: ### ### /home/biocbuild/R/R/bin/R CMD check --install=check:HiCBricks.install-out.txt --library=/home/biocbuild/R/R/site-library --no-vignettes --timings HiCBricks_1.24.0.tar.gz ### ############################################################################## ############################################################################## * using log directory ‘/home/biocbuild/bbs-3.20-bioc/meat/HiCBricks.Rcheck’ * using R version 4.4.2 (2024-10-31) * using platform: aarch64-unknown-linux-gnu * R was compiled by aarch64-unknown-linux-gnu-gcc (GCC) 14.2.0 GNU Fortran (GCC) 12.3.1 (openEuler 12.3.1-36.oe2403) * running under: openEuler 24.03 (LTS) * using session charset: UTF-8 * using option ‘--no-vignettes’ * checking for file ‘HiCBricks/DESCRIPTION’ ... OK * checking extension type ... Package * this is package ‘HiCBricks’ version ‘1.24.0’ * package encoding: UTF-8 * checking package namespace information ... OK * checking package dependencies ... OK * checking if this is a source package ... OK * checking if there is a namespace ... OK * checking for hidden files and directories ... OK * checking for portable file names ... OK * checking for sufficient/correct file permissions ... OK * checking whether package ‘HiCBricks’ can be installed ... OK * checking installed package size ... OK * checking package directory ... OK * checking ‘build’ directory ... OK * checking DESCRIPTION meta-information ... OK * checking top-level files ... OK * checking for left-over files ... OK * checking index information ... OK * checking package subdirectories ... OK * checking code files for non-ASCII characters ... OK * checking R files for syntax errors ... OK * checking whether the package can be loaded ... OK * checking whether the package can be loaded with stated dependencies ... OK * checking whether the package can be unloaded cleanly ... OK * checking whether the namespace can be loaded with stated dependencies ... OK * checking whether the namespace can be unloaded cleanly ... OK * checking loading without being on the library search path ... OK * checking dependencies in R code ... OK * checking S3 generic/method consistency ... OK * checking replacement functions ... OK * checking foreign function calls ... OK * checking R code for possible problems ... OK * checking Rd files ... OK * checking Rd metadata ... OK * checking Rd cross-references ... OK * checking for missing documentation entries ... OK * checking for code/documentation mismatches ... OK * checking Rd \usage sections ... OK * checking Rd contents ... OK * checking for unstated dependencies in examples ... OK * checking files in ‘vignettes’ ... OK * checking examples ... OK * checking for unstated dependencies in vignettes ... OK * checking package vignettes ... OK * checking running R code from vignettes ... SKIPPED * checking re-building of vignette outputs ... SKIPPED * checking PDF version of manual ... OK * DONE Status: OK
HiCBricks.Rcheck/00install.out
############################################################################## ############################################################################## ### ### Running command: ### ### /home/biocbuild/R/R/bin/R CMD INSTALL HiCBricks ### ############################################################################## ############################################################################## * installing to library ‘/home/biocbuild/R/R-4.4.2/site-library’ * installing *source* package ‘HiCBricks’ ... ** using staged installation ** R ** inst ** byte-compile and prepare package for lazy loading ** help *** installing help indices ** building package indices ** installing vignettes ** testing if installed package can be loaded from temporary location ** testing if installed package can be loaded from final location ** testing if installed package keeps a record of temporary installation path * DONE (HiCBricks)
HiCBricks.Rcheck/HiCBricks-Ex.timings
name | user | system | elapsed | |
BrickContainer_change_experiment_name | 1.559 | 0.032 | 1.596 | |
BrickContainer_change_output_directory | 1.219 | 0.020 | 1.242 | |
BrickContainer_get_path_to_file | 1.172 | 0.040 | 1.214 | |
BrickContainer_list_chromosomes | 1.143 | 0.064 | 1.210 | |
BrickContainer_list_experiment_name | 1.119 | 0.020 | 1.142 | |
BrickContainer_list_files | 1.137 | 0.051 | 1.191 | |
BrickContainer_list_output_directory | 1.140 | 0.040 | 1.185 | |
BrickContainer_list_resolutions | 1.123 | 0.020 | 1.146 | |
BrickContainer_unlink_resolution | 2.322 | 0.100 | 2.427 | |
Brick_add_ranges | 2.538 | 0.072 | 2.618 | |
Brick_call_compartments | 2.230 | 0.095 | 2.334 | |
Brick_export_to_sparse | 3.363 | 0.104 | 3.479 | |
Brick_fetch_range_index | 1.394 | 0.032 | 1.431 | |
Brick_fetch_row_vector | 1.930 | 0.068 | 2.003 | |
Brick_get_bintable | 1.178 | 0.008 | 1.189 | |
Brick_get_chrominfo | 1.153 | 0.024 | 1.179 | |
Brick_get_entire_matrix | 1.565 | 0.039 | 1.608 | |
Brick_get_matrix | 1.807 | 0.048 | 1.862 | |
Brick_get_matrix_mcols | 1.479 | 0.048 | 1.532 | |
Brick_get_matrix_within_coords | 2.186 | 0.044 | 2.236 | |
Brick_get_ranges | 1.207 | 0.036 | 1.247 | |
Brick_get_values_by_distance | 1.710 | 0.044 | 1.759 | |
Brick_get_vector_values | 1.602 | 0.064 | 1.670 | |
Brick_list_matrices | 1.170 | 0.028 | 1.205 | |
Brick_list_matrix_mcols | 1.130 | 0.016 | 1.150 | |
Brick_list_mcool_normalisations | 0.001 | 0.000 | 0.001 | |
Brick_list_mcool_resolutions | 0 | 0 | 0 | |
Brick_list_rangekeys | 1.167 | 0.008 | 1.178 | |
Brick_list_ranges_mcols | 1.109 | 0.016 | 1.128 | |
Brick_load_cis_matrix_till_distance | 1.374 | 0.059 | 1.437 | |
Brick_load_data_from_mcool | 0 | 0 | 0 | |
Brick_load_data_from_sparse | 0.001 | 0.000 | 0.000 | |
Brick_load_matrix | 1.454 | 0.004 | 1.462 | |
Brick_local_score_differentiator | 2.271 | 0.040 | 2.320 | |
Brick_make_ranges | 0.011 | 0.000 | 0.011 | |
Brick_matrix_dimensions | 1.461 | 0.072 | 1.540 | |
Brick_matrix_exists | 1.462 | 0.004 | 1.471 | |
Brick_matrix_filename | 1.493 | 0.028 | 1.525 | |
Brick_matrix_isdone | 1.468 | 0.024 | 1.496 | |
Brick_matrix_issparse | 1.467 | 0.044 | 1.515 | |
Brick_matrix_maxdist | 1.480 | 0.052 | 1.535 | |
Brick_matrix_minmax | 1.411 | 0.040 | 1.457 | |
Brick_mcool_normalisation_exists | 0 | 0 | 0 | |
Brick_rangekey_exists | 1.105 | 0.016 | 1.123 | |
Brick_return_region_position | 1.231 | 0.000 | 1.233 | |
Brick_vizart_plot_heatmap | 2.654 | 0.071 | 2.733 | |
Create_many_Bricks | 1.121 | 0.032 | 1.156 | |
Create_many_Bricks_from_mcool | 0 | 0 | 0 | |
load_BrickContainer | 1.197 | 0.020 | 1.219 | |