Back to Multiple platform build/check report for BioC 3.20: simplified long |
|
This page was generated on 2025-02-06 12:04 -0500 (Thu, 06 Feb 2025).
Hostname | OS | Arch (*) | R version | Installed pkgs |
---|---|---|---|---|
nebbiolo2 | Linux (Ubuntu 24.04.1 LTS) | x86_64 | 4.4.2 (2024-10-31) -- "Pile of Leaves" | 4753 |
palomino8 | Windows Server 2022 Datacenter | x64 | 4.4.2 (2024-10-31 ucrt) -- "Pile of Leaves" | 4501 |
merida1 | macOS 12.7.5 Monterey | x86_64 | 4.4.2 (2024-10-31) -- "Pile of Leaves" | 4524 |
kjohnson1 | macOS 13.6.6 Ventura | arm64 | 4.4.2 (2024-10-31) -- "Pile of Leaves" | 4476 |
taishan | Linux (openEuler 24.03 LTS) | aarch64 | 4.4.2 (2024-10-31) -- "Pile of Leaves" | 4407 |
Click on any hostname to see more info about the system (e.g. compilers) (*) as reported by 'uname -p', except on Windows and Mac OS X |
Package 953/2289 | Hostname | OS / Arch | INSTALL | BUILD | CHECK | BUILD BIN | ||||||||
HiCBricks 1.24.0 (landing page) Koustav Pal
| nebbiolo2 | Linux (Ubuntu 24.04.1 LTS) / x86_64 | OK | OK | OK | ![]() | ||||||||
palomino8 | Windows Server 2022 Datacenter / x64 | OK | OK | OK | OK | ![]() | ||||||||
merida1 | macOS 12.7.5 Monterey / x86_64 | OK | OK | OK | OK | ![]() | ||||||||
kjohnson1 | macOS 13.6.6 Ventura / arm64 | OK | OK | OK | OK | ![]() | ||||||||
taishan | Linux (openEuler 24.03 LTS) / aarch64 | OK | OK | OK | ||||||||||
To the developers/maintainers of the HiCBricks package: - Allow up to 24 hours (and sometimes 48 hours) for your latest push to git@git.bioconductor.org:packages/HiCBricks.git to reflect on this report. See Troubleshooting Build Report for more information. - Use the following Renviron settings to reproduce errors and warnings. - If 'R CMD check' started to fail recently on the Linux builder(s) over a missing dependency, add the missing dependency to 'Suggests:' in your DESCRIPTION file. See Renviron.bioc for more information. |
Package: HiCBricks |
Version: 1.24.0 |
Command: /home/biocbuild/bbs-3.20-bioc/R/bin/R CMD check --install=check:HiCBricks.install-out.txt --library=/home/biocbuild/bbs-3.20-bioc/R/site-library --timings HiCBricks_1.24.0.tar.gz |
StartedAt: 2025-02-03 23:09:15 -0500 (Mon, 03 Feb 2025) |
EndedAt: 2025-02-03 23:12:35 -0500 (Mon, 03 Feb 2025) |
EllapsedTime: 200.2 seconds |
RetCode: 0 |
Status: OK |
CheckDir: HiCBricks.Rcheck |
Warnings: 0 |
############################################################################## ############################################################################## ### ### Running command: ### ### /home/biocbuild/bbs-3.20-bioc/R/bin/R CMD check --install=check:HiCBricks.install-out.txt --library=/home/biocbuild/bbs-3.20-bioc/R/site-library --timings HiCBricks_1.24.0.tar.gz ### ############################################################################## ############################################################################## * using log directory ‘/home/biocbuild/bbs-3.20-bioc/meat/HiCBricks.Rcheck’ * using R version 4.4.2 (2024-10-31) * using platform: x86_64-pc-linux-gnu * R was compiled by gcc (Ubuntu 13.2.0-23ubuntu4) 13.2.0 GNU Fortran (Ubuntu 13.2.0-23ubuntu4) 13.2.0 * running under: Ubuntu 24.04.1 LTS * using session charset: UTF-8 * checking for file ‘HiCBricks/DESCRIPTION’ ... OK * checking extension type ... Package * this is package ‘HiCBricks’ version ‘1.24.0’ * package encoding: UTF-8 * checking package namespace information ... OK * checking package dependencies ... OK * checking if this is a source package ... OK * checking if there is a namespace ... OK * checking for hidden files and directories ... OK * checking for portable file names ... OK * checking for sufficient/correct file permissions ... OK * checking whether package ‘HiCBricks’ can be installed ... OK * checking installed package size ... OK * checking package directory ... OK * checking ‘build’ directory ... OK * checking DESCRIPTION meta-information ... OK * checking top-level files ... OK * checking for left-over files ... OK * checking index information ... OK * checking package subdirectories ... OK * checking code files for non-ASCII characters ... OK * checking R files for syntax errors ... OK * checking whether the package can be loaded ... OK * checking whether the package can be loaded with stated dependencies ... OK * checking whether the package can be unloaded cleanly ... OK * checking whether the namespace can be loaded with stated dependencies ... OK * checking whether the namespace can be unloaded cleanly ... OK * checking loading without being on the library search path ... OK * checking dependencies in R code ... OK * checking S3 generic/method consistency ... OK * checking replacement functions ... OK * checking foreign function calls ... OK * checking R code for possible problems ... OK * checking Rd files ... OK * checking Rd metadata ... OK * checking Rd cross-references ... OK * checking for missing documentation entries ... OK * checking for code/documentation mismatches ... OK * checking Rd \usage sections ... OK * checking Rd contents ... OK * checking for unstated dependencies in examples ... OK * checking files in ‘vignettes’ ... OK * checking examples ... OK * checking for unstated dependencies in vignettes ... OK * checking package vignettes ... OK * checking re-building of vignette outputs ... OK * checking PDF version of manual ... OK * DONE Status: OK
HiCBricks.Rcheck/00install.out
############################################################################## ############################################################################## ### ### Running command: ### ### /home/biocbuild/bbs-3.20-bioc/R/bin/R CMD INSTALL HiCBricks ### ############################################################################## ############################################################################## * installing to library ‘/home/biocbuild/bbs-3.20-bioc/R/site-library’ * installing *source* package ‘HiCBricks’ ... ** using staged installation ** R ** inst ** byte-compile and prepare package for lazy loading ** help *** installing help indices ** building package indices ** installing vignettes ** testing if installed package can be loaded from temporary location ** testing if installed package can be loaded from final location ** testing if installed package keeps a record of temporary installation path * DONE (HiCBricks)
HiCBricks.Rcheck/HiCBricks-Ex.timings
name | user | system | elapsed | |
BrickContainer_change_experiment_name | 1.007 | 0.038 | 1.047 | |
BrickContainer_change_output_directory | 0.848 | 0.009 | 0.859 | |
BrickContainer_get_path_to_file | 0.732 | 0.009 | 0.744 | |
BrickContainer_list_chromosomes | 0.798 | 0.011 | 0.811 | |
BrickContainer_list_experiment_name | 0.731 | 0.012 | 0.747 | |
BrickContainer_list_files | 0.745 | 0.046 | 0.792 | |
BrickContainer_list_output_directory | 0.712 | 0.007 | 0.719 | |
BrickContainer_list_resolutions | 0.704 | 0.009 | 0.713 | |
BrickContainer_unlink_resolution | 1.518 | 0.052 | 1.570 | |
Brick_add_ranges | 1.768 | 0.070 | 1.838 | |
Brick_call_compartments | 1.151 | 0.041 | 1.192 | |
Brick_export_to_sparse | 2.125 | 0.069 | 2.194 | |
Brick_fetch_range_index | 0.867 | 0.028 | 0.896 | |
Brick_fetch_row_vector | 1.296 | 0.025 | 1.322 | |
Brick_get_bintable | 0.806 | 0.012 | 0.819 | |
Brick_get_chrominfo | 0.725 | 0.012 | 0.737 | |
Brick_get_entire_matrix | 1.066 | 0.050 | 1.116 | |
Brick_get_matrix | 1.373 | 0.053 | 1.426 | |
Brick_get_matrix_mcols | 0.994 | 0.017 | 1.011 | |
Brick_get_matrix_within_coords | 1.486 | 0.063 | 1.550 | |
Brick_get_ranges | 0.742 | 0.010 | 0.752 | |
Brick_get_values_by_distance | 1.085 | 0.026 | 1.111 | |
Brick_get_vector_values | 1.015 | 0.026 | 1.040 | |
Brick_list_matrices | 0.694 | 0.012 | 0.706 | |
Brick_list_matrix_mcols | 0.697 | 0.009 | 0.706 | |
Brick_list_mcool_normalisations | 0.001 | 0.000 | 0.000 | |
Brick_list_mcool_resolutions | 0 | 0 | 0 | |
Brick_list_rangekeys | 0.722 | 0.009 | 0.732 | |
Brick_list_ranges_mcols | 0.699 | 0.010 | 0.709 | |
Brick_load_cis_matrix_till_distance | 0.931 | 0.012 | 0.944 | |
Brick_load_data_from_mcool | 0 | 0 | 0 | |
Brick_load_data_from_sparse | 0.000 | 0.000 | 0.001 | |
Brick_load_matrix | 0.962 | 0.023 | 0.985 | |
Brick_local_score_differentiator | 1.531 | 0.045 | 1.576 | |
Brick_make_ranges | 0.008 | 0.000 | 0.008 | |
Brick_matrix_dimensions | 0.975 | 0.020 | 0.995 | |
Brick_matrix_exists | 0.980 | 0.012 | 0.992 | |
Brick_matrix_filename | 1.064 | 0.018 | 1.082 | |
Brick_matrix_isdone | 0.962 | 0.017 | 0.979 | |
Brick_matrix_issparse | 0.968 | 0.025 | 0.993 | |
Brick_matrix_maxdist | 1.084 | 0.023 | 1.108 | |
Brick_matrix_minmax | 0.972 | 0.020 | 0.992 | |
Brick_mcool_normalisation_exists | 0.000 | 0.000 | 0.001 | |
Brick_rangekey_exists | 0.790 | 0.018 | 0.808 | |
Brick_return_region_position | 0.830 | 0.009 | 0.839 | |
Brick_vizart_plot_heatmap | 1.765 | 0.037 | 1.804 | |
Create_many_Bricks | 0.709 | 0.011 | 0.721 | |
Create_many_Bricks_from_mcool | 0.000 | 0.001 | 0.000 | |
load_BrickContainer | 0.748 | 0.015 | 0.763 | |