Back to Multiple platform build/check report for BioC 3.21:   simplified   long
ABCDEF[G]HIJKLMNOPQRSTUVWXYZ

This page was generated on 2025-02-06 11:38 -0500 (Thu, 06 Feb 2025).

HostnameOSArch (*)R versionInstalled pkgs
nebbiolo1Linux (Ubuntu 24.04.1 LTS)x86_64R Under development (unstable) (2025-01-20 r87609) -- "Unsuffered Consequences" 4719
palomino7Windows Server 2022 Datacenterx64R Under development (unstable) (2025-01-21 r87610 ucrt) -- "Unsuffered Consequences" 4480
lconwaymacOS 12.7.1 Montereyx86_64R Under development (unstable) (2025-01-22 r87618) -- "Unsuffered Consequences" 4491
kjohnson3macOS 13.7.1 Venturaarm64R Under development (unstable) (2025-01-20 r87609) -- "Unsuffered Consequences" 4444
Click on any hostname to see more info about the system (e.g. compilers)      (*) as reported by 'uname -p', except on Windows and Mac OS X

All results for package GenomicFeatures


To the developers/maintainers of the GenomicFeatures package:
- Allow up to 24 hours (and sometimes 48 hours) for your latest push to git@git.bioconductor.org:packages/GenomicFeatures.git to reflect on this report. See Troubleshooting Build Report for more information.
- Use the following Renviron settings to reproduce errors and warnings.
- If 'R CMD check' started to fail recently on the Linux builder(s) over a missing dependency, add the missing dependency to 'Suggests:' in your DESCRIPTION file. See Renviron.bioc for more information.

raw results

Package 822/2295HostnameOS / ArchINSTALLBUILDCHECKBUILD BIN
GenomicFeatures 1.59.1  (landing page)
H. Pagès
Snapshot Date: 2025-02-05 13:48 -0500 (Wed, 05 Feb 2025)
git_url: https://git.bioconductor.org/packages/GenomicFeatures
git_branch: devel
git_last_commit: 2d2ddd6
git_last_commit_date: 2024-11-06 21:45:17 -0500 (Wed, 06 Nov 2024)
nebbiolo1Linux (Ubuntu 24.04.1 LTS) / x86_64  OK    OK    OK  UNNEEDED, same version is already published
palomino7Windows Server 2022 Datacenter / x64  OK    OK    OK    OK  UNNEEDED, same version is already published
lconwaymacOS 12.7.1 Monterey / x86_64  OK    OK    OK    OK  YES
kjohnson3macOS 13.7.1 Ventura / arm64  OK    OK    OK    OK  YES



Results for Bioconductor software packages that depend directly on package GenomicFeatures

QUICK STATSOS / ArchINSTALLBUILDCHECKBUILD BIN
nebbiolo1Linux (Ubuntu 24.04.1 LTS) / x86_64
00140
04136
1227106
palomino7Windows Server 2022 Datacenter / x64
00137
05132
1128102
00132
lconwaymacOS 12.7.1 Monterey / x86_64
00139
04135
0227106
00135
kjohnson3macOS 13.7.1 Ventura / arm64
00139
15133
0228103
00133
Package 1/140HostnameOS / ArchINSTALLBUILDCHECKBUILD BIN
AllelicImbalance 1.45.0  (landing page)
Jesper R Gadin
git_last_commit: ffd47ab
git_last_commit_date: 2024-10-29 09:48:26 -0500
nebbiolo1Linux (Ubuntu 24.04.1 LTS) / x86_64  OK    OK    OK  UNNEEDED, same version is already published
palomino7Windows Server 2022 Datacenter / x64  OK    OK    OK    OK  UNNEEDED, same version is already published
lconwaymacOS 12.7.1 Monterey / x86_64  OK    OK    OK    OK  YES
kjohnson3macOS 13.7.1 Ventura / arm64  OK    OK    OK    OK  YES
Package 2/140HostnameOS / ArchINSTALLBUILDCHECKBUILD BIN
AnnotationHubData 1.37.0  (landing page)
Bioconductor Package Maintainer
git_last_commit: 1e4d239
git_last_commit_date: 2024-10-29 10:03:33 -0500
nebbiolo1Linux (Ubuntu 24.04.1 LTS) / x86_64  OK    OK    WARNINGS  UNNEEDED, same version is already published
palomino7Windows Server 2022 Datacenter / x64  OK    OK    WARNINGS    OK  UNNEEDED, same version is already published
lconwaymacOS 12.7.1 Monterey / x86_64  OK    OK    WARNINGS    OK  YES
kjohnson3macOS 13.7.1 Ventura / arm64  OK    OK    WARNINGS    OK  YES
Package 3/140HostnameOS / ArchINSTALLBUILDCHECKBUILD BIN
annotatr 1.33.0  (landing page)
Raymond G. Cavalcante
git_last_commit: d81bd7b
git_last_commit_date: 2024-10-29 10:15:13 -0500
nebbiolo1Linux (Ubuntu 24.04.1 LTS) / x86_64  OK    OK    OK  UNNEEDED, same version is already published
palomino7Windows Server 2022 Datacenter / x64  OK    OK    OK    OK  UNNEEDED, same version is already published
lconwaymacOS 12.7.1 Monterey / x86_64  OK    OK    OK    OK  YES
kjohnson3macOS 13.7.1 Ventura / arm64  OK    OK    OK    OK  YES
Package 4/140HostnameOS / ArchINSTALLBUILDCHECKBUILD BIN
APAlyzer 1.21.0  (landing page)
Ruijia Wang
git_last_commit: 7a59a45
git_last_commit_date: 2024-10-29 10:39:10 -0500
nebbiolo1Linux (Ubuntu 24.04.1 LTS) / x86_64  OK    OK    WARNINGS  UNNEEDED, same version is already published
palomino7Windows Server 2022 Datacenter / x64  OK    OK    WARNINGS    OK  NO, package depends on 'DESeq2' which is only available as a source package that needs compilation
lconwaymacOS 12.7.1 Monterey / x86_64  OK    OK    WARNINGS    OK  NO, package depends on 'DESeq2' which is only available as a source package that needs compilation
kjohnson3macOS 13.7.1 Ventura / arm64  OK    OK    WARNINGS    OK  NO, package depends on 'DESeq2' which is only available as a source package that needs compilation
Package 5/140HostnameOS / ArchINSTALLBUILDCHECKBUILD BIN
appreci8R 1.25.0  (landing page)
Sarah Sandmann
git_last_commit: 2946ad7
git_last_commit_date: 2024-10-29 10:29:50 -0500
nebbiolo1Linux (Ubuntu 24.04.1 LTS) / x86_64  OK    OK    OK  UNNEEDED, same version is already published
palomino7Windows Server 2022 Datacenter / x64  OK    OK    OK    OK  UNNEEDED, same version is already published
lconwaymacOS 12.7.1 Monterey / x86_64  OK    OK    OK    OK  YES
kjohnson3macOS 13.7.1 Ventura / arm64  OK    OK    OK    OK  YES
Package 6/140HostnameOS / ArchINSTALLBUILDCHECKBUILD BIN
ASpli 2.17.0  (landing page)
Ariel Chernomoretz
git_last_commit: 5b28a12
git_last_commit_date: 2024-10-29 10:12:56 -0500
nebbiolo1Linux (Ubuntu 24.04.1 LTS) / x86_64  OK    OK    WARNINGS  UNNEEDED, same version is already published
palomino7Windows Server 2022 Datacenter / x64  OK    OK    WARNINGS    OK  UNNEEDED, same version is already published
lconwaymacOS 12.7.1 Monterey / x86_64  OK    OK    WARNINGS    OK  UNNEEDED, same version is already published
kjohnson3macOS 13.7.1 Ventura / arm64  OK    OK    WARNINGS    OK  UNNEEDED, same version is already published
Package 7/140HostnameOS / ArchINSTALLBUILDCHECKBUILD BIN
atena 1.13.0  (landing page)
Robert Castelo
git_last_commit: 90f5b5e
git_last_commit_date: 2025-02-03 08:40:22 -0500
nebbiolo1Linux (Ubuntu 24.04.1 LTS) / x86_64  OK    OK    OK  UNNEEDED, same version is already published
palomino7Windows Server 2022 Datacenter / x64  OK    OK    OK    OK  UNNEEDED, same version is already published
lconwaymacOS 12.7.1 Monterey / x86_64  OK    OK    OK    OK  UNNEEDED, same version is already published
kjohnson3macOS 13.7.1 Ventura / arm64  OK    OK    OK    OK  UNNEEDED, same version is already published
Package 8/140HostnameOS / ArchINSTALLBUILDCHECKBUILD BIN
bambu 3.9.1  (landing page)
Ying Chen
git_last_commit: 4b1edc2
git_last_commit_date: 2025-01-31 03:18:43 -0500
nebbiolo1Linux (Ubuntu 24.04.1 LTS) / x86_64  OK    OK    OK  UNNEEDED, same version is already published
palomino7Windows Server 2022 Datacenter / x64  OK    OK    OK    OK  UNNEEDED, same version is already published
lconwaymacOS 12.7.1 Monterey / x86_64  OK    OK    OK    OK  UNNEEDED, same version is already published
kjohnson3macOS 13.7.1 Ventura / arm64  OK    OK    OK    OK  UNNEEDED, same version is already published
Package 9/140HostnameOS / ArchINSTALLBUILDCHECKBUILD BIN
BgeeCall 1.23.0  (landing page)
Julien Wollbrett
git_last_commit: 6e9ba9e
git_last_commit_date: 2024-10-29 10:42:37 -0500
nebbiolo1Linux (Ubuntu 24.04.1 LTS) / x86_64  OK    OK    OK  UNNEEDED, same version is already published
palomino7Windows Server 2022 Datacenter / x64  OK    OK    OK    OK  UNNEEDED, same version is already published
lconwaymacOS 12.7.1 Monterey / x86_64  OK    OK    OK    OK  YES
kjohnson3macOS 13.7.1 Ventura / arm64  OK    OK    OK    OK  YES
Package 10/140HostnameOS / ArchINSTALLBUILDCHECKBUILD BIN
BindingSiteFinder 2.5.2  (landing page)
Mirko Brüggemann
git_last_commit: d7f7545
git_last_commit_date: 2024-11-20 15:23:27 -0500
nebbiolo1Linux (Ubuntu 24.04.1 LTS) / x86_64  OK    OK    OK  UNNEEDED, same version is already published
palomino7Windows Server 2022 Datacenter / x64  OK    OK    OK    OK  UNNEEDED, same version is already published
lconwaymacOS 12.7.1 Monterey / x86_64  OK    OK    OK    OK  YES
kjohnson3macOS 13.7.1 Ventura / arm64  OK    OK    OK    OK  YES
Package 11/140HostnameOS / ArchINSTALLBUILDCHECKBUILD BIN
biovizBase 1.55.0  (landing page)
Michael Lawrence
git_last_commit: 85d7c94
git_last_commit_date: 2024-10-29 09:38:40 -0500
nebbiolo1Linux (Ubuntu 24.04.1 LTS) / x86_64  OK    OK    WARNINGS  UNNEEDED, same version is already published
palomino7Windows Server 2022 Datacenter / x64  OK    OK    WARNINGS    OK  UNNEEDED, same version is already published
lconwaymacOS 12.7.1 Monterey / x86_64  OK    OK    WARNINGS    OK  YES
kjohnson3macOS 13.7.1 Ventura / arm64  OK    OK    WARNINGS    OK  YES
Package 12/140HostnameOS / ArchINSTALLBUILDCHECKBUILD BIN
bumphunter 1.49.0  (landing page)
Tamilselvi Guharaj
git_last_commit: 28669ca
git_last_commit_date: 2024-10-29 09:43:44 -0500
nebbiolo1Linux (Ubuntu 24.04.1 LTS) / x86_64  OK    OK    OK  UNNEEDED, same version is already published
palomino7Windows Server 2022 Datacenter / x64  OK    OK    OK    OK  UNNEEDED, same version is already published
lconwaymacOS 12.7.1 Monterey / x86_64  OK    OK    OK    OK  UNNEEDED, same version is already published
kjohnson3macOS 13.7.1 Ventura / arm64  OK    OK    OK    OK  UNNEEDED, same version is already published
Package 13/140HostnameOS / ArchINSTALLBUILDCHECKBUILD BIN
BUSpaRse 1.21.0  (landing page)
Lambda Moses
git_last_commit: 0e32057
git_last_commit_date: 2024-10-29 19:12:35 -0500
nebbiolo1Linux (Ubuntu 24.04.1 LTS) / x86_64  OK    OK    OK  UNNEEDED, same version is already published
palomino7Windows Server 2022 Datacenter / x64  OK    OK    OK    OK  UNNEEDED, same version is already published
lconwaymacOS 12.7.1 Monterey / x86_64  OK    OK    OK    OK  UNNEEDED, same version is already published
kjohnson3macOS 13.7.1 Ventura / arm64  OK    OK    OK    OK  UNNEEDED, same version is already published
Package 14/140HostnameOS / ArchINSTALLBUILDCHECKBUILD BIN
CAGEfightR 1.27.0  (landing page)
Malte Thodberg
git_last_commit: 5e8f35b
git_last_commit_date: 2024-10-29 10:28:27 -0500
nebbiolo1Linux (Ubuntu 24.04.1 LTS) / x86_64  OK    OK    OK  UNNEEDED, same version is already published
palomino7Windows Server 2022 Datacenter / x64  OK    OK    OK    OK  UNNEEDED, same version is already published
lconwaymacOS 12.7.1 Monterey / x86_64  OK    OK    OK    OK  YES
kjohnson3macOS 13.7.1 Ventura / arm64  OK    OK    OK    OK  YES
Package 15/140HostnameOS / ArchINSTALLBUILDCHECKBUILD BIN
CAGEr 2.13.0  (landing page)
Charles Plessy
git_last_commit: cdfe2b1
git_last_commit_date: 2024-10-29 09:44:43 -0500
nebbiolo1Linux (Ubuntu 24.04.1 LTS) / x86_64  OK    OK    OK  UNNEEDED, same version is already published
palomino7Windows Server 2022 Datacenter / x64  OK    OK    OK    OK  UNNEEDED, same version is already published
lconwaymacOS 12.7.1 Monterey / x86_64  OK    OK    OK    OK  YES
kjohnson3macOS 13.7.1 Ventura / arm64  OK    OK    OK    OK  YES
Package 16/140HostnameOS / ArchINSTALLBUILDCHECKBUILD BIN
casper 2.41.0  (landing page)
David Rossell
git_last_commit: fea4d0f
git_last_commit_date: 2024-11-21 05:30:29 -0500
nebbiolo1Linux (Ubuntu 24.04.1 LTS) / x86_64  OK    OK    OK  UNNEEDED, same version is already published
palomino7Windows Server 2022 Datacenter / x64  OK    OK    WARNINGS    OK  UNNEEDED, same version is already published
lconwaymacOS 12.7.1 Monterey / x86_64  OK    ERROR  skippedskipped
kjohnson3macOS 13.7.1 Ventura / arm64  OK    ERROR  skippedskipped
Package 17/140HostnameOS / ArchINSTALLBUILDCHECKBUILD BIN
chevreulProcess 0.99.25  (landing page)
Kevin Stachelek
git_last_commit: 662b5ab
git_last_commit_date: 2025-01-27 14:31:33 -0500
nebbiolo1Linux (Ubuntu 24.04.1 LTS) / x86_64  OK    ERROR  skipped
palomino7Windows Server 2022 Datacenter / x64  OK    ERROR  skippedskipped
lconwaymacOS 12.7.1 Monterey / x86_64  OK    ERROR  skippedskipped
kjohnson3macOS 13.7.1 Ventura / arm64  OK    ERROR  skippedskipped
Package 18/140HostnameOS / ArchINSTALLBUILDCHECKBUILD BIN
ChIPpeakAnno 3.41.1  (landing page)
Jianhong Ou
git_last_commit: cfbf335
git_last_commit_date: 2025-01-03 09:42:19 -0500
nebbiolo1Linux (Ubuntu 24.04.1 LTS) / x86_64  OK    OK    OK  UNNEEDED, same version is already published
palomino7Windows Server 2022 Datacenter / x64  OK    OK    OK    OK  UNNEEDED, same version is already published
lconwaymacOS 12.7.1 Monterey / x86_64  OK    OK    OK    OK  YES
kjohnson3macOS 13.7.1 Ventura / arm64  OK    OK    OK    OK  YES
Package 19/140HostnameOS / ArchINSTALLBUILDCHECKBUILD BIN
ChIPQC 1.43.0  (landing page)
Tom Carroll , Rory Stark
git_last_commit: a673e8a
git_last_commit_date: 2024-10-29 09:51:17 -0500
nebbiolo1Linux (Ubuntu 24.04.1 LTS) / x86_64  OK    OK    OK  UNNEEDED, same version is already published
palomino7Windows Server 2022 Datacenter / x64  OK    OK    OK    OK  NO, package depends on 'DiffBind' which is only available as a source package that needs compilation
lconwaymacOS 12.7.1 Monterey / x86_64  OK    OK    OK    OK  NO, package depends on 'DiffBind' which is only available as a source package that needs compilation
kjohnson3macOS 13.7.1 Ventura / arm64  OK    OK    OK    OK  NO, package depends on 'DiffBind' which is only available as a source package that needs compilation
Package 20/140HostnameOS / ArchINSTALLBUILDCHECKBUILD BIN
ChIPseeker 1.43.0  (landing page)
Guangchuang Yu
git_last_commit: 9e54d40
git_last_commit_date: 2024-10-29 09:52:02 -0500
nebbiolo1Linux (Ubuntu 24.04.1 LTS) / x86_64  OK    OK    OK  UNNEEDED, same version is already published
palomino7Windows Server 2022 Datacenter / x64  OK    OK    OK    OK  UNNEEDED, same version is already published
lconwaymacOS 12.7.1 Monterey / x86_64  OK    OK    OK    OK  YES
kjohnson3macOS 13.7.1 Ventura / arm64  OK    OK    OK    OK  YES
Package 21/140HostnameOS / ArchINSTALLBUILDCHECKBUILD BIN
Cogito 1.13.0  (landing page)
Annika Bürger
git_last_commit: 55b1c5a
git_last_commit_date: 2024-10-29 11:05:30 -0500
nebbiolo1Linux (Ubuntu 24.04.1 LTS) / x86_64  OK    OK    OK  UNNEEDED, same version is already published
palomino7Windows Server 2022 Datacenter / x64  OK    OK    OK    OK  UNNEEDED, same version is already published
lconwaymacOS 12.7.1 Monterey / x86_64  OK    OK    OK    OK  UNNEEDED, same version is already published
kjohnson3macOS 13.7.1 Ventura / arm64  OK    OK    OK    OK  UNNEEDED, same version is already published
Package 22/140HostnameOS / ArchINSTALLBUILDCHECKBUILD BIN
compEpiTools 1.41.0  (landing page)
Mattia Furlan
git_last_commit: 87788a3
git_last_commit_date: 2024-10-29 09:54:03 -0500
nebbiolo1Linux (Ubuntu 24.04.1 LTS) / x86_64  OK    OK    OK  UNNEEDED, same version is already published
palomino7Windows Server 2022 Datacenter / x64  OK    OK    OK    OK  UNNEEDED, same version is already published
lconwaymacOS 12.7.1 Monterey / x86_64  OK    OK    OK    OK  UNNEEDED, same version is already published
kjohnson3macOS 13.7.1 Ventura / arm64  OK    OK    OK    OK  UNNEEDED, same version is already published
Package 23/140HostnameOS / ArchINSTALLBUILDCHECKBUILD BIN
consensusDE 1.25.0  (landing page)
Ashley J. Waardenberg
git_last_commit: 44f18e0
git_last_commit_date: 2024-10-29 10:32:47 -0500
nebbiolo1Linux (Ubuntu 24.04.1 LTS) / x86_64  OK    OK    OK  UNNEEDED, same version is already published
palomino7Windows Server 2022 Datacenter / x64  OK    OK    OK    OK  NO, package depends on 'DESeq2' which is only available as a source package that needs compilation
lconwaymacOS 12.7.1 Monterey / x86_64  OK    OK    OK    OK  NO, package depends on 'DESeq2' which is only available as a source package that needs compilation
kjohnson3macOS 13.7.1 Ventura / arm64  OK    OK    OK    OK  NO, package depends on 'DESeq2' which is only available as a source package that needs compilation
Package 24/140HostnameOS / ArchINSTALLBUILDCHECKBUILD BIN
cpvSNP 1.39.0  (landing page)
Caitlin McHugh
git_last_commit: 644afbb
git_last_commit_date: 2024-10-29 09:57:12 -0500
nebbiolo1Linux (Ubuntu 24.04.1 LTS) / x86_64  OK    OK    OK  UNNEEDED, same version is already published
palomino7Windows Server 2022 Datacenter / x64  OK    OK    OK    OK  UNNEEDED, same version is already published
lconwaymacOS 12.7.1 Monterey / x86_64  OK    OK    OK    OK  UNNEEDED, same version is already published
kjohnson3macOS 13.7.1 Ventura / arm64  OK    OK    OK    OK  UNNEEDED, same version is already published
Package 25/140HostnameOS / ArchINSTALLBUILDCHECKBUILD BIN
crisprDesign 1.9.0  (landing page)
Jean-Philippe Fortin
git_last_commit: 61a8bea
git_last_commit_date: 2024-10-29 11:13:09 -0500
nebbiolo1Linux (Ubuntu 24.04.1 LTS) / x86_64  OK    OK    OK  UNNEEDED, same version is already published
palomino7Windows Server 2022 Datacenter / x64  OK    OK    OK    OK  UNNEEDED, same version is already published
lconwaymacOS 12.7.1 Monterey / x86_64  OK    OK    OK    OK  YES
kjohnson3macOS 13.7.1 Ventura / arm64  OK    OK    OK    OK  YES
Package 26/140HostnameOS / ArchINSTALLBUILDCHECKBUILD BIN
CRISPRseek 1.47.1  (landing page)
Lihua Julie Zhu
git_last_commit: 355addb
git_last_commit_date: 2025-02-04 13:58:25 -0500
nebbiolo1Linux (Ubuntu 24.04.1 LTS) / x86_64  OK    OK    ERROR  
palomino7Windows Server 2022 Datacenter / x64  OK    OK    TIMEOUT    OK  
lconwaymacOS 12.7.1 Monterey / x86_64  OK    OK    ERROR    OK  
kjohnson3macOS 13.7.1 Ventura / arm64  OK    OK    ERROR    OK  
Package 27/140HostnameOS / ArchINSTALLBUILDCHECKBUILD BIN
crisprViz 1.9.0  (landing page)
Jean-Philippe Fortin
git_last_commit: aa8d738
git_last_commit_date: 2024-10-29 11:14:24 -0500
nebbiolo1Linux (Ubuntu 24.04.1 LTS) / x86_64  OK    OK    OK  UNNEEDED, same version is already published
palomino7Windows Server 2022 Datacenter / x64  OK    OK    OK    OK  UNNEEDED, same version is already published
lconwaymacOS 12.7.1 Monterey / x86_64  OK    OK    OK    OK  UNNEEDED, same version is already published
kjohnson3macOS 13.7.1 Ventura / arm64  OK    OK    OK    OK  UNNEEDED, same version is already published
Package 28/140HostnameOS / ArchINSTALLBUILDCHECKBUILD BIN
CSSQ 1.19.0  (landing page)
Fan Lab at Georgia Institute of Technology
git_last_commit: 9eae002
git_last_commit_date: 2024-10-29 10:42:18 -0500
nebbiolo1Linux (Ubuntu 24.04.1 LTS) / x86_64  OK    OK    OK  UNNEEDED, same version is already published
palomino7Windows Server 2022 Datacenter / x64  OK    OK    OK    OK  UNNEEDED, same version is already published
lconwaymacOS 12.7.1 Monterey / x86_64  OK    OK    OK    OK  YES
kjohnson3macOS 13.7.1 Ventura / arm64  OK    OK    OK    OK  YES
Package 29/140HostnameOS / ArchINSTALLBUILDCHECKBUILD BIN
customProDB 1.47.0  (landing page)
Xiaojing Wang
git_last_commit: 695c102
git_last_commit_date: 2024-10-29 09:46:25 -0500
nebbiolo1Linux (Ubuntu 24.04.1 LTS) / x86_64  OK    OK    WARNINGS  UNNEEDED, same version is already published
palomino7Windows Server 2022 Datacenter / x64  OK    OK    WARNINGS    OK  UNNEEDED, same version is already published
lconwaymacOS 12.7.1 Monterey / x86_64  OK    OK    WARNINGS    OK  YES
kjohnson3macOS 13.7.1 Ventura / arm64  OK    OK    WARNINGS    OK  YES
Package 30/140HostnameOS / ArchINSTALLBUILDCHECKBUILD BIN
Damsel 1.3.0  (landing page)
Caitlin Page
git_last_commit: 7bdd2de
git_last_commit_date: 2024-10-29 11:30:17 -0500
nebbiolo1Linux (Ubuntu 24.04.1 LTS) / x86_64  OK    OK    OK  UNNEEDED, same version is already published
palomino7Windows Server 2022 Datacenter / x64  OK    OK    OK    OK  UNNEEDED, same version is already published
lconwaymacOS 12.7.1 Monterey / x86_64  OK    OK    OK    OK  UNNEEDED, same version is already published
kjohnson3macOS 13.7.1 Ventura / arm64  OK    OK    OK    OK  UNNEEDED, same version is already published
Package 31/140HostnameOS / ArchINSTALLBUILDCHECKBUILD BIN
decompTumor2Sig 2.23.0  (landing page)
Rosario M. Piro
git_last_commit: 7907da8
git_last_commit_date: 2024-10-29 10:33:29 -0500
nebbiolo1Linux (Ubuntu 24.04.1 LTS) / x86_64  OK    OK    OK  UNNEEDED, same version is already published
palomino7Windows Server 2022 Datacenter / x64  OK    OK    OK    OK  UNNEEDED, same version is already published
lconwaymacOS 12.7.1 Monterey / x86_64  OK    OK    OK    OK  YES
kjohnson3macOS 13.7.1 Ventura / arm64  OK    TIMEOUT  skippedskipped
Package 32/140HostnameOS / ArchINSTALLBUILDCHECKBUILD BIN
DegNorm 1.17.0  (landing page)
Ji-Ping Wang
git_last_commit: 3be95e6
git_last_commit_date: 2024-10-29 10:47:31 -0500
nebbiolo1Linux (Ubuntu 24.04.1 LTS) / x86_64  OK    OK    OK  UNNEEDED, same version is already published
palomino7Windows Server 2022 Datacenter / x64  OK    OK    OK    OK  UNNEEDED, same version is already published
lconwaymacOS 12.7.1 Monterey / x86_64  OK    OK    OK    OK  UNNEEDED, same version is already published
kjohnson3macOS 13.7.1 Ventura / arm64  OK    OK    OK    OK  UNNEEDED, same version is already published
Package 33/140HostnameOS / ArchINSTALLBUILDCHECKBUILD BIN
derfinder 1.41.0  (landing page)
Leonardo Collado-Torres
git_last_commit: 5234647
git_last_commit_date: 2024-12-13 09:37:51 -0500
nebbiolo1Linux (Ubuntu 24.04.1 LTS) / x86_64  OK    OK    OK  UNNEEDED, same version is already published
palomino7Windows Server 2022 Datacenter / x64  OK    OK    OK    OK  UNNEEDED, same version is already published
lconwaymacOS 12.7.1 Monterey / x86_64  OK    OK    OK    OK  YES
kjohnson3macOS 13.7.1 Ventura / arm64  OK    OK    OK    OK  YES
Package 34/140HostnameOS / ArchINSTALLBUILDCHECKBUILD BIN
derfinderPlot 1.41.0  (landing page)
Leonardo Collado-Torres
git_last_commit: b8a1580
git_last_commit_date: 2024-12-12 16:44:18 -0500
nebbiolo1Linux (Ubuntu 24.04.1 LTS) / x86_64  OK    OK    OK  UNNEEDED, same version is already published
palomino7Windows Server 2022 Datacenter / x64  OK    OK    OK    OK  UNNEEDED, same version is already published
lconwaymacOS 12.7.1 Monterey / x86_64  OK    OK    OK    OK  UNNEEDED, same version is already published
kjohnson3macOS 13.7.1 Ventura / arm64  OK    OK    OK    OK  UNNEEDED, same version is already published
Package 35/140HostnameOS / ArchINSTALLBUILDCHECKBUILD BIN
DNAfusion 1.9.0  (landing page)
Christoffer Trier Maansson
git_last_commit: b215285
git_last_commit_date: 2024-10-29 11:15:54 -0500
nebbiolo1Linux (Ubuntu 24.04.1 LTS) / x86_64  OK    OK    OK  UNNEEDED, same version is already published
palomino7Windows Server 2022 Datacenter / x64  OK    OK    OK    OK  UNNEEDED, same version is already published
lconwaymacOS 12.7.1 Monterey / x86_64  OK    OK    OK    OK  UNNEEDED, same version is already published
kjohnson3macOS 13.7.1 Ventura / arm64  OK    OK    OK    OK  UNNEEDED, same version is already published
Package 36/140HostnameOS / ArchINSTALLBUILDCHECKBUILD BIN
doubletrouble 1.7.0  (landing page)
Fabrício Almeida-Silva
git_last_commit: 4db21ce
git_last_commit_date: 2024-10-29 11:16:27 -0500
nebbiolo1Linux (Ubuntu 24.04.1 LTS) / x86_64  OK    OK    OK  UNNEEDED, same version is already published
palomino7Windows Server 2022 Datacenter / x64  OK    OK    OK    OK  UNNEEDED, same version is already published
lconwaymacOS 12.7.1 Monterey / x86_64  OK    OK    OK    OK  YES
kjohnson3macOS 13.7.1 Ventura / arm64  OK    OK    OK    OK  YES
Package 37/140HostnameOS / ArchINSTALLBUILDCHECKBUILD BIN
EDASeq 2.41.0  (landing page)
Davide Risso
git_last_commit: 68d2eba
git_last_commit_date: 2024-10-29 09:38:27 -0500
nebbiolo1Linux (Ubuntu 24.04.1 LTS) / x86_64  OK    OK    OK  UNNEEDED, same version is already published
palomino7Windows Server 2022 Datacenter / x64  OK    OK    OK    OK  UNNEEDED, same version is already published
lconwaymacOS 12.7.1 Monterey / x86_64  OK    OK    OK    OK  UNNEEDED, same version is already published
kjohnson3macOS 13.7.1 Ventura / arm64  OK    OK    OK    OK  UNNEEDED, same version is already published
Package 38/140HostnameOS / ArchINSTALLBUILDCHECKBUILD BIN
ELMER 2.31.0  (landing page)
Tiago Chedraoui Silva
git_last_commit: 1f88893
git_last_commit_date: 2024-10-29 10:01:42 -0500
nebbiolo1Linux (Ubuntu 24.04.1 LTS) / x86_64  OK    OK    OK  UNNEEDED, same version is already published
palomino7Windows Server 2022 Datacenter / x64  OK    OK    OK    OK  UNNEEDED, same version is already published
lconwaymacOS 12.7.1 Monterey / x86_64  OK    OK    OK    OK  YES
kjohnson3macOS 13.7.1 Ventura / arm64  OK    OK    OK    OK  YES
Package 39/140HostnameOS / ArchINSTALLBUILDCHECKBUILD BIN
ensembldb 2.31.0  (landing page)
Johannes Rainer
git_last_commit: 9c06161
git_last_commit_date: 2024-10-29 09:59:38 -0500
nebbiolo1Linux (Ubuntu 24.04.1 LTS) / x86_64  OK    OK    OK  UNNEEDED, same version is already published
palomino7Windows Server 2022 Datacenter / x64  OK    OK    OK    OK  UNNEEDED, same version is already published
lconwaymacOS 12.7.1 Monterey / x86_64  OK    OK    OK    OK  YES
kjohnson3macOS 13.7.1 Ventura / arm64  OK    OK    OK    OK  YES
Package 40/140HostnameOS / ArchINSTALLBUILDCHECKBUILD BIN
EpiMix 1.9.0  (landing page)
Yuanning Zheng
git_last_commit: 0b423e1
git_last_commit_date: 2024-10-29 11:12:55 -0500
nebbiolo1Linux (Ubuntu 24.04.1 LTS) / x86_64  OK    OK    OK  UNNEEDED, same version is already published
palomino7Windows Server 2022 Datacenter / x64  OK    OK    OK    OK  UNNEEDED, same version is already published
lconwaymacOS 12.7.1 Monterey / x86_64  OK    OK    OK    OK  UNNEEDED, same version is already published
kjohnson3macOS 13.7.1 Ventura / arm64  OK    OK    OK    OK  UNNEEDED, same version is already published
Package 41/140HostnameOS / ArchINSTALLBUILDCHECKBUILD BIN
epimutacions 1.11.0  (landing page)
Dolors Pelegri-Siso
git_last_commit: 8a6e409
git_last_commit_date: 2024-10-29 11:10:41 -0500
nebbiolo1Linux (Ubuntu 24.04.1 LTS) / x86_64  OK    OK    OK  UNNEEDED, same version is already published
palomino7Windows Server 2022 Datacenter / x64  OK    OK    OK    OK  UNNEEDED, same version is already published
lconwaymacOS 12.7.1 Monterey / x86_64  OK    OK    OK    OK  YES
kjohnson3macOS 13.7.1 Ventura / arm64  OK    OK    OK    OK  YES
Package 42/140HostnameOS / ArchINSTALLBUILDCHECKBUILD BIN
EpiTxDb 1.19.0  (landing page)
Felix G.M. Ernst
git_last_commit: 49a7f33
git_last_commit_date: 2024-10-29 10:44:25 -0500
nebbiolo1Linux (Ubuntu 24.04.1 LTS) / x86_64  OK    OK    WARNINGS  UNNEEDED, same version is already published
palomino7Windows Server 2022 Datacenter / x64  OK    OK    WARNINGS    OK  UNNEEDED, same version is already published
lconwaymacOS 12.7.1 Monterey / x86_64  OK    OK    WARNINGS    OK  UNNEEDED, same version is already published
kjohnson3macOS 13.7.1 Ventura / arm64  OK    OK    WARNINGS    OK  UNNEEDED, same version is already published
Package 43/140HostnameOS / ArchINSTALLBUILDCHECKBUILD BIN
epivizrData 1.35.0  (landing page)
Hector Corrada Bravo
git_last_commit: 0d48393
git_last_commit_date: 2024-10-29 10:10:40 -0500
nebbiolo1Linux (Ubuntu 24.04.1 LTS) / x86_64  OK    OK    OK  UNNEEDED, same version is already published
palomino7Windows Server 2022 Datacenter / x64  OK    OK    OK    OK  UNNEEDED, same version is already published
lconwaymacOS 12.7.1 Monterey / x86_64  OK    OK    OK    OK  UNNEEDED, same version is already published
kjohnson3macOS 13.7.1 Ventura / arm64  OK    OK    OK    OK  UNNEEDED, same version is already published
Package 44/140HostnameOS / ArchINSTALLBUILDCHECKBUILD BIN
epivizrStandalone 1.35.0  (landing page)
Hector Corrada Bravo
git_last_commit: d990d4e
git_last_commit_date: 2024-10-29 10:10:58 -0500
nebbiolo1Linux (Ubuntu 24.04.1 LTS) / x86_64  OK    OK    WARNINGS  UNNEEDED, same version is already published
palomino7Windows Server 2022 Datacenter / x64  OK    OK    WARNINGS    OK  UNNEEDED, same version is already published
lconwaymacOS 12.7.1 Monterey / x86_64  OK    OK    WARNINGS    OK  UNNEEDED, same version is already published
kjohnson3macOS 13.7.1 Ventura / arm64  OK    OK    WARNINGS    OK  UNNEEDED, same version is already published
Package 45/140HostnameOS / ArchINSTALLBUILDCHECKBUILD BIN
esATAC 1.29.0  (landing page)
Zheng Wei
git_last_commit: 508f345
git_last_commit_date: 2024-10-29 10:24:06 -0500
nebbiolo1Linux (Ubuntu 24.04.1 LTS) / x86_64  OK    OK    OK  UNNEEDED, same version is already published
palomino7Windows Server 2022 Datacenter / x64  OK    OK    OK    OK  UNNEEDED, same version is already published
lconwaymacOS 12.7.1 Monterey / x86_64  OK    OK    OK    OK  YES
kjohnson3macOS 13.7.1 Ventura / arm64  OK    OK    OK    OK  NO, package depends on 'TFBSTools' which is only available as a source package that needs compilation
Package 46/140HostnameOS / ArchINSTALLBUILDCHECKBUILD BIN
EventPointer 3.15.0  (landing page)
Juan A. Ferrer-Bonsoms
git_last_commit: 8a000b5
git_last_commit_date: 2024-10-29 10:17:38 -0500
nebbiolo1Linux (Ubuntu 24.04.1 LTS) / x86_64  OK    OK    OK  UNNEEDED, same version is already published
palomino7Windows Server 2022 Datacenter / x64  OK    OK    OK    OK  UNNEEDED, same version is already published
lconwaymacOS 12.7.1 Monterey / x86_64  OK    OK    OK    OK  UNNEEDED, same version is already published
kjohnson3macOS 13.7.1 Ventura / arm64  OK    OK    OK    OK  UNNEEDED, same version is already published
Package 47/140HostnameOS / ArchINSTALLBUILDCHECKBUILD BIN
factR 1.9.0  (landing page)
Fursham Hamid
git_last_commit: c6ff9f0
git_last_commit_date: 2024-10-29 11:12:37 -0500
nebbiolo1Linux (Ubuntu 24.04.1 LTS) / x86_64  OK    OK    OK  UNNEEDED, same version is already published
palomino7Windows Server 2022 Datacenter / x64  OK    OK    OK    OK  UNNEEDED, same version is already published
lconwaymacOS 12.7.1 Monterey / x86_64  OK    OK    OK    OK  YES
kjohnson3macOS 13.7.1 Ventura / arm64  OK    OK    OK    OK  YES
Package 48/140HostnameOS / ArchINSTALLBUILDCHECKBUILD BIN
FindIT2 1.13.0  (landing page)
Guandong Shang
git_last_commit: 30235ec
git_last_commit_date: 2024-10-29 11:01:40 -0500
nebbiolo1Linux (Ubuntu 24.04.1 LTS) / x86_64  OK    OK    OK  UNNEEDED, same version is already published
palomino7Windows Server 2022 Datacenter / x64  OK    OK    OK    OK  UNNEEDED, same version is already published
lconwaymacOS 12.7.1 Monterey / x86_64  OK    OK    OK    OK  YES
kjohnson3macOS 13.7.1 Ventura / arm64  OK    OK    OK    OK  YES
Package 49/140HostnameOS / ArchINSTALLBUILDCHECKBUILD BIN
FLAMES 2.1.5  (landing page)
Changqing Wang
git_last_commit: c84efd0
git_last_commit_date: 2025-02-04 19:55:29 -0500
nebbiolo1Linux (Ubuntu 24.04.1 LTS) / x86_64  OK    OK    OK  YES
palomino7Windows Server 2022 Datacenter / x64... NOT SUPPORTED ...
lconwaymacOS 12.7.1 Monterey / x86_64  OK    OK    OK    OK  YES
kjohnson3macOS 13.7.1 Ventura / arm64  OK    OK    OK    OK  YES
Package 50/140HostnameOS / ArchINSTALLBUILDCHECKBUILD BIN
FRASER 2.3.0  (landing page)
Christian Mertes
git_last_commit: 1b4ac46
git_last_commit_date: 2024-10-29 10:46:16 -0500
nebbiolo1Linux (Ubuntu 24.04.1 LTS) / x86_64  OK    ERROR  skipped
palomino7Windows Server 2022 Datacenter / x64  OK    ERROR  skippedskipped
lconwaymacOS 12.7.1 Monterey / x86_64  OK    OK    OK    OK  NO, package depends on 'OUTRIDER' which is only available as a source package that needs compilation
kjohnson3macOS 13.7.1 Ventura / arm64  OK    OK    OK    OK  NO, package depends on 'OUTRIDER' which is only available as a source package that needs compilation
Package 51/140HostnameOS / ArchINSTALLBUILDCHECKBUILD BIN
GA4GHshiny 1.29.0  (landing page)
Welliton Souza
git_last_commit: 145a45d
git_last_commit_date: 2024-10-29 10:19:38 -0500
nebbiolo1Linux (Ubuntu 24.04.1 LTS) / x86_64  OK    OK    OK  UNNEEDED, same version is already published
palomino7Windows Server 2022 Datacenter / x64  OK    OK    OK    OK  UNNEEDED, same version is already published
lconwaymacOS 12.7.1 Monterey / x86_64  OK    OK    OK    OK  UNNEEDED, same version is already published
kjohnson3macOS 13.7.1 Ventura / arm64  OK    OK    OK    OK  UNNEEDED, same version is already published
Package 52/140HostnameOS / ArchINSTALLBUILDCHECKBUILD BIN
gDNAx 1.5.1  (landing page)
Robert Castelo
git_last_commit: b30947b
git_last_commit_date: 2025-01-31 17:01:42 -0500
nebbiolo1Linux (Ubuntu 24.04.1 LTS) / x86_64  OK    OK    OK  UNNEEDED, same version is already published
palomino7Windows Server 2022 Datacenter / x64  OK    OK    OK    OK  UNNEEDED, same version is already published
lconwaymacOS 12.7.1 Monterey / x86_64  OK    OK    OK    OK  UNNEEDED, same version is already published
kjohnson3macOS 13.7.1 Ventura / arm64  OK    OK    OK    OK  UNNEEDED, same version is already published
Package 53/140HostnameOS / ArchINSTALLBUILDCHECKBUILD BIN
geneAttribution 1.33.0  (landing page)
Arthur Wuster
git_last_commit: feca5bb
git_last_commit_date: 2024-10-29 10:13:34 -0500
nebbiolo1Linux (Ubuntu 24.04.1 LTS) / x86_64  OK    OK    OK  UNNEEDED, same version is already published
palomino7Windows Server 2022 Datacenter / x64  OK    OK    OK    OK  UNNEEDED, same version is already published
lconwaymacOS 12.7.1 Monterey / x86_64  OK    OK    OK    OK  YES
kjohnson3macOS 13.7.1 Ventura / arm64  OK    OK    OK    OK  YES
Package 54/140HostnameOS / ArchINSTALLBUILDCHECKBUILD BIN
GenomicInteractionNodes 1.11.1  (landing page)
Jianhong Ou
git_last_commit: 502619b
git_last_commit_date: 2025-01-03 10:12:05 -0500
nebbiolo1Linux (Ubuntu 24.04.1 LTS) / x86_64  OK    ERROR  skipped
palomino7Windows Server 2022 Datacenter / x64  OK    ERROR  skippedskipped
lconwaymacOS 12.7.1 Monterey / x86_64  OK    ERROR  skippedskipped
kjohnson3macOS 13.7.1 Ventura / arm64  OK    ERROR  skippedskipped
Package 55/140HostnameOS / ArchINSTALLBUILDCHECKBUILD BIN
GenomicPlot 1.5.3  (landing page)
Shuye Pu
git_last_commit: efbf81a
git_last_commit_date: 2025-01-30 16:52:25 -0500
nebbiolo1Linux (Ubuntu 24.04.1 LTS) / x86_64  OK    OK    OK  UNNEEDED, same version is already published
palomino7Windows Server 2022 Datacenter / x64  OK    OK    OK    OK  UNNEEDED, same version is already published
lconwaymacOS 12.7.1 Monterey / x86_64  OK    OK    OK    OK  YES
kjohnson3macOS 13.7.1 Ventura / arm64  OK    OK    OK    OK  YES
Package 56/140HostnameOS / ArchINSTALLBUILDCHECKBUILD BIN
GenVisR 1.39.0  (landing page)
Zachary Skidmore
git_last_commit: cf208dc
git_last_commit_date: 2024-10-29 10:06:37 -0500
nebbiolo1Linux (Ubuntu 24.04.1 LTS) / x86_64  OK    OK    OK  UNNEEDED, same version is already published
palomino7Windows Server 2022 Datacenter / x64  OK    OK    OK    OK  UNNEEDED, same version is already published
lconwaymacOS 12.7.1 Monterey / x86_64  OK    OK    OK    OK  YES
kjohnson3macOS 13.7.1 Ventura / arm64  OK    OK    OK    OK  YES
Package 57/140HostnameOS / ArchINSTALLBUILDCHECKBUILD BIN
ggbio 1.55.0  (landing page)
Michael Lawrence
git_last_commit: 289a36c
git_last_commit_date: 2024-10-29 09:39:07 -0500
nebbiolo1Linux (Ubuntu 24.04.1 LTS) / x86_64  OK    OK    WARNINGS  UNNEEDED, same version is already published
palomino7Windows Server 2022 Datacenter / x64  OK    OK    WARNINGS    OK  UNNEEDED, same version is already published
lconwaymacOS 12.7.1 Monterey / x86_64  OK    OK    WARNINGS    OK  YES
kjohnson3macOS 13.7.1 Ventura / arm64  OK    OK    WARNINGS    OK  YES
Package 58/140HostnameOS / ArchINSTALLBUILDCHECKBUILD BIN
gINTomics 1.3.0  (landing page)
Angelo Velle
git_last_commit: 3ba788e
git_last_commit_date: 2024-10-29 11:30:48 -0500
nebbiolo1Linux (Ubuntu 24.04.1 LTS) / x86_64  OK    OK    OK  UNNEEDED, same version is already published
palomino7Windows Server 2022 Datacenter / x64  OK    OK    OK    OK  UNNEEDED, same version is already published
lconwaymacOS 12.7.1 Monterey / x86_64  OK    OK    OK    OK  UNNEEDED, same version is already published
kjohnson3macOS 13.7.1 Ventura / arm64  OK    OK    OK    OK  UNNEEDED, same version is already published
Package 59/140HostnameOS / ArchINSTALLBUILDCHECKBUILD BIN
gmapR 1.49.0  (landing page)
Michael Lawrence
git_last_commit: fbb42ae
git_last_commit_date: 2024-10-29 09:41:57 -0500
nebbiolo1Linux (Ubuntu 24.04.1 LTS) / x86_64  OK    OK    WARNINGS  UNNEEDED, same version is already published
palomino7Windows Server 2022 Datacenter / x64... NOT SUPPORTED ...
lconwaymacOS 12.7.1 Monterey / x86_64  OK    OK    WARNINGS    OK  YES
kjohnson3macOS 13.7.1 Ventura / arm64  OK    OK    WARNINGS    OK  YES
Package 60/140HostnameOS / ArchINSTALLBUILDCHECKBUILD BIN
gmoviz 1.19.0  (landing page)
Kathleen Zeglinski
git_last_commit: f73a067
git_last_commit_date: 2024-10-29 10:44:42 -0500
nebbiolo1Linux (Ubuntu 24.04.1 LTS) / x86_64  OK    OK    OK  UNNEEDED, same version is already published
palomino7Windows Server 2022 Datacenter / x64  OK    OK    OK    OK  UNNEEDED, same version is already published
lconwaymacOS 12.7.1 Monterey / x86_64  OK    OK    OK    OK  YES
kjohnson3macOS 13.7.1 Ventura / arm64  OK    OK    OK    OK  YES
Package 61/140HostnameOS / ArchINSTALLBUILDCHECKBUILD BIN
goseq 1.59.0  (landing page)
Federico Marini
git_last_commit: 87e9f39
git_last_commit_date: 2024-10-29 09:33:45 -0500
nebbiolo1Linux (Ubuntu 24.04.1 LTS) / x86_64  OK    OK    OK  UNNEEDED, same version is already published
palomino7Windows Server 2022 Datacenter / x64  OK    OK    OK    OK  UNNEEDED, same version is already published
lconwaymacOS 12.7.1 Monterey / x86_64  OK    OK    OK    OK  YES
kjohnson3macOS 13.7.1 Ventura / arm64  OK    OK    OK    OK  YES
Package 62/140HostnameOS / ArchINSTALLBUILDCHECKBUILD BIN
GSReg 1.41.0  (landing page)
Bahman Afsari , Elana J. Fertig
git_last_commit: 2723c81
git_last_commit_date: 2024-10-29 09:53:18 -0500
nebbiolo1Linux (Ubuntu 24.04.1 LTS) / x86_64  OK    OK    WARNINGS  UNNEEDED, same version is already published
palomino7Windows Server 2022 Datacenter / x64  OK    OK    WARNINGS    OK  UNNEEDED, same version is already published
lconwaymacOS 12.7.1 Monterey / x86_64  OK    OK    WARNINGS    OK  UNNEEDED, same version is already published
kjohnson3macOS 13.7.1 Ventura / arm64  OK    OK    WARNINGS    OK  UNNEEDED, same version is already published
Package 63/140HostnameOS / ArchINSTALLBUILDCHECKBUILD BIN
GUIDEseq 1.37.0  (landing page)
Lihua Julie Zhu
git_last_commit: f947d90
git_last_commit_date: 2024-10-29 10:04:30 -0500
nebbiolo1Linux (Ubuntu 24.04.1 LTS) / x86_64  OK    OK    OK  UNNEEDED, same version is already published
palomino7Windows Server 2022 Datacenter / x64  OK    OK    OK    OK  UNNEEDED, same version is already published
lconwaymacOS 12.7.1 Monterey / x86_64  OK    OK    OK    OK  UNNEEDED, same version is already published
kjohnson3macOS 13.7.1 Ventura / arm64  OK    OK    OK    OK  UNNEEDED, same version is already published
Package 64/140HostnameOS / ArchINSTALLBUILDCHECKBUILD BIN
Guitar 2.23.0  (landing page)
Jia Meng
git_last_commit: 4f9853b
git_last_commit_date: 2024-10-29 10:04:05 -0500
nebbiolo1Linux (Ubuntu 24.04.1 LTS) / x86_64  OK    OK    OK  UNNEEDED, same version is already published
palomino7Windows Server 2022 Datacenter / x64  OK    OK    OK    OK  UNNEEDED, same version is already published
lconwaymacOS 12.7.1 Monterey / x86_64  OK    OK    OK    OK  YES
kjohnson3macOS 13.7.1 Ventura / arm64  OK    OK    OK    OK  YES
Package 65/140HostnameOS / ArchINSTALLBUILDCHECKBUILD BIN
Gviz 1.51.0  (landing page)
Robert Ivanek
git_last_commit: 60a0f4a
git_last_commit_date: 2024-10-29 09:40:11 -0500
nebbiolo1Linux (Ubuntu 24.04.1 LTS) / x86_64  OK    OK    OK  UNNEEDED, same version is already published
palomino7Windows Server 2022 Datacenter / x64  OK    OK    OK    OK  UNNEEDED, same version is already published
lconwaymacOS 12.7.1 Monterey / x86_64  OK    OK    OK    OK  YES
kjohnson3macOS 13.7.1 Ventura / arm64  OK    OK    OK    OK  YES
Package 66/140HostnameOS / ArchINSTALLBUILDCHECKBUILD BIN
gwascat 2.39.0  (landing page)
VJ Carey
git_last_commit: a659d47
git_last_commit_date: 2024-10-29 09:40:18 -0500
nebbiolo1Linux (Ubuntu 24.04.1 LTS) / x86_64  OK    OK    ERROR  
palomino7Windows Server 2022 Datacenter / x64  OK    OK    ERROR    OK  
lconwaymacOS 12.7.1 Monterey / x86_64  OK    OK    ERROR    OK  
kjohnson3macOS 13.7.1 Ventura / arm64  OK    OK    ERROR    OK  
Package 67/140HostnameOS / ArchINSTALLBUILDCHECKBUILD BIN
HelloRanges 1.33.0  (landing page)
Michael Lawrence
git_last_commit: ee9547e
git_last_commit_date: 2024-10-29 10:15:09 -0500
nebbiolo1Linux (Ubuntu 24.04.1 LTS) / x86_64  OK    OK    OK  UNNEEDED, same version is already published
palomino7Windows Server 2022 Datacenter / x64  OK    OK    OK    OK  UNNEEDED, same version is already published
lconwaymacOS 12.7.1 Monterey / x86_64  OK    OK    OK    OK  YES
kjohnson3macOS 13.7.1 Ventura / arm64  OK    OK    OK    OK  YES
Package 68/140HostnameOS / ArchINSTALLBUILDCHECKBUILD BIN
HiLDA 1.21.0  (landing page)
Zhi Yang
git_last_commit: 09c4796
git_last_commit_date: 2024-10-29 10:38:44 -0500
nebbiolo1Linux (Ubuntu 24.04.1 LTS) / x86_64  OK    OK    OK  UNNEEDED, same version is already published
palomino7Windows Server 2022 Datacenter / x64  OK    OK    OK    OK  UNNEEDED, same version is already published
lconwaymacOS 12.7.1 Monterey / x86_64  OK    OK    OK    OK  UNNEEDED, same version is already published
kjohnson3macOS 13.7.1 Ventura / arm64  OK    OK    OK    OK  UNNEEDED, same version is already published
Package 69/140HostnameOS / ArchINSTALLBUILDCHECKBUILD BIN
HTSeqGenie 4.37.1  (landing page)
Jens Reeder
git_last_commit: 3775db8
git_last_commit_date: 2024-12-17 11:20:20 -0500
nebbiolo1Linux (Ubuntu 24.04.1 LTS) / x86_64  OK    OK    TIMEOUT  
palomino7Windows Server 2022 Datacenter / x64... NOT SUPPORTED ...
lconwaymacOS 12.7.1 Monterey / x86_64... NOT SUPPORTED ...
kjohnson3macOS 13.7.1 Ventura / arm64... NOT SUPPORTED ...
Package 70/140HostnameOS / ArchINSTALLBUILDCHECKBUILD BIN
icetea 1.25.0  (landing page)
Vivek Bhardwaj
git_last_commit: 795af55
git_last_commit_date: 2024-10-29 10:29:24 -0500
nebbiolo1Linux (Ubuntu 24.04.1 LTS) / x86_64  OK    OK    WARNINGS  UNNEEDED, same version is already published
palomino7Windows Server 2022 Datacenter / x64  OK    OK    WARNINGS    OK  NO, package depends on 'DESeq2' which is only available as a source package that needs compilation
lconwaymacOS 12.7.1 Monterey / x86_64  OK    OK    WARNINGS    OK  NO, package depends on 'DESeq2' which is only available as a source package that needs compilation
kjohnson3macOS 13.7.1 Ventura / arm64  OK    OK    WARNINGS    OK  NO, package depends on 'DESeq2' which is only available as a source package that needs compilation
Package 71/140HostnameOS / ArchINSTALLBUILDCHECKBUILD BIN
IMAS 1.31.0  (landing page)
Seonggyun Han
git_last_commit: 807fef2
git_last_commit_date: 2024-10-29 10:18:56 -0500
nebbiolo1Linux (Ubuntu 24.04.1 LTS) / x86_64  OK    OK    OK  UNNEEDED, same version is already published
palomino7Windows Server 2022 Datacenter / x64  OK    OK    OK    OK  UNNEEDED, same version is already published
lconwaymacOS 12.7.1 Monterey / x86_64  OK    OK    OK    OK  UNNEEDED, same version is already published
kjohnson3macOS 13.7.1 Ventura / arm64  OK    OK    OK    OK  UNNEEDED, same version is already published
Package 72/140HostnameOS / ArchINSTALLBUILDCHECKBUILD BIN
InPAS 2.15.2  (landing page)
Jianhong Ou
git_last_commit: deae9ac
git_last_commit_date: 2025-01-03 09:28:34 -0500
nebbiolo1Linux (Ubuntu 24.04.1 LTS) / x86_64  OK    OK    WARNINGS  UNNEEDED, same version is already published
palomino7Windows Server 2022 Datacenter / x64  OK    OK    WARNINGS    OK  UNNEEDED, same version is already published
lconwaymacOS 12.7.1 Monterey / x86_64  OK    OK    WARNINGS    OK  UNNEEDED, same version is already published
kjohnson3macOS 13.7.1 Ventura / arm64  OK    OK    WARNINGS    OK  UNNEEDED, same version is already published
Package 73/140HostnameOS / ArchINSTALLBUILDCHECKBUILD BIN
INSPEcT 1.37.0  (landing page)
Stefano de Pretis
git_last_commit: 7d70bac
git_last_commit_date: 2024-10-29 10:02:14 -0500
nebbiolo1Linux (Ubuntu 24.04.1 LTS) / x86_64  OK    OK    OK  UNNEEDED, same version is already published
palomino7Windows Server 2022 Datacenter / x64  OK    OK    OK    OK  NO, package depends on 'DESeq2' which is only available as a source package that needs compilation
lconwaymacOS 12.7.1 Monterey / x86_64  OK    OK    OK    OK  NO, package depends on 'DESeq2' which is only available as a source package that needs compilation
kjohnson3macOS 13.7.1 Ventura / arm64  OK    OK    OK    OK  NO, package depends on 'DESeq2' which is only available as a source package that needs compilation
Package 74/140HostnameOS / ArchINSTALLBUILDCHECKBUILD BIN
IntEREst 1.31.0  (landing page)
Ali Oghabian
git_last_commit: 99f6377
git_last_commit_date: 2024-10-29 10:17:53 -0500
nebbiolo1Linux (Ubuntu 24.04.1 LTS) / x86_64  OK    OK    OK  NO, package depends on 'DEXSeq' which is not available
palomino7Windows Server 2022 Datacenter / x64  OK    OK    OK    OK  NO, package depends on 'DEXSeq' which is not available
lconwaymacOS 12.7.1 Monterey / x86_64  OK    OK    OK    OK  NO, package depends on 'DEXSeq' which is not available
kjohnson3macOS 13.7.1 Ventura / arm64  OK    OK    OK    OK  NO, package depends on 'DEXSeq' which is not available
Package 75/140HostnameOS / ArchINSTALLBUILDCHECKBUILD BIN
IVAS 2.27.0  (landing page)
Seonggyun Han
git_last_commit: 19b8da0
git_last_commit_date: 2024-10-29 09:58:10 -0500
nebbiolo1Linux (Ubuntu 24.04.1 LTS) / x86_64  OK    OK    WARNINGS  UNNEEDED, same version is already published
palomino7Windows Server 2022 Datacenter / x64  OK    OK    WARNINGS    OK  UNNEEDED, same version is already published
lconwaymacOS 12.7.1 Monterey / x86_64  OK    OK    WARNINGS    OK  UNNEEDED, same version is already published
kjohnson3macOS 13.7.1 Ventura / arm64  OK    OK    WARNINGS    OK  UNNEEDED, same version is already published
Package 76/140HostnameOS / ArchINSTALLBUILDCHECKBUILD BIN
karyoploteR 1.33.0  (landing page)
Bernat Gel
git_last_commit: 4e6d89c
git_last_commit_date: 2024-10-29 10:16:53 -0500
nebbiolo1Linux (Ubuntu 24.04.1 LTS) / x86_64  OK    ERROR  skipped
palomino7Windows Server 2022 Datacenter / x64  OK    ERROR  skippedskipped
lconwaymacOS 12.7.1 Monterey / x86_64  OK    ERROR  skippedskipped
kjohnson3macOS 13.7.1 Ventura / arm64  OK    ERROR  skippedskipped
Package 77/140HostnameOS / ArchINSTALLBUILDCHECKBUILD BIN
lumi 2.59.0  (landing page)
Lei Huang
git_last_commit: 130abf1
git_last_commit_date: 2024-10-29 09:27:14 -0500
nebbiolo1Linux (Ubuntu 24.04.1 LTS) / x86_64  OK    OK    WARNINGS  UNNEEDED, same version is already published
palomino7Windows Server 2022 Datacenter / x64  OK    OK    WARNINGS    OK  UNNEEDED, same version is already published
lconwaymacOS 12.7.1 Monterey / x86_64  OK    OK    WARNINGS    OK  UNNEEDED, same version is already published
kjohnson3macOS 13.7.1 Ventura / arm64  OK    OK    WARNINGS    OK  UNNEEDED, same version is already published
Package 78/140HostnameOS / ArchINSTALLBUILDCHECKBUILD BIN
magpie 1.7.0  (landing page)
Daoyu Duan
git_last_commit: c0a41dc
git_last_commit_date: 2024-10-29 11:18:50 -0500
nebbiolo1Linux (Ubuntu 24.04.1 LTS) / x86_64  OK    OK    WARNINGS  UNNEEDED, same version is already published
palomino7Windows Server 2022 Datacenter / x64  OK    OK    WARNINGS    OK  NO, package depends on 'DESeq2' which is only available as a source package that needs compilation
lconwaymacOS 12.7.1 Monterey / x86_64  OK    OK    WARNINGS    OK  NO, package depends on 'DESeq2' which is only available as a source package that needs compilation
kjohnson3macOS 13.7.1 Ventura / arm64  OK    OK    WARNINGS    OK  NO, package depends on 'DESeq2' which is only available as a source package that needs compilation
Package 79/140HostnameOS / ArchINSTALLBUILDCHECKBUILD BIN
mCSEA 1.27.2  (landing page)
Jordi Martorell-Marugán
git_last_commit: 641202d
git_last_commit_date: 2024-12-03 03:39:09 -0500
nebbiolo1Linux (Ubuntu 24.04.1 LTS) / x86_64  OK    OK    OK  UNNEEDED, same version is already published
palomino7Windows Server 2022 Datacenter / x64  OK    OK    OK    OK  UNNEEDED, same version is already published
lconwaymacOS 12.7.1 Monterey / x86_64  OK    OK    OK    OK  UNNEEDED, same version is already published
kjohnson3macOS 13.7.1 Ventura / arm64  OK    OK    OK    OK  UNNEEDED, same version is already published
Package 80/140HostnameOS / ArchINSTALLBUILDCHECKBUILD BIN
metaseqR2 1.19.0  (landing page)
Panagiotis Moulos
git_last_commit: 22e1b29
git_last_commit_date: 2024-10-29 10:46:48 -0500
nebbiolo1Linux (Ubuntu 24.04.1 LTS) / x86_64  OK    OK    OK  UNNEEDED, same version is already published
palomino7Windows Server 2022 Datacenter / x64  OK    OK    OK    OK  NO, package depends on 'DESeq2' which is only available as a source package that needs compilation
lconwaymacOS 12.7.1 Monterey / x86_64  OK    OK    OK    OK  NO, package depends on 'DESeq2' which is only available as a source package that needs compilation
kjohnson3macOS 13.7.1 Ventura / arm64  OK    OK    OK    OK  NO, package depends on 'DESeq2' which is only available as a source package that needs compilation
Package 81/140HostnameOS / ArchINSTALLBUILDCHECKBUILD BIN
methylumi 2.53.0  (landing page)
Sean Davis
git_last_commit: 491e60e
git_last_commit_date: 2024-10-29 09:31:31 -0500
nebbiolo1Linux (Ubuntu 24.04.1 LTS) / x86_64  OK    OK    OK  UNNEEDED, same version is already published
palomino7Windows Server 2022 Datacenter / x64  OK    OK    OK    OK  UNNEEDED, same version is already published
lconwaymacOS 12.7.1 Monterey / x86_64  OK    OK    OK    OK  UNNEEDED, same version is already published
kjohnson3macOS 13.7.1 Ventura / arm64  OK    OK    OK    OK  UNNEEDED, same version is already published
Package 82/140HostnameOS / ArchINSTALLBUILDCHECKBUILD BIN
msgbsR 1.31.0  (landing page)
Benjamin Mayne
git_last_commit: c7b70de
git_last_commit_date: 2024-10-29 10:19:35 -0500
nebbiolo1Linux (Ubuntu 24.04.1 LTS) / x86_64  OK    OK    OK  UNNEEDED, same version is already published
palomino7Windows Server 2022 Datacenter / x64  OK    OK    OK    OK  UNNEEDED, same version is already published
lconwaymacOS 12.7.1 Monterey / x86_64  OK    OK    OK    OK  UNNEEDED, same version is already published
kjohnson3macOS 13.7.1 Ventura / arm64  OK    OK    OK    OK  UNNEEDED, same version is already published
Package 83/140HostnameOS / ArchINSTALLBUILDCHECKBUILD BIN
multicrispr 1.17.1  (landing page)
Aditya Bhagwat
git_last_commit: 2519b98
git_last_commit_date: 2024-11-27 03:20:25 -0500
nebbiolo1Linux (Ubuntu 24.04.1 LTS) / x86_64  OK    OK    OK  UNNEEDED, same version is already published
palomino7Windows Server 2022 Datacenter / x64  OK    OK    OK    OK  UNNEEDED, same version is already published
lconwaymacOS 12.7.1 Monterey / x86_64  OK    OK    OK    OK  YES
kjohnson3macOS 13.7.1 Ventura / arm64  OK    OK    OK    OK  YES
Package 84/140HostnameOS / ArchINSTALLBUILDCHECKBUILD BIN
musicatk 2.1.0  (landing page)
Joshua D. Campbell
git_last_commit: 45539aa
git_last_commit_date: 2024-10-29 10:52:22 -0500
nebbiolo1Linux (Ubuntu 24.04.1 LTS) / x86_64  OK    OK    OK  UNNEEDED, same version is already published
palomino7Windows Server 2022 Datacenter / x64  OK    OK    OK    OK  UNNEEDED, same version is already published
lconwaymacOS 12.7.1 Monterey / x86_64  OK    OK    OK    OK  YES
kjohnson3macOS 13.7.1 Ventura / arm64  OK    OK    OK    OK  YES
Package 85/140HostnameOS / ArchINSTALLBUILDCHECKBUILD BIN
mygene 1.43.0  (landing page)
Adam Mark, Cyrus Afrasiabi, Chunlei Wu
git_last_commit: 66cce1e
git_last_commit_date: 2024-10-29 09:56:47 -0500
nebbiolo1Linux (Ubuntu 24.04.1 LTS) / x86_64  OK    OK    OK  UNNEEDED, same version is already published
palomino7Windows Server 2022 Datacenter / x64  OK    OK    OK    OK  UNNEEDED, same version is already published
lconwaymacOS 12.7.1 Monterey / x86_64  OK    OK    OK    OK  UNNEEDED, same version is already published
kjohnson3macOS 13.7.1 Ventura / arm64  OK    OK    OK    OK  UNNEEDED, same version is already published
Package 86/140HostnameOS / ArchINSTALLBUILDCHECKBUILD BIN
NoRCE 1.19.0  (landing page)
Gulden Olgun
git_last_commit: 18045b1
git_last_commit_date: 2024-10-29 10:44:27 -0500
nebbiolo1Linux (Ubuntu 24.04.1 LTS) / x86_64  OK    OK    OK  UNNEEDED, same version is already published
palomino7Windows Server 2022 Datacenter / x64  OK    OK    OK    OK  UNNEEDED, same version is already published
lconwaymacOS 12.7.1 Monterey / x86_64  OK    OK    OK    OK  YES
kjohnson3macOS 13.7.1 Ventura / arm64  OK    OK    OK    OK  YES
Package 87/140HostnameOS / ArchINSTALLBUILDCHECKBUILD BIN
ORFik 1.27.1  (landing page)
Haakon Tjeldnes
git_last_commit: 6b522df
git_last_commit_date: 2024-12-13 07:45:29 -0500
nebbiolo1Linux (Ubuntu 24.04.1 LTS) / x86_64  OK    OK    WARNINGS  UNNEEDED, same version is already published
palomino7Windows Server 2022 Datacenter / x64  OK    OK    WARNINGS    OK  NO, package depends on 'DESeq2' which is only available as a source package that needs compilation
lconwaymacOS 12.7.1 Monterey / x86_64  OK    OK    WARNINGS    OK  NO, package depends on 'DESeq2' which is only available as a source package that needs compilation
kjohnson3macOS 13.7.1 Ventura / arm64  OK    OK    WARNINGS    OK  NO, package depends on 'DESeq2' which is only available as a source package that needs compilation
Package 88/140HostnameOS / ArchINSTALLBUILDCHECKBUILD BIN
Organism.dplyr 1.35.0  (landing page)
Martin Morgan
git_last_commit: 0892992
git_last_commit_date: 2024-10-29 10:17:41 -0500
nebbiolo1Linux (Ubuntu 24.04.1 LTS) / x86_64  OK    OK    OK  UNNEEDED, same version is already published
palomino7Windows Server 2022 Datacenter / x64  OK    OK    OK    OK  UNNEEDED, same version is already published
lconwaymacOS 12.7.1 Monterey / x86_64  OK    OK    OK    OK  UNNEEDED, same version is already published
kjohnson3macOS 13.7.1 Ventura / arm64  OK    OK    OK    OK  UNNEEDED, same version is already published
Package 89/140HostnameOS / ArchINSTALLBUILDCHECKBUILD BIN
OrganismDbi 1.49.0  (landing page)
Bioconductor Package Maintainer
git_last_commit: 223f33d
git_last_commit_date: 2024-10-29 09:42:29 -0500
nebbiolo1Linux (Ubuntu 24.04.1 LTS) / x86_64  OK    OK    OK  UNNEEDED, same version is already published
palomino7Windows Server 2022 Datacenter / x64  OK    OK    OK    OK  UNNEEDED, same version is already published
lconwaymacOS 12.7.1 Monterey / x86_64  OK    OK    OK    OK  UNNEEDED, same version is already published
kjohnson3macOS 13.7.1 Ventura / arm64  OK    OK    OK    OK  UNNEEDED, same version is already published
Package 90/140HostnameOS / ArchINSTALLBUILDCHECKBUILD BIN
OUTRIDER 1.25.0  (landing page)
Christian Mertes
git_last_commit: e21b7d6
git_last_commit_date: 2024-10-29 10:29:54 -0500
nebbiolo1Linux (Ubuntu 24.04.1 LTS) / x86_64  OK    OK    OK  UNNEEDED, same version is already published
palomino7Windows Server 2022 Datacenter / x64  OK    OK    OK    OK  NO, package depends on 'DESeq2' which is only available as a source package that needs compilation
lconwaymacOS 12.7.1 Monterey / x86_64  OK    OK    OK    OK  NO, package depends on 'DESeq2' which is only available as a source package that needs compilation
kjohnson3macOS 13.7.1 Ventura / arm64  OK    OK    OK    OK  NO, package depends on 'DESeq2' which is only available as a source package that needs compilation
Package 91/140HostnameOS / ArchINSTALLBUILDCHECKBUILD BIN
OutSplice 1.7.1  (landing page)
Theresa Guo
git_last_commit: 683cfbe
git_last_commit_date: 2025-02-04 15:58:13 -0500
nebbiolo1Linux (Ubuntu 24.04.1 LTS) / x86_64  OK    OK    OK  YES
palomino7Windows Server 2022 Datacenter / x64  OK    OK    OK    OK  YES
lconwaymacOS 12.7.1 Monterey / x86_64  OK    OK    OK    OK  YES
kjohnson3macOS 13.7.1 Ventura / arm64  OK    OK    OK    OK  YES
Package 92/140HostnameOS / ArchINSTALLBUILDCHECKBUILD BIN
proActiv 1.17.0  (landing page)
Joseph Lee
git_last_commit: f0775da
git_last_commit_date: 2024-10-29 10:50:17 -0500
nebbiolo1Linux (Ubuntu 24.04.1 LTS) / x86_64  OK    OK    OK  UNNEEDED, same version is already published
palomino7Windows Server 2022 Datacenter / x64  OK    OK    OK    OK  NO, package depends on 'DESeq2' which is only available as a source package that needs compilation
lconwaymacOS 12.7.1 Monterey / x86_64  OK    OK    OK    OK  NO, package depends on 'DESeq2' which is only available as a source package that needs compilation
kjohnson3macOS 13.7.1 Ventura / arm64  OK    OK    OK    OK  NO, package depends on 'DESeq2' which is only available as a source package that needs compilation
Package 93/140HostnameOS / ArchINSTALLBUILDCHECKBUILD BIN
proBAMr 1.41.0  (landing page)
Xiaojing Wang
git_last_commit: 911ce04
git_last_commit_date: 2024-10-29 09:55:28 -0500
nebbiolo1Linux (Ubuntu 24.04.1 LTS) / x86_64  OK    OK    OK  UNNEEDED, same version is already published
palomino7Windows Server 2022 Datacenter / x64  OK    OK    OK    OK  UNNEEDED, same version is already published
lconwaymacOS 12.7.1 Monterey / x86_64  OK    OK    OK    OK  YES
kjohnson3macOS 13.7.1 Ventura / arm64  OK    OK    OK    OK  YES
Package 94/140HostnameOS / ArchINSTALLBUILDCHECKBUILD BIN
profileplyr 1.23.0  (landing page)
Tom Carroll , Doug Barrows
git_last_commit: 580fe41
git_last_commit_date: 2024-10-29 10:36:26 -0500
nebbiolo1Linux (Ubuntu 24.04.1 LTS) / x86_64  OK    OK    OK  UNNEEDED, same version is already published
palomino7Windows Server 2022 Datacenter / x64  OK    OK    OK    OK  UNNEEDED, same version is already published
lconwaymacOS 12.7.1 Monterey / x86_64  OK    OK    OK    OK  YES
kjohnson3macOS 13.7.1 Ventura / arm64  OK    OK    OK    OK  YES
Package 95/140HostnameOS / ArchINSTALLBUILDCHECKBUILD BIN
ProteoDisco 1.13.0  (landing page)
Job van Riet
git_last_commit: 896da28
git_last_commit_date: 2024-10-29 11:03:45 -0500
nebbiolo1Linux (Ubuntu 24.04.1 LTS) / x86_64  OK    OK    WARNINGS  UNNEEDED, same version is already published
palomino7Windows Server 2022 Datacenter / x64  OK    OK    WARNINGS    OK  UNNEEDED, same version is already published
lconwaymacOS 12.7.1 Monterey / x86_64  OK    OK    WARNINGS    OK  YES
kjohnson3macOS 13.7.1 Ventura / arm64  OK    OK    WARNINGS    OK  YES
Package 96/140HostnameOS / ArchINSTALLBUILDCHECKBUILD BIN
PureCN 2.13.1  (landing page)
Markus Riester
git_last_commit: 5082af0
git_last_commit_date: 2025-01-16 14:47:51 -0500
nebbiolo1Linux (Ubuntu 24.04.1 LTS) / x86_64  OK    OK    OK  UNNEEDED, same version is already published
palomino7Windows Server 2022 Datacenter / x64  OK    OK    OK    OK  UNNEEDED, same version is already published
lconwaymacOS 12.7.1 Monterey / x86_64  OK    OK    OK    OK  YES
kjohnson3macOS 13.7.1 Ventura / arm64  OK    OK    OK    OK  YES
Package 97/140HostnameOS / ArchINSTALLBUILDCHECKBUILD BIN
qpgraph 2.41.0  (landing page)
Robert Castelo
git_last_commit: 0c2005f
git_last_commit_date: 2025-02-01 03:50:08 -0500
nebbiolo1Linux (Ubuntu 24.04.1 LTS) / x86_64  OK    OK    OK  UNNEEDED, same version is already published
palomino7Windows Server 2022 Datacenter / x64  OK    OK    OK    OK  UNNEEDED, same version is already published
lconwaymacOS 12.7.1 Monterey / x86_64  OK    OK    OK    OK  UNNEEDED, same version is already published
kjohnson3macOS 13.7.1 Ventura / arm64  OK    OK    WARNINGS    OK  UNNEEDED, same version is already published
Package 98/140HostnameOS / ArchINSTALLBUILDCHECKBUILD BIN
QuasR 1.47.2  (landing page)
Michael Stadler
git_last_commit: 108b963
git_last_commit_date: 2025-01-06 07:03:40 -0500
nebbiolo1Linux (Ubuntu 24.04.1 LTS) / x86_64  OK    OK    WARNINGS  UNNEEDED, same version is already published
palomino7Windows Server 2022 Datacenter / x64  OK    OK    WARNINGS    OK  UNNEEDED, same version is already published
lconwaymacOS 12.7.1 Monterey / x86_64  OK    OK    WARNINGS    OK  YES
kjohnson3macOS 13.7.1 Ventura / arm64  OK    OK    WARNINGS    OK  YES
Package 99/140HostnameOS / ArchINSTALLBUILDCHECKBUILD BIN
raer 1.5.0  (landing page)
Kent Riemondy
git_last_commit: 438c245
git_last_commit_date: 2024-10-29 11:24:55 -0500
nebbiolo1Linux (Ubuntu 24.04.1 LTS) / x86_64  OK    OK    OK  UNNEEDED, same version is already published
palomino7Windows Server 2022 Datacenter / x64  OK    OK    OK    OK  UNNEEDED, same version is already published
lconwaymacOS 12.7.1 Monterey / x86_64  OK    OK    OK    OK  YES
kjohnson3macOS 13.7.1 Ventura / arm64  OK    OK    OK    OK  YES
Package 100/140HostnameOS / ArchINSTALLBUILDCHECKBUILD BIN
RareVariantVis 2.35.0  (landing page)
Tomasz Stokowy
git_last_commit: f38cd5b
git_last_commit_date: 2024-10-29 10:01:46 -0500
nebbiolo1Linux (Ubuntu 24.04.1 LTS) / x86_64  OK    OK    OK  UNNEEDED, same version is already published
palomino7Windows Server 2022 Datacenter / x64  OK    OK    OK    OK  UNNEEDED, same version is already published
lconwaymacOS 12.7.1 Monterey / x86_64  OK    OK    OK    OK  YES
kjohnson3macOS 13.7.1 Ventura / arm64  OK    OK    OK    OK  YES
Package 101/140HostnameOS / ArchINSTALLBUILDCHECKBUILD BIN
RCAS 1.33.0  (landing page)
Bora Uyar
git_last_commit: 44fd977
git_last_commit_date: 2024-10-29 10:12:38 -0500
nebbiolo1Linux (Ubuntu 24.04.1 LTS) / x86_64  OK    OK    OK  UNNEEDED, same version is already published
palomino7Windows Server 2022 Datacenter / x64  OK    OK    OK    OK  UNNEEDED, same version is already published
lconwaymacOS 12.7.1 Monterey / x86_64  OK    OK    OK    OK  YES
kjohnson3macOS 13.7.1 Ventura / arm64  OK    OK    OK    OK  YES
Package 102/140HostnameOS / ArchINSTALLBUILDCHECKBUILD BIN
rCGH 1.37.0  (landing page)
Frederic Commo
git_last_commit: f2bf7cc
git_last_commit_date: 2024-10-29 10:02:24 -0500
nebbiolo1Linux (Ubuntu 24.04.1 LTS) / x86_64  OK    OK    OK  UNNEEDED, same version is already published
palomino7Windows Server 2022 Datacenter / x64  OK    OK    OK    OK  UNNEEDED, same version is already published
lconwaymacOS 12.7.1 Monterey / x86_64  OK    OK    OK    OK  UNNEEDED, same version is already published
kjohnson3macOS 13.7.1 Ventura / arm64  OK    OK    OK    OK  UNNEEDED, same version is already published
Package 103/140HostnameOS / ArchINSTALLBUILDCHECKBUILD BIN
recoup 1.35.0  (landing page)
Panagiotis Moulos
git_last_commit: 8112b7e
git_last_commit_date: 2024-10-29 10:08:59 -0500
nebbiolo1Linux (Ubuntu 24.04.1 LTS) / x86_64  OK    OK    OK  UNNEEDED, same version is already published
palomino7Windows Server 2022 Datacenter / x64  OK    OK    OK    OK  UNNEEDED, same version is already published
lconwaymacOS 12.7.1 Monterey / x86_64  OK    OK    OK    OK  YES
kjohnson3macOS 13.7.1 Ventura / arm64  OK    OK    OK    OK  YES
Package 104/140HostnameOS / ArchINSTALLBUILDCHECKBUILD BIN
RgnTX 1.9.0  (landing page)
Yue Wang
git_last_commit: c0f1208
git_last_commit_date: 2024-10-29 11:12:11 -0500
nebbiolo1Linux (Ubuntu 24.04.1 LTS) / x86_64  OK    OK    OK  UNNEEDED, same version is already published
palomino7Windows Server 2022 Datacenter / x64  OK    OK    OK    OK  UNNEEDED, same version is already published
lconwaymacOS 12.7.1 Monterey / x86_64  OK    OK    OK    OK  UNNEEDED, same version is already published
kjohnson3macOS 13.7.1 Ventura / arm64  OK    OK    OK    OK  UNNEEDED, same version is already published
Package 105/140HostnameOS / ArchINSTALLBUILDCHECKBUILD BIN
rGREAT 2.9.0  (landing page)
Zuguang Gu
git_last_commit: a2abe62
git_last_commit_date: 2024-10-29 09:58:27 -0500
nebbiolo1Linux (Ubuntu 24.04.1 LTS) / x86_64  OK    OK    OK  UNNEEDED, same version is already published
palomino7Windows Server 2022 Datacenter / x64  OK    OK    OK    OK  UNNEEDED, same version is already published
lconwaymacOS 12.7.1 Monterey / x86_64  OK    OK    OK    OK  UNNEEDED, same version is already published
kjohnson3macOS 13.7.1 Ventura / arm64  OK    OK    OK    OK  UNNEEDED, same version is already published
Package 106/140HostnameOS / ArchINSTALLBUILDCHECKBUILD BIN
RiboCrypt 1.13.0  (landing page)
Michal Swirski
git_last_commit: 148e091
git_last_commit_date: 2024-10-29 11:06:27 -0500
nebbiolo1Linux (Ubuntu 24.04.1 LTS) / x86_64  OK    OK    OK  UNNEEDED, same version is already published
palomino7Windows Server 2022 Datacenter / x64  OK    OK    OK    OK  NO, package depends on 'ORFik' which is only available as a source package that needs compilation
lconwaymacOS 12.7.1 Monterey / x86_64  OK    OK    OK    OK  NO, package depends on 'ORFik' which is only available as a source package that needs compilation
kjohnson3macOS 13.7.1 Ventura / arm64  OK    OK    OK    OK  NO, package depends on 'ORFik' which is only available as a source package that needs compilation
Package 107/140HostnameOS / ArchINSTALLBUILDCHECKBUILD BIN
RiboDiPA 1.15.1  (landing page)
Ji-Ping Wang
git_last_commit: 921e372
git_last_commit_date: 2024-12-05 12:12:05 -0500
nebbiolo1Linux (Ubuntu 24.04.1 LTS) / x86_64  OK    OK    OK  UNNEEDED, same version is already published
palomino7Windows Server 2022 Datacenter / x64  OK    OK    OK    OK  NO, package depends on 'DESeq2' which is only available as a source package that needs compilation
lconwaymacOS 12.7.1 Monterey / x86_64  OK    OK    OK    OK  NO, package depends on 'DESeq2' which is only available as a source package that needs compilation
kjohnson3macOS 13.7.1 Ventura / arm64  OK    OK    OK    OK  NO, package depends on 'DESeq2' which is only available as a source package that needs compilation
Package 108/140HostnameOS / ArchINSTALLBUILDCHECKBUILD BIN
RiboProfiling 1.37.0  (landing page)
A. Popa
git_last_commit: c7c7bd6
git_last_commit_date: 2024-10-29 10:04:38 -0500
nebbiolo1Linux (Ubuntu 24.04.1 LTS) / x86_64  OK    OK    WARNINGS  UNNEEDED, same version is already published
palomino7Windows Server 2022 Datacenter / x64  OK    OK    WARNINGS    OK  UNNEEDED, same version is already published
lconwaymacOS 12.7.1 Monterey / x86_64  OK    OK    WARNINGS    OK  YES
kjohnson3macOS 13.7.1 Ventura / arm64  OK    OK    WARNINGS    OK  YES
Package 109/140HostnameOS / ArchINSTALLBUILDCHECKBUILD BIN
ribosomeProfilingQC 1.19.1  (landing page)
Jianhong Ou
git_last_commit: 8e8b52c
git_last_commit_date: 2025-01-03 09:44:27 -0500
nebbiolo1Linux (Ubuntu 24.04.1 LTS) / x86_64  OK    OK    OK  UNNEEDED, same version is already published
palomino7Windows Server 2022 Datacenter / x64  OK    OK    OK    OK  UNNEEDED, same version is already published
lconwaymacOS 12.7.1 Monterey / x86_64  OK    OK    OK    OK  YES
kjohnson3macOS 13.7.1 Ventura / arm64  OK    OK    OK    OK  YES
Package 110/140HostnameOS / ArchINSTALLBUILDCHECKBUILD BIN
RITAN 1.31.0  (landing page)
Michael Zimmermann
git_last_commit: e6e8dc4
git_last_commit_date: 2024-10-29 10:19:32 -0500
nebbiolo1Linux (Ubuntu 24.04.1 LTS) / x86_64  OK    OK    WARNINGS  UNNEEDED, same version is already published
palomino7Windows Server 2022 Datacenter / x64  OK    OK    WARNINGS    OK  UNNEEDED, same version is already published
lconwaymacOS 12.7.1 Monterey / x86_64  OK    OK    WARNINGS    OK  UNNEEDED, same version is already published
kjohnson3macOS 13.7.1 Ventura / arm64  OK    OK    WARNINGS    OK  UNNEEDED, same version is already published
Package 111/140HostnameOS / ArchINSTALLBUILDCHECKBUILD BIN
RNAmodR 1.21.0  (landing page)
Felix G.M. Ernst
git_last_commit: 83a9c61
git_last_commit_date: 2024-10-29 10:37:59 -0500
nebbiolo1Linux (Ubuntu 24.04.1 LTS) / x86_64  OK    OK    OK  UNNEEDED, same version is already published
palomino7Windows Server 2022 Datacenter / x64  OK    OK    OK    OK  UNNEEDED, same version is already published
lconwaymacOS 12.7.1 Monterey / x86_64  OK    OK    OK    OK  YES
kjohnson3macOS 13.7.1 Ventura / arm64  OK    OK    OK    OK  YES
Package 112/140HostnameOS / ArchINSTALLBUILDCHECKBUILD BIN
SARC 1.5.0  (landing page)
Krutik Patel
git_last_commit: 4be56bd
git_last_commit_date: 2024-10-29 11:22:36 -0500
nebbiolo1Linux (Ubuntu 24.04.1 LTS) / x86_64  OK    OK    OK  UNNEEDED, same version is already published
palomino7Windows Server 2022 Datacenter / x64  OK    OK    OK    OK  UNNEEDED, same version is already published
lconwaymacOS 12.7.1 Monterey / x86_64  OK    OK    OK    OK  UNNEEDED, same version is already published
kjohnson3macOS 13.7.1 Ventura / arm64  OK    OK    OK    OK  UNNEEDED, same version is already published
Package 113/140HostnameOS / ArchINSTALLBUILDCHECKBUILD BIN
saseR 1.3.0  (landing page)
Alexandre Segers
git_last_commit: f1d9b6b
git_last_commit_date: 2024-10-29 11:26:33 -0500
nebbiolo1Linux (Ubuntu 24.04.1 LTS) / x86_64  OK    OK    WARNINGS  NO, package depends on 'DEXSeq' which is not available
palomino7Windows Server 2022 Datacenter / x64  OK    OK    WARNINGS    OK  NO, package depends on 'DESeq2' which is only available as a source package that needs compilation
lconwaymacOS 12.7.1 Monterey / x86_64  OK    OK    WARNINGS    OK  NO, package depends on 'DESeq2' which is only available as a source package that needs compilation
kjohnson3macOS 13.7.1 Ventura / arm64  OK    OK    WARNINGS    OK  NO, package depends on 'DESeq2' which is only available as a source package that needs compilation
Package 114/140HostnameOS / ArchINSTALLBUILDCHECKBUILD BIN
scanMiRApp 1.13.0  (landing page)
Pierre-Luc Germain
git_last_commit: 09a6f91
git_last_commit_date: 2024-10-29 11:02:47 -0500
nebbiolo1Linux (Ubuntu 24.04.1 LTS) / x86_64  OK    OK    OK  UNNEEDED, same version is already published
palomino7Windows Server 2022 Datacenter / x64  OK    OK    OK    OK  UNNEEDED, same version is already published
lconwaymacOS 12.7.1 Monterey / x86_64  OK    OK    OK    OK  YES
kjohnson3macOS 13.7.1 Ventura / arm64  OK    OK    OK    OK  YES
Package 115/140HostnameOS / ArchINSTALLBUILDCHECKBUILD BIN
scruff 1.25.0  (landing page)
Zhe Wang
git_last_commit: 21462a6
git_last_commit_date: 2024-10-29 10:30:01 -0500
nebbiolo1Linux (Ubuntu 24.04.1 LTS) / x86_64  OK    OK    OK  UNNEEDED, same version is already published
palomino7Windows Server 2022 Datacenter / x64  OK    OK    OK    OK  UNNEEDED, same version is already published
lconwaymacOS 12.7.1 Monterey / x86_64  OK    OK    OK    OK  YES
kjohnson3macOS 13.7.1 Ventura / arm64  OK    OK    OK    OK  YES
Package 116/140HostnameOS / ArchINSTALLBUILDCHECKBUILD BIN
SGSeq 1.41.0  (landing page)
Leonard Goldstein
git_last_commit: 193e8a3
git_last_commit_date: 2024-10-29 09:56:07 -0500
nebbiolo1Linux (Ubuntu 24.04.1 LTS) / x86_64  OK    OK    OK  UNNEEDED, same version is already published
palomino7Windows Server 2022 Datacenter / x64  OK    OK    OK    OK  UNNEEDED, same version is already published
lconwaymacOS 12.7.1 Monterey / x86_64  OK    OK    OK    OK  YES
kjohnson3macOS 13.7.1 Ventura / arm64  OK    OK    OK    OK  YES
Package 117/140HostnameOS / ArchINSTALLBUILDCHECKBUILD BIN
sitadela 1.15.0  (landing page)
Panagiotis Moulos
git_last_commit: 76eef2f
git_last_commit_date: 2024-10-29 10:56:54 -0500
nebbiolo1Linux (Ubuntu 24.04.1 LTS) / x86_64  OK    OK    OK  UNNEEDED, same version is already published
palomino7Windows Server 2022 Datacenter / x64  OK    OK    OK    OK  UNNEEDED, same version is already published
lconwaymacOS 12.7.1 Monterey / x86_64  OK    OK    OK    OK  YES
kjohnson3macOS 13.7.1 Ventura / arm64  OK    OK    OK    OK  YES
Package 118/140HostnameOS / ArchINSTALLBUILDCHECKBUILD BIN
spatzie 1.13.0  (landing page)
Jennifer Hammelman
git_last_commit: c97feec
git_last_commit_date: 2024-10-29 11:02:43 -0500
nebbiolo1Linux (Ubuntu 24.04.1 LTS) / x86_64  OK    OK    OK  UNNEEDED, same version is already published
palomino7Windows Server 2022 Datacenter / x64  OK    OK    OK    OK  UNNEEDED, same version is already published
lconwaymacOS 12.7.1 Monterey / x86_64  OK    OK    OK    OK  YES
kjohnson3macOS 13.7.1 Ventura / arm64  OK    OK    OK    OK  NO, package depends on 'motifmatchr' which is only available as a source package that needs compilation
Package 119/140HostnameOS / ArchINSTALLBUILDCHECKBUILD BIN
SplicingGraphs 1.47.0  (landing page)
H. Pagès
git_last_commit: 2e358aa
git_last_commit_date: 2024-10-29 09:45:56 -0500
nebbiolo1Linux (Ubuntu 24.04.1 LTS) / x86_64  OK    OK    WARNINGS  UNNEEDED, same version is already published
palomino7Windows Server 2022 Datacenter / x64  OK    OK    WARNINGS    OK  UNNEEDED, same version is already published
lconwaymacOS 12.7.1 Monterey / x86_64  OK    OK    WARNINGS    OK  UNNEEDED, same version is already published
kjohnson3macOS 13.7.1 Ventura / arm64  OK    OK    WARNINGS    OK  UNNEEDED, same version is already published
Package 120/140HostnameOS / ArchINSTALLBUILDCHECKBUILD BIN
SPLINTER 1.33.0  (landing page)
Diana Low
git_last_commit: 15c4210
git_last_commit_date: 2024-10-29 10:14:24 -0500
nebbiolo1Linux (Ubuntu 24.04.1 LTS) / x86_64  OK    OK    OK  UNNEEDED, same version is already published
palomino7Windows Server 2022 Datacenter / x64  OK    OK    WARNINGS    OK  UNNEEDED, same version is already published
lconwaymacOS 12.7.1 Monterey / x86_64  OK    OK    OK    OK  UNNEEDED, same version is already published
kjohnson3macOS 13.7.1 Ventura / arm64  OK    ERROR  skippedskipped
Package 121/140HostnameOS / ArchINSTALLBUILDCHECKBUILD BIN
srnadiff 1.27.3  (landing page)
Zytnicki Matthias
git_last_commit: 54a2b0c
git_last_commit_date: 2025-01-10 07:55:30 -0500
nebbiolo1Linux (Ubuntu 24.04.1 LTS) / x86_64  OK    OK    WARNINGS  UNNEEDED, same version is already published
palomino7Windows Server 2022 Datacenter / x64  OK    OK    WARNINGS    OK  NO, package depends on 'DESeq2' which is only available as a source package that needs compilation
lconwaymacOS 12.7.1 Monterey / x86_64  OK    OK    WARNINGS    OK  NO, package depends on 'DESeq2' which is only available as a source package that needs compilation
kjohnson3macOS 13.7.1 Ventura / arm64  OK    OK    WARNINGS    OK  NO, package depends on 'DESeq2' which is only available as a source package that needs compilation
Package 122/140HostnameOS / ArchINSTALLBUILDCHECKBUILD BIN
StructuralVariantAnnotation 1.23.0  (landing page)
Daniel Cameron
git_last_commit: 0faca97
git_last_commit_date: 2024-10-29 10:37:43 -0500
nebbiolo1Linux (Ubuntu 24.04.1 LTS) / x86_64  OK    OK    OK  UNNEEDED, same version is already published
palomino7Windows Server 2022 Datacenter / x64  OK    OK    OK    OK  UNNEEDED, same version is already published
lconwaymacOS 12.7.1 Monterey / x86_64  OK    OK    OK    OK  YES
kjohnson3macOS 13.7.1 Ventura / arm64  OK    OK    OK    OK  YES
Package 123/140HostnameOS / ArchINSTALLBUILDCHECKBUILD BIN
svaNUMT 1.13.0  (landing page)
Ruining Dong
git_last_commit: 1a144f0
git_last_commit_date: 2024-10-29 11:01:52 -0500
nebbiolo1Linux (Ubuntu 24.04.1 LTS) / x86_64  OK    OK    OK  UNNEEDED, same version is already published
palomino7Windows Server 2022 Datacenter / x64  OK    OK    OK    OK  UNNEEDED, same version is already published
lconwaymacOS 12.7.1 Monterey / x86_64  OK    OK    OK    OK  YES
kjohnson3macOS 13.7.1 Ventura / arm64  OK    OK    OK    OK  YES
Package 124/140HostnameOS / ArchINSTALLBUILDCHECKBUILD BIN
svaRetro 1.13.0  (landing page)
Ruining Dong
git_last_commit: 4aeb18c
git_last_commit_date: 2024-10-29 11:03:36 -0500
nebbiolo1Linux (Ubuntu 24.04.1 LTS) / x86_64  OK    OK    OK  UNNEEDED, same version is already published
palomino7Windows Server 2022 Datacenter / x64  OK    OK    OK    OK  UNNEEDED, same version is already published
lconwaymacOS 12.7.1 Monterey / x86_64  OK    OK    OK    OK  YES
kjohnson3macOS 13.7.1 Ventura / arm64  OK    OK    OK    OK  YES
Package 125/140HostnameOS / ArchINSTALLBUILDCHECKBUILD BIN
TAPseq 1.19.0  (landing page)
Andreas R. Gschwind
git_last_commit: e6e4d9c
git_last_commit_date: 2024-10-29 10:44:05 -0500
nebbiolo1Linux (Ubuntu 24.04.1 LTS) / x86_64  OK    OK    WARNINGS  UNNEEDED, same version is already published
palomino7Windows Server 2022 Datacenter / x64  OK    OK    WARNINGS    OK  UNNEEDED, same version is already published
lconwaymacOS 12.7.1 Monterey / x86_64  OK    OK    WARNINGS    OK  UNNEEDED, same version is already published
kjohnson3macOS 13.7.1 Ventura / arm64  OK    OK    WARNINGS    OK  UNNEEDED, same version is already published
Package 126/140HostnameOS / ArchINSTALLBUILDCHECKBUILD BIN
TCGAutils 1.27.6  (landing page)
Marcel Ramos
git_last_commit: 8e4301d
git_last_commit_date: 2024-12-16 18:28:38 -0500
nebbiolo1Linux (Ubuntu 24.04.1 LTS) / x86_64  OK    OK    OK  UNNEEDED, same version is already published
palomino7Windows Server 2022 Datacenter / x64  OK    OK    OK    OK  UNNEEDED, same version is already published
lconwaymacOS 12.7.1 Monterey / x86_64  OK    OK    OK    OK  UNNEEDED, same version is already published
kjohnson3macOS 13.7.1 Ventura / arm64  OK    OK    OK    OK  UNNEEDED, same version is already published
Package 127/140HostnameOS / ArchINSTALLBUILDCHECKBUILD BIN
TFEA.ChIP 1.27.0  (landing page)
Laura Puente Santamaría
git_last_commit: 34b5d7e
git_last_commit_date: 2024-10-29 10:24:34 -0500
nebbiolo1Linux (Ubuntu 24.04.1 LTS) / x86_64  OK    OK    OK  UNNEEDED, same version is already published
palomino7Windows Server 2022 Datacenter / x64  OK    OK    OK    OK  UNNEEDED, same version is already published
lconwaymacOS 12.7.1 Monterey / x86_64  OK    OK    OK    OK  UNNEEDED, same version is already published
kjohnson3macOS 13.7.1 Ventura / arm64  OK    OK    OK    OK  UNNEEDED, same version is already published
Package 128/140HostnameOS / ArchINSTALLBUILDCHECKBUILD BIN
trackViewer 1.43.6  (landing page)
Jianhong Ou
git_last_commit: 9f61bb6
git_last_commit_date: 2025-01-03 09:25:19 -0500
nebbiolo1Linux (Ubuntu 24.04.1 LTS) / x86_64  OK    OK    OK  UNNEEDED, same version is already published
palomino7Windows Server 2022 Datacenter / x64  OK    OK    OK    OK  UNNEEDED, same version is already published
lconwaymacOS 12.7.1 Monterey / x86_64  OK    OK    OK    OK  YES
kjohnson3macOS 13.7.1 Ventura / arm64  OK    OK    OK    OK  YES
Package 129/140HostnameOS / ArchINSTALLBUILDCHECKBUILD BIN
transcriptR 1.35.0  (landing page)
Armen R. Karapetyan
git_last_commit: bd28191
git_last_commit_date: 2024-10-29 10:05:55 -0500
nebbiolo1Linux (Ubuntu 24.04.1 LTS) / x86_64  OK    OK    OK  UNNEEDED, same version is already published
palomino7Windows Server 2022 Datacenter / x64  OK    OK    OK    OK  UNNEEDED, same version is already published
lconwaymacOS 12.7.1 Monterey / x86_64  OK    OK    OK    OK  YES
kjohnson3macOS 13.7.1 Ventura / arm64  OK    OK    OK    OK  YES
Package 130/140HostnameOS / ArchINSTALLBUILDCHECKBUILD BIN
transmogR 1.3.0  (landing page)
Stevie Pederson
git_last_commit: 9369e9f
git_last_commit_date: 2024-10-29 11:27:32 -0500
nebbiolo1Linux (Ubuntu 24.04.1 LTS) / x86_64  OK    OK    OK  UNNEEDED, same version is already published
palomino7Windows Server 2022 Datacenter / x64  OK    OK    OK    OK  UNNEEDED, same version is already published
lconwaymacOS 12.7.1 Monterey / x86_64  OK    OK    OK    OK  YES
kjohnson3macOS 13.7.1 Ventura / arm64  OK    OK    OK    OK  YES
Package 131/140HostnameOS / ArchINSTALLBUILDCHECKBUILD BIN
TRESS 1.13.0  (landing page)
Zhenxing Guo
git_last_commit: a40c256
git_last_commit_date: 2024-10-29 11:05:14 -0500
nebbiolo1Linux (Ubuntu 24.04.1 LTS) / x86_64  OK    OK    OK  UNNEEDED, same version is already published
palomino7Windows Server 2022 Datacenter / x64  OK    OK    OK    OK  UNNEEDED, same version is already published
lconwaymacOS 12.7.1 Monterey / x86_64  OK    OK    OK    OK  YES
kjohnson3macOS 13.7.1 Ventura / arm64  OK    OK    OK    OK  YES
Package 132/140HostnameOS / ArchINSTALLBUILDCHECKBUILD BIN
txcutr 1.13.0  (landing page)
Mervin Fansler
git_last_commit: 68a3c9e
git_last_commit_date: 2024-10-29 11:06:24 -0500
nebbiolo1Linux (Ubuntu 24.04.1 LTS) / x86_64  OK    OK    OK  UNNEEDED, same version is already published
palomino7Windows Server 2022 Datacenter / x64  OK    OK    OK    OK  UNNEEDED, same version is already published
lconwaymacOS 12.7.1 Monterey / x86_64  OK    OK    OK    OK  YES
kjohnson3macOS 13.7.1 Ventura / arm64  OK    OK    OK    OK  YES
Package 133/140HostnameOS / ArchINSTALLBUILDCHECKBUILD BIN
txdbmaker 1.3.1  (landing page)
H. Pagès
git_last_commit: 05d278f
git_last_commit_date: 2024-11-21 15:03:27 -0500
nebbiolo1Linux (Ubuntu 24.04.1 LTS) / x86_64  OK    OK    OK  UNNEEDED, same version is already published
palomino7Windows Server 2022 Datacenter / x64  OK    OK    OK    OK  UNNEEDED, same version is already published
lconwaymacOS 12.7.1 Monterey / x86_64  OK    OK    OK    OK  YES
kjohnson3macOS 13.7.1 Ventura / arm64  OK    OK    OK    OK  YES
Package 134/140HostnameOS / ArchINSTALLBUILDCHECKBUILD BIN
tximeta 1.25.2  (landing page)
Michael Love
git_last_commit: 774b1cf
git_last_commit_date: 2025-01-30 12:33:21 -0500
nebbiolo1Linux (Ubuntu 24.04.1 LTS) / x86_64  OK    OK    OK  UNNEEDED, same version is already published
palomino7Windows Server 2022 Datacenter / x64  OK    OK    OK    OK  UNNEEDED, same version is already published
lconwaymacOS 12.7.1 Monterey / x86_64  OK    OK    OK    OK  UNNEEDED, same version is already published
kjohnson3macOS 13.7.1 Ventura / arm64  OK    OK    OK    OK  UNNEEDED, same version is already published
Package 135/140HostnameOS / ArchINSTALLBUILDCHECKBUILD BIN
Ularcirc 1.25.0  (landing page)
David Humphreys
git_last_commit: a6da876
git_last_commit_date: 2024-10-29 10:29:11 -0500
nebbiolo1Linux (Ubuntu 24.04.1 LTS) / x86_64  OK    OK    WARNINGS  UNNEEDED, same version is already published
palomino7Windows Server 2022 Datacenter / x64  OK    OK    WARNINGS    OK  NO, package depends on 'plotgardener' which is only available as a source package that needs compilation
lconwaymacOS 12.7.1 Monterey / x86_64  OK    OK    WARNINGS    OK  UNNEEDED, same version is already published
kjohnson3macOS 13.7.1 Ventura / arm64  OK    OK    WARNINGS    OK  UNNEEDED, same version is already published
Package 136/140HostnameOS / ArchINSTALLBUILDCHECKBUILD BIN
UMI4Cats 1.17.0  (landing page)
Mireia Ramos-Rodriguez
git_last_commit: 7016307
git_last_commit_date: 2024-10-29 10:49:18 -0500
nebbiolo1Linux (Ubuntu 24.04.1 LTS) / x86_64  OK    OK    OK  UNNEEDED, same version is already published
palomino7Windows Server 2022 Datacenter / x64  OK    ERROR  skippedskipped
lconwaymacOS 12.7.1 Monterey / x86_64  OK    OK    OK    OK  NO, package depends on 'DESeq2' which is only available as a source package that needs compilation
kjohnson3macOS 13.7.1 Ventura / arm64  OK    OK    OK    OK  NO, package depends on 'DESeq2' which is only available as a source package that needs compilation
Package 137/140HostnameOS / ArchINSTALLBUILDCHECKBUILD BIN
VariantAnnotation 1.53.1  (landing page)
Bioconductor Package Maintainer
git_last_commit: 6f599d0
git_last_commit_date: 2025-01-07 13:26:04 -0500
nebbiolo1Linux (Ubuntu 24.04.1 LTS) / x86_64  OK    OK    WARNINGS  UNNEEDED, same version is already published
palomino7Windows Server 2022 Datacenter / x64  OK    OK    WARNINGS    OK  UNNEEDED, same version is already published
lconwaymacOS 12.7.1 Monterey / x86_64  OK    OK    WARNINGS    OK  YES
kjohnson3macOS 13.7.1 Ventura / arm64  OK    OK    WARNINGS    OK  YES
Package 138/140HostnameOS / ArchINSTALLBUILDCHECKBUILD BIN
VariantFiltering 1.43.0  (landing page)
Robert Castelo
git_last_commit: d3bd159
git_last_commit_date: 2025-02-01 04:33:16 -0500
nebbiolo1Linux (Ubuntu 24.04.1 LTS) / x86_64  OK    OK    OK  UNNEEDED, same version is already published
palomino7Windows Server 2022 Datacenter / x64  OK    OK    OK    OK  UNNEEDED, same version is already published
lconwaymacOS 12.7.1 Monterey / x86_64  OK    OK    OK    OK  YES
kjohnson3macOS 13.7.1 Ventura / arm64  OK    OK    OK    OK  YES
Package 139/140HostnameOS / ArchINSTALLBUILDCHECKBUILD BIN
VariantTools 1.49.0  (landing page)
Michael Lawrence
git_last_commit: e6dbe11
git_last_commit_date: 2024-10-29 09:43:17 -0500
nebbiolo1Linux (Ubuntu 24.04.1 LTS) / x86_64  OK    OK    WARNINGS  UNNEEDED, same version is already published
palomino7Windows Server 2022 Datacenter / x64  OK    OK    WARNINGS    OK  UNNEEDED, same version is already published
lconwaymacOS 12.7.1 Monterey / x86_64  OK    OK    WARNINGS    OK  YES
kjohnson3macOS 13.7.1 Ventura / arm64  OK    OK    WARNINGS    OK  YES
Package 140/140HostnameOS / ArchINSTALLBUILDCHECKBUILD BIN
wavClusteR 2.41.0  (landing page)
Federico Comoglio
git_last_commit: bd37a40
git_last_commit_date: 2024-10-29 09:52:36 -0500
nebbiolo1Linux (Ubuntu 24.04.1 LTS) / x86_64  OK    OK    OK  UNNEEDED, same version is already published
palomino7Windows Server 2022 Datacenter / x64  OK    OK    OK    OK  UNNEEDED, same version is already published
lconwaymacOS 12.7.1 Monterey / x86_64  OK    OK    OK    OK  YES
kjohnson3macOS 13.7.1 Ventura / arm64  OK    OK    OK    OK  YES